BEGIN:VCALENDAR
VERSION:2.0
PRODID:-//ARESDEC - ECPv6.15.20//NONSGML v1.0//EN
CALSCALE:GREGORIAN
METHOD:PUBLISH
X-ORIGINAL-URL:https://aresdec.org
X-WR-CALDESC:Events for ARESDEC
REFRESH-INTERVAL;VALUE=DURATION:PT1H
X-Robots-Tag:noindex
X-PUBLISHED-TTL:PT1H
BEGIN:VTIMEZONE
TZID:America/Denver
BEGIN:DAYLIGHT
TZOFFSETFROM:-0700
TZOFFSETTO:-0600
TZNAME:MDT
DTSTART:20250309T090000
END:DAYLIGHT
BEGIN:STANDARD
TZOFFSETFROM:-0600
TZOFFSETTO:-0700
TZNAME:MST
DTSTART:20251102T080000
END:STANDARD
BEGIN:DAYLIGHT
TZOFFSETFROM:-0700
TZOFFSETTO:-0600
TZNAME:MDT
DTSTART:20260308T090000
END:DAYLIGHT
BEGIN:STANDARD
TZOFFSETFROM:-0600
TZOFFSETTO:-0700
TZNAME:MST
DTSTART:20261101T080000
END:STANDARD
BEGIN:DAYLIGHT
TZOFFSETFROM:-0700
TZOFFSETTO:-0600
TZNAME:MDT
DTSTART:20270314T090000
END:DAYLIGHT
BEGIN:STANDARD
TZOFFSETFROM:-0600
TZOFFSETTO:-0700
TZNAME:MST
DTSTART:20271107T080000
END:STANDARD
BEGIN:DAYLIGHT
TZOFFSETFROM:-0700
TZOFFSETTO:-0600
TZNAME:MDT
DTSTART:20280312T090000
END:DAYLIGHT
BEGIN:STANDARD
TZOFFSETFROM:-0600
TZOFFSETTO:-0700
TZNAME:MST
DTSTART:20281105T080000
END:STANDARD
BEGIN:DAYLIGHT
TZOFFSETFROM:-0700
TZOFFSETTO:-0600
TZNAME:MDT
DTSTART:20290311T090000
END:DAYLIGHT
BEGIN:STANDARD
TZOFFSETFROM:-0600
TZOFFSETTO:-0700
TZNAME:MST
DTSTART:20291104T080000
END:STANDARD
BEGIN:DAYLIGHT
TZOFFSETFROM:-0700
TZOFFSETTO:-0600
TZNAME:MDT
DTSTART:20300310T090000
END:DAYLIGHT
BEGIN:STANDARD
TZOFFSETFROM:-0600
TZOFFSETTO:-0700
TZNAME:MST
DTSTART:20301103T080000
END:STANDARD
BEGIN:DAYLIGHT
TZOFFSETFROM:-0700
TZOFFSETTO:-0600
TZNAME:MDT
DTSTART:20310309T090000
END:DAYLIGHT
BEGIN:STANDARD
TZOFFSETFROM:-0600
TZOFFSETTO:-0700
TZNAME:MST
DTSTART:20311102T080000
END:STANDARD
END:VTIMEZONE
BEGIN:VEVENT
DTSTART;TZID=America/Denver:20260621T070000
DTEND;TZID=America/Denver:20260621T170000
DTSTAMP:20260423T034915
CREATED:20251211T190538Z
LAST-MODIFIED:20260117T180125Z
UID:10005171-1782025200-1782061200@aresdec.org
SUMMARY:Spring Poker Run
DESCRIPTION:Twice a year\, the Rampart Range Motorcycle Management Committee sponsors a non-competitive Poker Run for off-road motorcycles (no ATV’s) and riders of all ages. There is a short course (approximately 15-25 miles) and a long course (approximately 50-55 miles). Riders of all abilities are welcome. Prizes are awarded on the basis of the poker hand you draw at the final check point.  The Spring Poker Run is not a race\, it is an EVENT!   \nThis is a non-competitive event and the 5 prizes awarded for each course are based on the rider’s luck in drawing one of the five highest winning poker hands consisting of five (short course) or seven (long course) total cards at the final checkpoint.  It’s truly a wonderful experience. \nARESDEC will provide tactical communications & situational awareness for Poker Run event staff. ARESDEC members should expect to provide APRS/LoRa tracking\, checkpoint communications\, Forward Observer (FOB)\, observe Poker Run operations and monitor the Net\, report any emergencies\, medical issues\, and/or disabled bikes\, and report rider activity like first rider through\, sweeps passing through the checkpoints\, and event staff arriving and departing.  We coordinate with Douglas County Search & Rescue (DCSAR) for their services if needed on the course. \nBackground:  The Rampart Range Spring Poker Run is planned and run by the RRMMC (Rampart Range Motorcycle Management Committee). RRMMC is an all-volunteer\, nonprofit corporation founded in 1972 to work with the Forest Service to promote and preserve dirt bike trail riding opportunities in the Rampart Range area of Pike National Forest near Sedalia\, Colorado. \nEvent Website: http://rampartrange.org/poker-run/ \n \n\n\n	Related
URL:https://aresdec.org/event/spring-poker-run-3-2/2026-06-21/
LOCATION:Rampart Range\, CO\, United States
CATEGORIES:Event
GEO:39.32777;-105.09408
END:VEVENT
BEGIN:VEVENT
DTSTART;TZID=America/Denver:20260913T070000
DTEND;TZID=America/Denver:20260913T170000
DTSTAMP:20260423T034915
CREATED:20251211T191043Z
LAST-MODIFIED:20251211T191241Z
UID:10004891-1789282800-1789318800@aresdec.org
SUMMARY:Fall Poker Run
DESCRIPTION:Twice a year\, the Rampart Range Motorcycle Management Committee sponsors a non-competitive Poker Run for off-road motorcycles (no ATV’s) and riders of all ages. There is a short course (approximately 15-25 miles) and a long course (approximately 50-55 miles). Riders of all abilities are welcome. Prizes are awarded on the basis of the poker hand you draw at the final check point.  The Fall Poker Run is not a race\, it is an EVENT!   \nThis is a non-competitive event and the 5 prizes awarded for each course are based on the rider’s luck in drawing one of the five highest winning poker hands consisting of five (short course) or seven (long course) total cards at the final checkpoint.  It’s truly a wonderful experience. \nARESDEC will provide tactical communications & situational awareness for Poker Run event staff. ARESDEC members should expect to provide APRS/LoRa tracking\, checkpoint communications\, Forward Observer (FOB)\, observe Poker Run operations and monitor the Net\, report any emergencies\, medical issues\, and/or disabled bikes\, and report rider activity like first rider through\, sweeps passing through the checkpoints\, and event staff arriving and departing.  We coordinate with Douglas County Search & Rescue (DCSAR) for their services if needed on the course. \nARES R1D5 Members can contact Training@aresdec.org or staff@aresdec.org if you have questions\, suggestions or concerns.  We look forward to working with the event sponsor and partners for a successful event! \nBackground:  The Rampart Range Fall Poker Run is planned and run by the RRMMC (Rampart Range Motorcycle Management Committee). RRMMC is an all-volunteer\, nonprofit corporation founded in 1972 to work with the Forest Service to promote and preserve dirt bike trail riding opportunities in the Rampart Range area of Pike National Forest near Sedalia\, Colorado. \nEvent Website: http://rampartrange.org/poker-run/ \n  \n \n\n\n	Related
URL:https://aresdec.org/event/fall-poker-run-2-2/2026-09-13/
LOCATION:Rampart Range\, CO\, United States
CATEGORIES:Event
GEO:39.32777;-105.09408
END:VEVENT
BEGIN:VEVENT
DTSTART;TZID=America/Denver:20270620T070000
DTEND;TZID=America/Denver:20270620T170000
DTSTAMP:20260423T034915
CREATED:20251211T190538Z
LAST-MODIFIED:20260117T180125Z
UID:10005172-1813474800-1813510800@aresdec.org
SUMMARY:Spring Poker Run
DESCRIPTION:Twice a year\, the Rampart Range Motorcycle Management Committee sponsors a non-competitive Poker Run for off-road motorcycles (no ATV’s) and riders of all ages. There is a short course (approximately 15-25 miles) and a long course (approximately 50-55 miles). Riders of all abilities are welcome. Prizes are awarded on the basis of the poker hand you draw at the final check point.  The Spring Poker Run is not a race\, it is an EVENT!   \nThis is a non-competitive event and the 5 prizes awarded for each course are based on the rider’s luck in drawing one of the five highest winning poker hands consisting of five (short course) or seven (long course) total cards at the final checkpoint.  It’s truly a wonderful experience. \nARESDEC will provide tactical communications & situational awareness for Poker Run event staff. ARESDEC members should expect to provide APRS/LoRa tracking\, checkpoint communications\, Forward Observer (FOB)\, observe Poker Run operations and monitor the Net\, report any emergencies\, medical issues\, and/or disabled bikes\, and report rider activity like first rider through\, sweeps passing through the checkpoints\, and event staff arriving and departing.  We coordinate with Douglas County Search & Rescue (DCSAR) for their services if needed on the course. \nBackground:  The Rampart Range Spring Poker Run is planned and run by the RRMMC (Rampart Range Motorcycle Management Committee). RRMMC is an all-volunteer\, nonprofit corporation founded in 1972 to work with the Forest Service to promote and preserve dirt bike trail riding opportunities in the Rampart Range area of Pike National Forest near Sedalia\, Colorado. \nEvent Website: http://rampartrange.org/poker-run/ \n \n\n\n	Related
URL:https://aresdec.org/event/spring-poker-run-3-2/2027-06-20/
LOCATION:Rampart Range\, CO\, United States
CATEGORIES:Event
GEO:39.32777;-105.09408
END:VEVENT
BEGIN:VEVENT
DTSTART;TZID=America/Denver:20270912T070000
DTEND;TZID=America/Denver:20270912T170000
DTSTAMP:20260423T034915
CREATED:20251211T191043Z
LAST-MODIFIED:20251211T191241Z
UID:10005008-1820732400-1820768400@aresdec.org
SUMMARY:Fall Poker Run
DESCRIPTION:Twice a year\, the Rampart Range Motorcycle Management Committee sponsors a non-competitive Poker Run for off-road motorcycles (no ATV’s) and riders of all ages. There is a short course (approximately 15-25 miles) and a long course (approximately 50-55 miles). Riders of all abilities are welcome. Prizes are awarded on the basis of the poker hand you draw at the final check point.  The Fall Poker Run is not a race\, it is an EVENT!   \nThis is a non-competitive event and the 5 prizes awarded for each course are based on the rider’s luck in drawing one of the five highest winning poker hands consisting of five (short course) or seven (long course) total cards at the final checkpoint.  It’s truly a wonderful experience. \nARESDEC will provide tactical communications & situational awareness for Poker Run event staff. ARESDEC members should expect to provide APRS/LoRa tracking\, checkpoint communications\, Forward Observer (FOB)\, observe Poker Run operations and monitor the Net\, report any emergencies\, medical issues\, and/or disabled bikes\, and report rider activity like first rider through\, sweeps passing through the checkpoints\, and event staff arriving and departing.  We coordinate with Douglas County Search & Rescue (DCSAR) for their services if needed on the course. \nARES R1D5 Members can contact Training@aresdec.org or staff@aresdec.org if you have questions\, suggestions or concerns.  We look forward to working with the event sponsor and partners for a successful event! \nBackground:  The Rampart Range Fall Poker Run is planned and run by the RRMMC (Rampart Range Motorcycle Management Committee). RRMMC is an all-volunteer\, nonprofit corporation founded in 1972 to work with the Forest Service to promote and preserve dirt bike trail riding opportunities in the Rampart Range area of Pike National Forest near Sedalia\, Colorado. \nEvent Website: http://rampartrange.org/poker-run/ \n  \n \n\n\n	Related
URL:https://aresdec.org/event/fall-poker-run-2-2/2027-09-12/
LOCATION:Rampart Range\, CO\, United States
CATEGORIES:Event
GEO:39.32777;-105.09408
END:VEVENT
BEGIN:VEVENT
DTSTART;TZID=America/Denver:20280618T070000
DTEND;TZID=America/Denver:20280618T170000
DTSTAMP:20260423T034915
CREATED:20251211T190538Z
LAST-MODIFIED:20260117T180125Z
UID:10005173-1844924400-1844960400@aresdec.org
SUMMARY:Spring Poker Run
DESCRIPTION:Twice a year\, the Rampart Range Motorcycle Management Committee sponsors a non-competitive Poker Run for off-road motorcycles (no ATV’s) and riders of all ages. There is a short course (approximately 15-25 miles) and a long course (approximately 50-55 miles). Riders of all abilities are welcome. Prizes are awarded on the basis of the poker hand you draw at the final check point.  The Spring Poker Run is not a race\, it is an EVENT!   \nThis is a non-competitive event and the 5 prizes awarded for each course are based on the rider’s luck in drawing one of the five highest winning poker hands consisting of five (short course) or seven (long course) total cards at the final checkpoint.  It’s truly a wonderful experience. \nARESDEC will provide tactical communications & situational awareness for Poker Run event staff. ARESDEC members should expect to provide APRS/LoRa tracking\, checkpoint communications\, Forward Observer (FOB)\, observe Poker Run operations and monitor the Net\, report any emergencies\, medical issues\, and/or disabled bikes\, and report rider activity like first rider through\, sweeps passing through the checkpoints\, and event staff arriving and departing.  We coordinate with Douglas County Search & Rescue (DCSAR) for their services if needed on the course. \nBackground:  The Rampart Range Spring Poker Run is planned and run by the RRMMC (Rampart Range Motorcycle Management Committee). RRMMC is an all-volunteer\, nonprofit corporation founded in 1972 to work with the Forest Service to promote and preserve dirt bike trail riding opportunities in the Rampart Range area of Pike National Forest near Sedalia\, Colorado. \nEvent Website: http://rampartrange.org/poker-run/ \n \n\n\n	Related
URL:https://aresdec.org/event/spring-poker-run-3-2/2028-06-18/
LOCATION:Rampart Range\, CO\, United States
CATEGORIES:Event
GEO:39.32777;-105.09408
END:VEVENT
BEGIN:VEVENT
DTSTART;TZID=America/Denver:20280910T070000
DTEND;TZID=America/Denver:20280910T170000
DTSTAMP:20260423T034915
CREATED:20251211T191043Z
LAST-MODIFIED:20251211T191241Z
UID:10005009-1852182000-1852218000@aresdec.org
SUMMARY:Fall Poker Run
DESCRIPTION:Twice a year\, the Rampart Range Motorcycle Management Committee sponsors a non-competitive Poker Run for off-road motorcycles (no ATV’s) and riders of all ages. There is a short course (approximately 15-25 miles) and a long course (approximately 50-55 miles). Riders of all abilities are welcome. Prizes are awarded on the basis of the poker hand you draw at the final check point.  The Fall Poker Run is not a race\, it is an EVENT!   \nThis is a non-competitive event and the 5 prizes awarded for each course are based on the rider’s luck in drawing one of the five highest winning poker hands consisting of five (short course) or seven (long course) total cards at the final checkpoint.  It’s truly a wonderful experience. \nARESDEC will provide tactical communications & situational awareness for Poker Run event staff. ARESDEC members should expect to provide APRS/LoRa tracking\, checkpoint communications\, Forward Observer (FOB)\, observe Poker Run operations and monitor the Net\, report any emergencies\, medical issues\, and/or disabled bikes\, and report rider activity like first rider through\, sweeps passing through the checkpoints\, and event staff arriving and departing.  We coordinate with Douglas County Search & Rescue (DCSAR) for their services if needed on the course. \nARES R1D5 Members can contact Training@aresdec.org or staff@aresdec.org if you have questions\, suggestions or concerns.  We look forward to working with the event sponsor and partners for a successful event! \nBackground:  The Rampart Range Fall Poker Run is planned and run by the RRMMC (Rampart Range Motorcycle Management Committee). RRMMC is an all-volunteer\, nonprofit corporation founded in 1972 to work with the Forest Service to promote and preserve dirt bike trail riding opportunities in the Rampart Range area of Pike National Forest near Sedalia\, Colorado. \nEvent Website: http://rampartrange.org/poker-run/ \n  \n \n\n\n	Related
URL:https://aresdec.org/event/fall-poker-run-2-2/2028-09-10/
LOCATION:Rampart Range\, CO\, United States
CATEGORIES:Event
GEO:39.32777;-105.09408
END:VEVENT
BEGIN:VEVENT
DTSTART;TZID=America/Denver:20290617T070000
DTEND;TZID=America/Denver:20290617T170000
DTSTAMP:20260423T034915
CREATED:20251211T190538Z
LAST-MODIFIED:20260117T180125Z
UID:10005174-1876374000-1876410000@aresdec.org
SUMMARY:Spring Poker Run
DESCRIPTION:Twice a year\, the Rampart Range Motorcycle Management Committee sponsors a non-competitive Poker Run for off-road motorcycles (no ATV’s) and riders of all ages. There is a short course (approximately 15-25 miles) and a long course (approximately 50-55 miles). Riders of all abilities are welcome. Prizes are awarded on the basis of the poker hand you draw at the final check point.  The Spring Poker Run is not a race\, it is an EVENT!   \nThis is a non-competitive event and the 5 prizes awarded for each course are based on the rider’s luck in drawing one of the five highest winning poker hands consisting of five (short course) or seven (long course) total cards at the final checkpoint.  It’s truly a wonderful experience. \nARESDEC will provide tactical communications & situational awareness for Poker Run event staff. ARESDEC members should expect to provide APRS/LoRa tracking\, checkpoint communications\, Forward Observer (FOB)\, observe Poker Run operations and monitor the Net\, report any emergencies\, medical issues\, and/or disabled bikes\, and report rider activity like first rider through\, sweeps passing through the checkpoints\, and event staff arriving and departing.  We coordinate with Douglas County Search & Rescue (DCSAR) for their services if needed on the course. \nBackground:  The Rampart Range Spring Poker Run is planned and run by the RRMMC (Rampart Range Motorcycle Management Committee). RRMMC is an all-volunteer\, nonprofit corporation founded in 1972 to work with the Forest Service to promote and preserve dirt bike trail riding opportunities in the Rampart Range area of Pike National Forest near Sedalia\, Colorado. \nEvent Website: http://rampartrange.org/poker-run/ \n \n\n\n	Related
URL:https://aresdec.org/event/spring-poker-run-3-2/2029-06-17/
LOCATION:Rampart Range\, CO\, United States
CATEGORIES:Event
GEO:39.32777;-105.09408
END:VEVENT
BEGIN:VEVENT
DTSTART;TZID=America/Denver:20290909T070000
DTEND;TZID=America/Denver:20290909T170000
DTSTAMP:20260423T034915
CREATED:20251211T191043Z
LAST-MODIFIED:20251211T191241Z
UID:10005010-1883631600-1883667600@aresdec.org
SUMMARY:Fall Poker Run
DESCRIPTION:Twice a year\, the Rampart Range Motorcycle Management Committee sponsors a non-competitive Poker Run for off-road motorcycles (no ATV’s) and riders of all ages. There is a short course (approximately 15-25 miles) and a long course (approximately 50-55 miles). Riders of all abilities are welcome. Prizes are awarded on the basis of the poker hand you draw at the final check point.  The Fall Poker Run is not a race\, it is an EVENT!   \nThis is a non-competitive event and the 5 prizes awarded for each course are based on the rider’s luck in drawing one of the five highest winning poker hands consisting of five (short course) or seven (long course) total cards at the final checkpoint.  It’s truly a wonderful experience. \nARESDEC will provide tactical communications & situational awareness for Poker Run event staff. ARESDEC members should expect to provide APRS/LoRa tracking\, checkpoint communications\, Forward Observer (FOB)\, observe Poker Run operations and monitor the Net\, report any emergencies\, medical issues\, and/or disabled bikes\, and report rider activity like first rider through\, sweeps passing through the checkpoints\, and event staff arriving and departing.  We coordinate with Douglas County Search & Rescue (DCSAR) for their services if needed on the course. \nARES R1D5 Members can contact Training@aresdec.org or staff@aresdec.org if you have questions\, suggestions or concerns.  We look forward to working with the event sponsor and partners for a successful event! \nBackground:  The Rampart Range Fall Poker Run is planned and run by the RRMMC (Rampart Range Motorcycle Management Committee). RRMMC is an all-volunteer\, nonprofit corporation founded in 1972 to work with the Forest Service to promote and preserve dirt bike trail riding opportunities in the Rampart Range area of Pike National Forest near Sedalia\, Colorado. \nEvent Website: http://rampartrange.org/poker-run/ \n  \n \n\n\n	Related
URL:https://aresdec.org/event/fall-poker-run-2-2/2029-09-09/
LOCATION:Rampart Range\, CO\, United States
CATEGORIES:Event
GEO:39.32777;-105.09408
END:VEVENT
BEGIN:VEVENT
DTSTART;TZID=America/Denver:20300616T070000
DTEND;TZID=America/Denver:20300616T170000
DTSTAMP:20260423T034915
CREATED:20251211T190538Z
LAST-MODIFIED:20260117T180125Z
UID:10005175-1907823600-1907859600@aresdec.org
SUMMARY:Spring Poker Run
DESCRIPTION:Twice a year\, the Rampart Range Motorcycle Management Committee sponsors a non-competitive Poker Run for off-road motorcycles (no ATV’s) and riders of all ages. There is a short course (approximately 15-25 miles) and a long course (approximately 50-55 miles). Riders of all abilities are welcome. Prizes are awarded on the basis of the poker hand you draw at the final check point.  The Spring Poker Run is not a race\, it is an EVENT!   \nThis is a non-competitive event and the 5 prizes awarded for each course are based on the rider’s luck in drawing one of the five highest winning poker hands consisting of five (short course) or seven (long course) total cards at the final checkpoint.  It’s truly a wonderful experience. \nARESDEC will provide tactical communications & situational awareness for Poker Run event staff. ARESDEC members should expect to provide APRS/LoRa tracking\, checkpoint communications\, Forward Observer (FOB)\, observe Poker Run operations and monitor the Net\, report any emergencies\, medical issues\, and/or disabled bikes\, and report rider activity like first rider through\, sweeps passing through the checkpoints\, and event staff arriving and departing.  We coordinate with Douglas County Search & Rescue (DCSAR) for their services if needed on the course. \nBackground:  The Rampart Range Spring Poker Run is planned and run by the RRMMC (Rampart Range Motorcycle Management Committee). RRMMC is an all-volunteer\, nonprofit corporation founded in 1972 to work with the Forest Service to promote and preserve dirt bike trail riding opportunities in the Rampart Range area of Pike National Forest near Sedalia\, Colorado. \nEvent Website: http://rampartrange.org/poker-run/ \n \n\n\n	Related
URL:https://aresdec.org/event/spring-poker-run-3-2/2030-06-16/
LOCATION:Rampart Range\, CO\, United States
CATEGORIES:Event
GEO:39.32777;-105.09408
END:VEVENT
BEGIN:VEVENT
DTSTART;TZID=America/Denver:20300908T070000
DTEND;TZID=America/Denver:20300908T170000
DTSTAMP:20260423T034915
CREATED:20251211T191043Z
LAST-MODIFIED:20251211T191241Z
UID:10005011-1915081200-1915117200@aresdec.org
SUMMARY:Fall Poker Run
DESCRIPTION:Twice a year\, the Rampart Range Motorcycle Management Committee sponsors a non-competitive Poker Run for off-road motorcycles (no ATV’s) and riders of all ages. There is a short course (approximately 15-25 miles) and a long course (approximately 50-55 miles). Riders of all abilities are welcome. Prizes are awarded on the basis of the poker hand you draw at the final check point.  The Fall Poker Run is not a race\, it is an EVENT!   \nThis is a non-competitive event and the 5 prizes awarded for each course are based on the rider’s luck in drawing one of the five highest winning poker hands consisting of five (short course) or seven (long course) total cards at the final checkpoint.  It’s truly a wonderful experience. \nARESDEC will provide tactical communications & situational awareness for Poker Run event staff. ARESDEC members should expect to provide APRS/LoRa tracking\, checkpoint communications\, Forward Observer (FOB)\, observe Poker Run operations and monitor the Net\, report any emergencies\, medical issues\, and/or disabled bikes\, and report rider activity like first rider through\, sweeps passing through the checkpoints\, and event staff arriving and departing.  We coordinate with Douglas County Search & Rescue (DCSAR) for their services if needed on the course. \nARES R1D5 Members can contact Training@aresdec.org or staff@aresdec.org if you have questions\, suggestions or concerns.  We look forward to working with the event sponsor and partners for a successful event! \nBackground:  The Rampart Range Fall Poker Run is planned and run by the RRMMC (Rampart Range Motorcycle Management Committee). RRMMC is an all-volunteer\, nonprofit corporation founded in 1972 to work with the Forest Service to promote and preserve dirt bike trail riding opportunities in the Rampart Range area of Pike National Forest near Sedalia\, Colorado. \nEvent Website: http://rampartrange.org/poker-run/ \n  \n \n\n\n	Related
URL:https://aresdec.org/event/fall-poker-run-2-2/2030-09-08/
LOCATION:Rampart Range\, CO\, United States
CATEGORIES:Event
GEO:39.32777;-105.09408
END:VEVENT
END:VCALENDAR