BEGIN:VCALENDAR
VERSION:2.0
PRODID:-//ARESDEC - ECPv6.15.20//NONSGML v1.0//EN
CALSCALE:GREGORIAN
METHOD:PUBLISH
X-ORIGINAL-URL:https://aresdec.org
X-WR-CALDESC:Events for ARESDEC
REFRESH-INTERVAL;VALUE=DURATION:PT1H
X-Robots-Tag:noindex
X-PUBLISHED-TTL:PT1H
BEGIN:VTIMEZONE
TZID:America/Denver
BEGIN:DAYLIGHT
TZOFFSETFROM:-0700
TZOFFSETTO:-0600
TZNAME:MDT
DTSTART:20220313T090000
END:DAYLIGHT
BEGIN:STANDARD
TZOFFSETFROM:-0600
TZOFFSETTO:-0700
TZNAME:MST
DTSTART:20221106T080000
END:STANDARD
BEGIN:DAYLIGHT
TZOFFSETFROM:-0700
TZOFFSETTO:-0600
TZNAME:MDT
DTSTART:20230312T090000
END:DAYLIGHT
BEGIN:STANDARD
TZOFFSETFROM:-0600
TZOFFSETTO:-0700
TZNAME:MST
DTSTART:20231105T080000
END:STANDARD
BEGIN:DAYLIGHT
TZOFFSETFROM:-0700
TZOFFSETTO:-0600
TZNAME:MDT
DTSTART:20240310T090000
END:DAYLIGHT
BEGIN:STANDARD
TZOFFSETFROM:-0600
TZOFFSETTO:-0700
TZNAME:MST
DTSTART:20241103T080000
END:STANDARD
BEGIN:DAYLIGHT
TZOFFSETFROM:-0700
TZOFFSETTO:-0600
TZNAME:MDT
DTSTART:20250309T090000
END:DAYLIGHT
BEGIN:STANDARD
TZOFFSETFROM:-0600
TZOFFSETTO:-0700
TZNAME:MST
DTSTART:20251102T080000
END:STANDARD
BEGIN:DAYLIGHT
TZOFFSETFROM:-0700
TZOFFSETTO:-0600
TZNAME:MDT
DTSTART:20260308T090000
END:DAYLIGHT
BEGIN:STANDARD
TZOFFSETFROM:-0600
TZOFFSETTO:-0700
TZNAME:MST
DTSTART:20261101T080000
END:STANDARD
END:VTIMEZONE
BEGIN:VEVENT
DTSTART;TZID=America/Denver:20250907T070000
DTEND;TZID=America/Denver:20250907T170000
DTSTAMP:20260423T052335
CREATED:20241111T031332Z
LAST-MODIFIED:20250312T023403Z
UID:10004890-1757228400-1757264400@aresdec.org
SUMMARY:Fall Poker Run
DESCRIPTION:Twice a year\, the Rampart Range Motorcycle Management Committee sponsors a non-competitive Poker Run for off-road motorcycles (no ATV’s) and riders of all ages. There is a short course (approximately 15-25 miles) and a long course (approximately 50-55 miles). Riders of all abilities are welcome. Prizes are awarded on the basis of the poker hand you draw at the final check point.  The Fall Poker Run is not a race\, it is an EVENT!   \nThis is a non-competitive event and the 5 prizes awarded for each course are based on the rider’s luck in drawing one of the five highest winning poker hands consisting of five (short course) or seven (long course) total cards at the final checkpoint.  It’s truly a wonderful experience. \nARESDEC will provide tactical communications & situational awareness for Poker Run event staff. ARESDEC members should expect to provide APRS/LoRa tracking\, checkpoint communications\, Forward Observer (FOB)\, observe Poker Run operations and monitor the Net\, report any emergencies\, medical issues\, and/or disabled bikes\, and report rider activity like first rider through\, sweeps passing through the checkpoints\, and event staff arriving and departing.  We coordinate with Douglas County Search & Rescue (DCSAR) for their services if needed on the course. \nBackground:  The Rampart Range Fall Poker Run is planned and run by the RRMMC (Rampart Range Motorcycle Management Committee). RRMMC is an all-volunteer\, nonprofit corporation founded in 1972 to work with the Forest Service to promote and preserve dirt bike trail riding opportunities in the Rampart Range area of Pike National Forest near Sedalia\, Colorado. \nEvent Website: http://rampartrange.org/poker-run/ \n \n\n\n	Related
URL:https://aresdec.org/event/fall-poker-run-2/
LOCATION:Rampart Range\, CO\, United States
CATEGORIES:Event
GEO:39.32777;-105.09408
END:VEVENT
BEGIN:VEVENT
DTSTART;TZID=America/Denver:20250601T070000
DTEND;TZID=America/Denver:20250601T170000
DTSTAMP:20260423T052335
CREATED:20241111T025558Z
LAST-MODIFIED:20241111T025711Z
UID:10002739-1748761200-1748797200@aresdec.org
SUMMARY:Spring Poker Run
DESCRIPTION:Twice a year\, the Rampart Range Motorcycle Management Committee sponsors a non-competitive Poker Run for off-road motorcycles (no ATV’s) and riders of all ages. There is a short course (approximately 15-25 miles) and a long course (approximately 50-55 miles). Riders of all abilities are welcome. Prizes are awarded on the basis of the poker hand you draw at the final check point.  The Spring Poker Run is not a race\, it is an EVENT!   \nThis is a non-competitive event and the 5 prizes awarded for each course are based on the rider’s luck in drawing one of the five highest winning poker hands consisting of five (short course) or seven (long course) total cards at the final checkpoint.  It’s truly a wonderful experience. \nARESDEC will provide tactical communications & situational awareness for Poker Run event staff. ARESDEC members should expect to provide APRS/LoRa tracking\, checkpoint communications\, Forward Observer (FOB)\, observe Poker Run operations and monitor the Net\, report any emergencies\, medical issues\, and/or disabled bikes\, and report rider activity like first rider through\, sweeps passing through the checkpoints\, and event staff arriving and departing.  We coordinate with Douglas County Search & Rescue (DCSAR) for their services if needed on the course. \nBackground:  The Rampart Range Spring Poker Run is planned and run by the RRMMC (Rampart Range Motorcycle Management Committee). RRMMC is an all-volunteer\, nonprofit corporation founded in 1972 to work with the Forest Service to promote and preserve dirt bike trail riding opportunities in the Rampart Range area of Pike National Forest near Sedalia\, Colorado. \nEvent Website: http://rampartrange.org/poker-run/ \n \n\n\n	Related
URL:https://aresdec.org/event/spring-poker-run-3/
LOCATION:Rampart Range\, CO\, United States
CATEGORIES:Event
GEO:39.32777;-105.09408
END:VEVENT
BEGIN:VEVENT
DTSTART;VALUE=DATE:20240908
DTEND;VALUE=DATE:20240909
DTSTAMP:20260423T052335
CREATED:20231219T022605Z
LAST-MODIFIED:20231219T022605Z
UID:10000824-1725753600-1725839999@aresdec.org
SUMMARY:Fall Poker Run 2024
DESCRIPTION:Background: The Rampart Range Spring Poker Run is planned and run by the RRMMC (Rampart Range Motorcycle Management Committee). RRMMC is an all-volunteer\, nonprofit corporation founded in 1972 to work with the Forest Service to promote and preserve dirt bike trail riding opportunities in the Rampart Range area of Pike National Forest near Sedalia\, Colorado.  \n Twice a year\, the Rampart Range Motorcycle Management Committee sponsors a non-competitive Poker Run for off-road motorcycle riders of all ages. There is a short course (approximately 15-25 miles) and a long course (approximately 50-55 miles). Riders of all abilities are welcome. Prizes are awarded on the basis of the poker hand drawn at the final check point. This is not a race. It’s an event.  \nARESDEC provides tactical communications & situational awareness for event staff via staffing the following functions:\n– EC Emergency Coordinator – overall ARES leader\n– MC Mission Coordinator – ARES event planning\, execution and safety\n– COMM CENTER ARES Communication Trailer / ICP (Net Control\, Alternate Net Control)\n– CHEKPOINTS Each with two trained ARES Radio Operators (RADOs)\n– ROVER Highly trained ARES mobile RADO\n– FO (Forward Observer) Dirt bike mounted ARES member embedded in event (HT & APRS) \nMore details to come\n\n\n	Related
URL:https://aresdec.org/event/fall-poker-run-2024/
LOCATION:Rampart Range\, CO\, United States
CATEGORIES:Event
GEO:39.32777;-105.09408
END:VEVENT
BEGIN:VEVENT
DTSTART;VALUE=DATE:20240602
DTEND;VALUE=DATE:20240603
DTSTAMP:20260423T052335
CREATED:20231219T020657Z
LAST-MODIFIED:20231219T022135Z
UID:10000822-1717286400-1717372799@aresdec.org
SUMMARY:Spring Poker Run
DESCRIPTION:ARESDEC will provide tactical communications & situational awareness for Poker Run event staff.  Full details still forthcoming.  ARESDEC members should expect to provide APRS/LoRa tracking\, checkpoint communications\, Forward Observer (FOB)\, observe Poker Run operations and monitor the Net\, report any emergencies\, medical issues\, and/or disabled bikes\, and report rider activity like first rider through\, sweeps passing through the checkpoints\, and event staff arriving and departing. \nBackground:  The Rampart Range Spring Poker Run is planned and run by the RRMMC (Rampart Range Motorcycle Management Committee). RRMMC is an all-volunteer\, nonprofit corporation founded in 1972 to work with the Forest Service to promote and preserve dirt bike trail riding opportunities in the Rampart Range area of Pike National Forest near Sedalia\, Colorado.  Twice a year\, the Rampart Range Motorcycle Management Committee sponsors a non-competitive Poker Run for off-road motorcycle riders of all ages. There is a short course (approximately 15-25 miles) and a long course (approximately 50-55 miles). Riders of all abilities are welcome. Prizes are awarded on the basis of the poker hand drawn at the final check point. This is not a race. It’s an event.  Event Website: http://rampartrange.org/poker-run/ \nMore details to come \n\n\n	Related
URL:https://aresdec.org/event/spring-poker-run-2/
LOCATION:Rampart Range\, CO\, United States
CATEGORIES:Event
GEO:39.32777;-105.09408
END:VEVENT
BEGIN:VEVENT
DTSTART;VALUE=DATE:20230910
DTEND;VALUE=DATE:20230911
DTSTAMP:20260423T052335
CREATED:20230416T174931Z
LAST-MODIFIED:20230727T195630Z
UID:10000005-1694304000-1694390399@aresdec.org
SUMMARY:Fall Poker Run 2023
DESCRIPTION:Background: The Rampart Range Spring Poker Run is planned and run by the RRMMC (Rampart Range Motorcycle Management Committee). RRMMC is an all-volunteer\, nonprofit corporation founded in 1972 to work with the Forest Service to promote and preserve dirt bike trail riding opportunities in the Rampart Range area of Pike National Forest near Sedalia\, Colorado.  \n Twice a year\, the Rampart Range Motorcycle Management Committee sponsors a non-competitive Poker Run for off-road motorcycle riders of all ages. There is a short course (approximately 15-25 miles) and a long course (approximately 50-55 miles). Riders of all abilities are welcome. Prizes are awarded on the basis of the poker hand drawn at the final check point. This is not a race. It’s an event.  \nARESDEC provides tactical communications & situational awareness for event staff via staffing the following functions:\n– EC Emergency Coordinator – overall ARES leader\n– MC Mission Coordinator – ARES event planning\, execution and safety\n– COMM CENTER ARES Communication Trailer / ICP (Net Control\, Alternate Net Control)\n– CHEKPOINTS Each with two trained ARES Radio Operators (RADOs)\n– ROVER Highly trained ARES mobile RADO\n– FO (Forward Observer) Dirt bike mounted ARES member embedded in event (HT & APRS) \n\n\n	Related
URL:https://aresdec.org/event/fall-poker-run/
LOCATION:Rampart Range\, CO\, United States
CATEGORIES:Event
ATTACH;FMTTYPE=image/jpeg:https://aresdec.org/wp-content/uploads/2023/04/Poker-Run.jpg
GEO:39.32777;-105.09408
END:VEVENT
BEGIN:VEVENT
DTSTART;VALUE=DATE:20230604
DTEND;VALUE=DATE:20230605
DTSTAMP:20260423T052335
CREATED:20230416T174824Z
LAST-MODIFIED:20230501T161246Z
UID:10000004-1685836800-1685923199@aresdec.org
SUMMARY:Spring Poker Run 2023
DESCRIPTION:ARESDEC will provide tactical communications & situational awareness for Poker Run event staff.  Full details still forthcoming.  ARESDEC members should expect to observe Poker Run operations and monitor the Net\, report any emergencies\, medical issues\, and/or disabled bikes\, and report rider activity like first rider through\, sweeps passing through the checkpoints\, and event staff arriving and departing. \nBackground:  The Rampart Range Spring Poker Run is planned and run by the RRMMC (Rampart Range Motorcycle Management Committee). RRMMC is an all-volunteer\, nonprofit corporation founded in 1972 to work with the Forest Service to promote and preserve dirt bike trail riding opportunities in the Rampart Range area of Pike National Forest near Sedalia\, Colorado.  Twice a year\, the Rampart Range Motorcycle Management Committee sponsors a non-competitive Poker Run for off-road motorcycle riders of all ages. There is a short course (approximately 15-25 miles) and a long course (approximately 50-55 miles). Riders of all abilities are welcome. Prizes are awarded on the basis of the poker hand drawn at the final check point. This is not a race. It’s an event.  Event Website: http://rampartrange.org/poker-run/ \n  \n\n\n	Related
URL:https://aresdec.org/event/spring-poker-run/
LOCATION:Rampart Range\, CO\, United States
CATEGORIES:Event
GEO:39.32777;-105.09408
END:VEVENT
END:VCALENDAR