BEGIN:VCALENDAR
VERSION:2.0
PRODID:-//ARESDEC - ECPv6.15.20//NONSGML v1.0//EN
CALSCALE:GREGORIAN
METHOD:PUBLISH
X-ORIGINAL-URL:https://aresdec.org
X-WR-CALDESC:Events for ARESDEC
REFRESH-INTERVAL;VALUE=DURATION:PT1H
X-Robots-Tag:noindex
X-PUBLISHED-TTL:PT1H
BEGIN:VTIMEZONE
TZID:America/Denver
BEGIN:DAYLIGHT
TZOFFSETFROM:-0700
TZOFFSETTO:-0600
TZNAME:MDT
DTSTART:20230312T090000
END:DAYLIGHT
BEGIN:STANDARD
TZOFFSETFROM:-0600
TZOFFSETTO:-0700
TZNAME:MST
DTSTART:20231105T080000
END:STANDARD
BEGIN:DAYLIGHT
TZOFFSETFROM:-0700
TZOFFSETTO:-0600
TZNAME:MDT
DTSTART:20240310T090000
END:DAYLIGHT
BEGIN:STANDARD
TZOFFSETFROM:-0600
TZOFFSETTO:-0700
TZNAME:MST
DTSTART:20241103T080000
END:STANDARD
BEGIN:DAYLIGHT
TZOFFSETFROM:-0700
TZOFFSETTO:-0600
TZNAME:MDT
DTSTART:20250309T090000
END:DAYLIGHT
BEGIN:STANDARD
TZOFFSETFROM:-0600
TZOFFSETTO:-0700
TZNAME:MST
DTSTART:20251102T080000
END:STANDARD
BEGIN:DAYLIGHT
TZOFFSETFROM:-0700
TZOFFSETTO:-0600
TZNAME:MDT
DTSTART:20260308T090000
END:DAYLIGHT
BEGIN:STANDARD
TZOFFSETFROM:-0600
TZOFFSETTO:-0700
TZNAME:MST
DTSTART:20261101T080000
END:STANDARD
END:VTIMEZONE
BEGIN:VEVENT
DTSTART;TZID=America/Denver:20250707T183000
DTEND;TZID=America/Denver:20250707T203000
DTSTAMP:20260423T014000
CREATED:20250610T182254Z
LAST-MODIFIED:20250711T175924Z
UID:10001175-1751913000-1751920200@aresdec.org
SUMMARY:Monthly Staff Meeting
DESCRIPTION:Monthly ARES R1D5 Staff Meeting held in person and via Microsoft Teams.  Link to Microsoft Teams will be provided before each Staff meeting.  In-Person location will remain the same each month unless advised otherwise. \n\n\n	Related
URL:https://aresdec.org/event/monthly-staff-meeting-2/2025-07-07/
LOCATION:PUMC – Parker United Methodist Church\, 11805 S Pine Drive\, Parker\, CO\, 80134\, United States
CATEGORIES:Staff Meetings
END:VEVENT
BEGIN:VEVENT
DTSTART;TZID=America/Denver:20250512T183000
DTEND;TZID=America/Denver:20250512T203000
DTSTAMP:20260423T014000
CREATED:20241109T025740Z
LAST-MODIFIED:20241209T032219Z
UID:10001173-1747074600-1747081800@aresdec.org
SUMMARY:Monthly Staff Meeting
DESCRIPTION:Monthly ARES R1D5 Staff Meeting held in person and via Microsoft Teams.  Link to Microsoft Teams will be provided before each Staff meeting.  In-Person location will remain the same each month unless advised otherwise. \n\n\n	Related
URL:https://aresdec.org/event/monthly-staff-meeting/2025-05-12/
LOCATION:PUMC – Parker United Methodist Church\, 11805 S Pine Drive\, Parker\, CO\, 80134\, United States
CATEGORIES:Staff Meetings
END:VEVENT
BEGIN:VEVENT
DTSTART;TZID=America/Denver:20250414T183000
DTEND;TZID=America/Denver:20250414T203000
DTSTAMP:20260423T014000
CREATED:20241109T025740Z
LAST-MODIFIED:20241209T032219Z
UID:10001172-1744655400-1744662600@aresdec.org
SUMMARY:Monthly Staff Meeting
DESCRIPTION:Monthly ARES R1D5 Staff Meeting held in person and via Microsoft Teams.  Link to Microsoft Teams will be provided before each Staff meeting.  In-Person location will remain the same each month unless advised otherwise. \n\n\n	Related
URL:https://aresdec.org/event/monthly-staff-meeting/2025-04-14/
LOCATION:PUMC – Parker United Methodist Church\, 11805 S Pine Drive\, Parker\, CO\, 80134\, United States
CATEGORIES:Staff Meetings
END:VEVENT
BEGIN:VEVENT
DTSTART;TZID=America/Denver:20250310T183000
DTEND;TZID=America/Denver:20250310T203000
DTSTAMP:20260423T014000
CREATED:20241109T025740Z
LAST-MODIFIED:20241209T032219Z
UID:10001171-1741631400-1741638600@aresdec.org
SUMMARY:Monthly Staff Meeting
DESCRIPTION:Monthly ARES R1D5 Staff Meeting held in person and via Microsoft Teams.  Link to Microsoft Teams will be provided before each Staff meeting.  In-Person location will remain the same each month unless advised otherwise. \n\n\n	Related
URL:https://aresdec.org/event/monthly-staff-meeting/2025-03-10/
LOCATION:PUMC – Parker United Methodist Church\, 11805 S Pine Drive\, Parker\, CO\, 80134\, United States
CATEGORIES:Staff Meetings
END:VEVENT
BEGIN:VEVENT
DTSTART;TZID=America/Denver:20250215T090000
DTEND;TZID=America/Denver:20250215T120000
DTSTAMP:20260423T014000
CREATED:20241210T035905Z
LAST-MODIFIED:20250207T023707Z
UID:10004251-1739610000-1739620800@aresdec.org
SUMMARY:DMR Hands-On Workshop
DESCRIPTION:Each Spring\, ARES R1D5 members assemble together to help each other update radio firmware and DMR code plugs in preparation for the busy schedule of events we support each year.  We share tips and techniques to improve our understanding and use of DMR.   Finally\, we work together to test our DMR radios\, code plugs and troubleshoot any issues we might find. \nWe will begin the morning at 0900 with a presentation by Jerry\, AG7U on Roaming.  Afterwards\, we will break out into separate rooms based on a limited set of radio manufacturer / models\, and with the help of top notch “Elmers” standing by\, we will upgrade code plugs\, firmware and troubleshoot any issues we are having with our DMR code plug. \nSo mark your calendar and bring your HT / mobile radio to the workshop.  Hopefully you’ll leave with a radio that is ready for the upcoming season of planned activities and possible activations. \nWe will meet in the Youth Room 144 to start and break out to other rooms based on need and attendance. \nIf you are willing to be an Elmer during one of these DMR workshops\, please reach out to Training@aresdec.org. \n \n\n\n	Related
URL:https://aresdec.org/event/dmr-hands-on-workshop-2/
LOCATION:PUMC – Parker United Methodist Church\, 11805 S Pine Drive\, Parker\, CO\, 80134\, United States
CATEGORIES:Training
END:VEVENT
BEGIN:VEVENT
DTSTART;TZID=America/Denver:20250210T183000
DTEND;TZID=America/Denver:20250210T203000
DTSTAMP:20260423T014000
CREATED:20241109T025740Z
LAST-MODIFIED:20241209T032219Z
UID:10001170-1739212200-1739219400@aresdec.org
SUMMARY:Monthly Staff Meeting
DESCRIPTION:Monthly ARES R1D5 Staff Meeting held in person and via Microsoft Teams.  Link to Microsoft Teams will be provided before each Staff meeting.  In-Person location will remain the same each month unless advised otherwise. \n\n\n	Related
URL:https://aresdec.org/event/monthly-staff-meeting/2025-02-10/
LOCATION:PUMC – Parker United Methodist Church\, 11805 S Pine Drive\, Parker\, CO\, 80134\, United States
CATEGORIES:Staff Meetings
END:VEVENT
BEGIN:VEVENT
DTSTART;TZID=America/Denver:20250113T183000
DTEND;TZID=America/Denver:20250113T203000
DTSTAMP:20260423T014000
CREATED:20241109T025740Z
LAST-MODIFIED:20241209T032219Z
UID:10001169-1736793000-1736800200@aresdec.org
SUMMARY:Monthly Staff Meeting
DESCRIPTION:Monthly ARES R1D5 Staff Meeting held in person and via Microsoft Teams.  Link to Microsoft Teams will be provided before each Staff meeting.  In-Person location will remain the same each month unless advised otherwise. \n\n\n	Related
URL:https://aresdec.org/event/monthly-staff-meeting/2025-01-13/
LOCATION:PUMC – Parker United Methodist Church\, 11805 S Pine Drive\, Parker\, CO\, 80134\, United States
CATEGORIES:Staff Meetings
END:VEVENT
BEGIN:VEVENT
DTSTART;TZID=America/Denver:20241209T183000
DTEND;TZID=America/Denver:20241209T203000
DTSTAMP:20260423T014000
CREATED:20241109T025740Z
LAST-MODIFIED:20241209T032219Z
UID:10001168-1733769000-1733776200@aresdec.org
SUMMARY:Monthly Staff Meeting
DESCRIPTION:Monthly ARES R1D5 Staff Meeting held in person and via Microsoft Teams.  Link to Microsoft Teams will be provided before each Staff meeting.  In-Person location will remain the same each month unless advised otherwise. \n\n\n	Related
URL:https://aresdec.org/event/monthly-staff-meeting/2024-12-09/
LOCATION:PUMC – Parker United Methodist Church\, 11805 S Pine Drive\, Parker\, CO\, 80134\, United States
CATEGORIES:Staff Meetings
END:VEVENT
BEGIN:VEVENT
DTSTART;TZID=America/Denver:20241111T183000
DTEND;TZID=America/Denver:20241111T203000
DTSTAMP:20260423T014000
CREATED:20241109T025740Z
LAST-MODIFIED:20241209T032219Z
UID:10001167-1731349800-1731357000@aresdec.org
SUMMARY:Monthly Staff Meeting
DESCRIPTION:Monthly ARES R1D5 Staff Meeting held in person and via Microsoft Teams.  Link to Microsoft Teams will be provided before each Staff meeting.  In-Person location will remain the same each month unless advised otherwise. \n\n\n	Related
URL:https://aresdec.org/event/monthly-staff-meeting/2024-11-11/
LOCATION:PUMC – Parker United Methodist Church\, 11805 S Pine Drive\, Parker\, CO\, 80134\, United States
CATEGORIES:Staff Meetings
END:VEVENT
BEGIN:VEVENT
DTSTART;TZID=America/Denver:20240420T080000
DTEND;TZID=America/Denver:20240420T120000
DTSTAMP:20260423T014000
CREATED:20240318T015409Z
LAST-MODIFIED:20240331T215740Z
UID:10000910-1713600000-1713614400@aresdec.org
SUMMARY:Introduction to DMR Programming
DESCRIPTION:Do you know what DMR is all about?  Do you know how it works?  Do you know how to code a DMR enabled code plug for your HT or mobile radio?  If you answered ‘NO’\, we have a workshop for you! \nBrad / W0BDT will lead us through an Introduction to DMR programming workshop to help us understand DMR terminology and what it takes to create a DMR code plug.  We will then break out into separate groups based on select radio manufacturer / models and be led by Elmers who will help us upgrade our code plugs\, update firmware if needed and troubleshoot any issues we are having with our DMR code plug. \nSo mark your calendar and bring your HT / mobile radio to the workshop.  You’ll leave with updated code plugs and a radio ready to use for the upcoming season of planned activities and possible activations. \nWe will meet in the Youth Room 144 to start and break out to Room 138 and other rooms as necessary. \nIf any questions\, please contact Training@aresdec.org. \n\n\n	Related
URL:https://aresdec.org/event/introduction-to-dmr-dmr-programming/
LOCATION:PUMC – Parker United Methodist Church\, 11805 S Pine Drive\, Parker\, CO\, 80134\, United States
CATEGORIES:Training
END:VEVENT
END:VCALENDAR