BEGIN:VCALENDAR
VERSION:2.0
PRODID:-//ARESDEC - ECPv6.15.20//NONSGML v1.0//EN
CALSCALE:GREGORIAN
METHOD:PUBLISH
X-WR-CALNAME:ARESDEC
X-ORIGINAL-URL:https://aresdec.org
X-WR-CALDESC:Events for ARESDEC
REFRESH-INTERVAL;VALUE=DURATION:PT1H
X-Robots-Tag:noindex
X-PUBLISHED-TTL:PT1H
BEGIN:VTIMEZONE
TZID:America/Denver
BEGIN:DAYLIGHT
TZOFFSETFROM:-0700
TZOFFSETTO:-0600
TZNAME:MDT
DTSTART:20230312T090000
END:DAYLIGHT
BEGIN:STANDARD
TZOFFSETFROM:-0600
TZOFFSETTO:-0700
TZNAME:MST
DTSTART:20231105T080000
END:STANDARD
BEGIN:DAYLIGHT
TZOFFSETFROM:-0700
TZOFFSETTO:-0600
TZNAME:MDT
DTSTART:20240310T090000
END:DAYLIGHT
BEGIN:STANDARD
TZOFFSETFROM:-0600
TZOFFSETTO:-0700
TZNAME:MST
DTSTART:20241103T080000
END:STANDARD
BEGIN:DAYLIGHT
TZOFFSETFROM:-0700
TZOFFSETTO:-0600
TZNAME:MDT
DTSTART:20250309T090000
END:DAYLIGHT
BEGIN:STANDARD
TZOFFSETFROM:-0600
TZOFFSETTO:-0700
TZNAME:MST
DTSTART:20251102T080000
END:STANDARD
BEGIN:DAYLIGHT
TZOFFSETFROM:-0700
TZOFFSETTO:-0600
TZNAME:MDT
DTSTART:20260308T090000
END:DAYLIGHT
BEGIN:STANDARD
TZOFFSETFROM:-0600
TZOFFSETTO:-0700
TZNAME:MST
DTSTART:20261101T080000
END:STANDARD
BEGIN:DAYLIGHT
TZOFFSETFROM:-0700
TZOFFSETTO:-0600
TZNAME:MDT
DTSTART:20270314T090000
END:DAYLIGHT
BEGIN:STANDARD
TZOFFSETFROM:-0600
TZOFFSETTO:-0700
TZNAME:MST
DTSTART:20271107T080000
END:STANDARD
END:VTIMEZONE
BEGIN:VEVENT
DTSTART;TZID=America/Denver:20260411T090000
DTEND;TZID=America/Denver:20260411T120000
DTSTAMP:20260423T001107
CREATED:20230925T183021Z
LAST-MODIFIED:20251214T033809Z
UID:10000514-1775898000-1775908800@aresdec.org
SUMMARY:Winlink "Hands On" Saturday Workshop
DESCRIPTION:Winlink Hands-On Workshop\nHow would you like to have some radio fun\, try some new things\, and not have to give up a whole day to do it? Did you know Winlink is a critical tool in the ARES R1D5 member toolbox.  So\, what better way to “sharpen the saw” than getting together\, having some fun\, sharing knowledge\, enjoying some donuts and building some great comradery?\nMark your calendars for our annual Winlink Hands-On Workshop. This workshop is an opportunity to setup your radio equipment\, antenna and use Winlink to communicate messages to remote destinations.  We will be testing our equipment to ensure software is configured correctly\, radios are tuned and we can connect with other stations to send messages.\nWe will be using different protocols like Telnet\, VARA FM\, VARA HF\, Packet and even peer-to-peer.\nIf you are new to Winlink or haven’t tried Winlink before\, please come\, get some hands on experience and see how easy it is.\n\nAll are welcome to participate.  For more information\, please contact Training@aresdec.org\n\nFebruary 2024 Winlink workshop in very cold weather.  Various ARESDEC members working together to send Winlink messages using different protocols.\n         \n\n\n	Related
URL:https://aresdec.org/event/winlink-hands-on-workshop/2026-04-11/
LOCATION:PUMC – Parker United Methodist Church\, 11805 S Pine Drive\, Parker\, CO\, 80134\, United States
CATEGORIES:Training
END:VEVENT
BEGIN:VEVENT
DTSTART;TZID=America/Denver:20260406T183000
DTEND;TZID=America/Denver:20260406T203000
DTSTAMP:20260423T001107
CREATED:20251205T201703Z
LAST-MODIFIED:20251205T201704Z
UID:10004904-1775500200-1775507400@aresdec.org
SUMMARY:Monthly Staff Meeting
DESCRIPTION:Monthly ARES R1D5 Staff Meeting held in person and online via Microsoft Teams.  Link to Microsoft Teams will be provided before each Staff meeting.  In-Person location will remain the same each month unless advised otherwise. \n\n\n	Related
URL:https://aresdec.org/event/monthly-staff-meeting-2-2/2026-04-06/
LOCATION:PUMC – Parker United Methodist Church\, 11805 S Pine Drive\, Parker\, CO\, 80134\, United States
CATEGORIES:Staff Meetings
END:VEVENT
BEGIN:VEVENT
DTSTART;TZID=America/Denver:20260314T090000
DTEND;TZID=America/Denver:20260314T130000
DTSTAMP:20260423T001107
CREATED:20251214T022452Z
LAST-MODIFIED:20251214T023127Z
UID:10005047-1773478800-1773493200@aresdec.org
SUMMARY:ARESDEC New Member Training - Spring Class
DESCRIPTION:Welcome all new ARES members wanting to be part of our Team! \nWith a heart to serve others\, you are joining a team of professionals who love the hobby of amateur radio and have a desire to serve others.  ARESDEC is a very well respected organization within Douglas and Elbert Counties. It is a privilege and honor to serve with a great group of individuals.  We are glad you are here! \nBy attending New Member Training\, you will gain valuable training and information\, including: \n\nLearn what ARES of Douglas & Elbert Counties (ARESDEC) is and does\nLearn which agencies we serve and how we serve them\nIdentify the events we support during the year\nDeployment standards\, best practices and preparations needed\nLearn about our Winter Operations and preparations needed to serve in a Shelter.\nLearn about the frequency list\, training available throughout the year\, and what is expected of our members.\n\nThe day will finish with a hands-on radio exercise (time permitting).  Bring your hand held (HT) radio programmed to the correct frequencies\, and if you don’t have your radio yet\, no problem\, we’ll provide one for use during the exercise.  Need a refresher? All members of ARES R1D5 are invited to participate in the training course as well. \nCome\, join us.  We will meet in Room 144 in the lower level of the building. \nIf any questions\, please reach out to Training@aresdec.org. \n \n\n\n	Related
URL:https://aresdec.org/event/aresdec-new-member-training-spring-class/2026-03-14/
LOCATION:PUMC – Parker United Methodist Church\, 11805 S Pine Drive\, Parker\, CO\, 80134\, United States
CATEGORIES:Training
END:VEVENT
BEGIN:VEVENT
DTSTART;TZID=America/Denver:20260302T183000
DTEND;TZID=America/Denver:20260302T203000
DTSTAMP:20260423T001107
CREATED:20251205T201703Z
LAST-MODIFIED:20251205T201704Z
UID:10004903-1772476200-1772483400@aresdec.org
SUMMARY:Monthly Staff Meeting
DESCRIPTION:Monthly ARES R1D5 Staff Meeting held in person and online via Microsoft Teams.  Link to Microsoft Teams will be provided before each Staff meeting.  In-Person location will remain the same each month unless advised otherwise. \n\n\n	Related
URL:https://aresdec.org/event/monthly-staff-meeting-2-2/2026-03-02/
LOCATION:PUMC – Parker United Methodist Church\, 11805 S Pine Drive\, Parker\, CO\, 80134\, United States
CATEGORIES:Staff Meetings
END:VEVENT
BEGIN:VEVENT
DTSTART;TZID=America/Denver:20260221T090000
DTEND;TZID=America/Denver:20260221T120000
DTSTAMP:20260423T001107
CREATED:20260111T195425Z
LAST-MODIFIED:20260111T200939Z
UID:10004868-1771664400-1771675200@aresdec.org
SUMMARY:Starlink Demo & Radio Firmware/Code Plug Update Workshop
DESCRIPTION:Each Spring\, ARES R1D5 members assemble together on a Saturday to help each other update radio firmware\, update code plugs and troubleshoot any radio issues in an effort to get our radios ready for the coming busy season of planned events and (potentially) unplanned activations.  We also share tips and techniques to improve our experience in the hobby. \nNEW THIS YEAR – STARLINK DEMO!!!! \nSince ARESDEC recently purchased a new Starlink system\, we will do a demo of the connectivity and bandwidth features available to us for planned events.  This will be fun.  We will do the demo at the BEGINNING Of the workshop\, in case there are people who are not planning on staying for the radio updates part. \nWe will begin at 0900 with the Starlink demonstration and then break into separate rooms based on radio model to update code plugs\, firmware and troubleshoot our radios.  We will have Elmers standing by to assist as needed. \nSo mark your calendar and bring your HT / mobile radio to the workshop.  Hopefully you’ll leave with a radio that is ready for the upcoming season of events. \nWe will meet in the Youth Room 144 in the lower level. \nIf you are willing to be an Elmer during one of these DMR workshops\, please reach out to Training@aresdec.org. \n \n  \n\n\n	Related
URL:https://aresdec.org/event/dmr-hands-on-workshop-2-2-2/
LOCATION:PUMC – Parker United Methodist Church\, 11805 S Pine Drive\, Parker\, CO\, 80134\, United States
CATEGORIES:Training
END:VEVENT
BEGIN:VEVENT
DTSTART;TZID=America/Denver:20260202T183000
DTEND;TZID=America/Denver:20260202T203000
DTSTAMP:20260423T001107
CREATED:20251205T201703Z
LAST-MODIFIED:20251205T201704Z
UID:10004902-1770057000-1770064200@aresdec.org
SUMMARY:Monthly Staff Meeting
DESCRIPTION:Monthly ARES R1D5 Staff Meeting held in person and online via Microsoft Teams.  Link to Microsoft Teams will be provided before each Staff meeting.  In-Person location will remain the same each month unless advised otherwise. \n\n\n	Related
URL:https://aresdec.org/event/monthly-staff-meeting-2-2/2026-02-02/
LOCATION:PUMC – Parker United Methodist Church\, 11805 S Pine Drive\, Parker\, CO\, 80134\, United States
CATEGORIES:Staff Meetings
END:VEVENT
BEGIN:VEVENT
DTSTART;TZID=America/Denver:20260105T183000
DTEND;TZID=America/Denver:20260105T203000
DTSTAMP:20260423T001107
CREATED:20251205T201703Z
LAST-MODIFIED:20251205T201704Z
UID:10004901-1767637800-1767645000@aresdec.org
SUMMARY:Monthly Staff Meeting
DESCRIPTION:Monthly ARES R1D5 Staff Meeting held in person and online via Microsoft Teams.  Link to Microsoft Teams will be provided before each Staff meeting.  In-Person location will remain the same each month unless advised otherwise. \n\n\n	Related
URL:https://aresdec.org/event/monthly-staff-meeting-2-2/2026-01-05/
LOCATION:PUMC – Parker United Methodist Church\, 11805 S Pine Drive\, Parker\, CO\, 80134\, United States
CATEGORIES:Staff Meetings
END:VEVENT
BEGIN:VEVENT
DTSTART;TZID=America/Denver:20251201T183000
DTEND;TZID=America/Denver:20251201T203000
DTSTAMP:20260423T001107
CREATED:20250610T182254Z
LAST-MODIFIED:20250711T175924Z
UID:10004900-1764613800-1764621000@aresdec.org
SUMMARY:Monthly Staff Meeting
DESCRIPTION:Monthly ARES R1D5 Staff Meeting held in person and via Microsoft Teams.  Link to Microsoft Teams will be provided before each Staff meeting.  In-Person location will remain the same each month unless advised otherwise. \n\n\n	Related
URL:https://aresdec.org/event/monthly-staff-meeting-2/2025-12-01/
LOCATION:PUMC – Parker United Methodist Church\, 11805 S Pine Drive\, Parker\, CO\, 80134\, United States
CATEGORIES:Staff Meetings
END:VEVENT
BEGIN:VEVENT
DTSTART;TZID=America/Denver:20251103T183000
DTEND;TZID=America/Denver:20251103T203000
DTSTAMP:20260423T001107
CREATED:20250610T182254Z
LAST-MODIFIED:20250711T175924Z
UID:10004899-1762194600-1762201800@aresdec.org
SUMMARY:Monthly Staff Meeting
DESCRIPTION:Monthly ARES R1D5 Staff Meeting held in person and via Microsoft Teams.  Link to Microsoft Teams will be provided before each Staff meeting.  In-Person location will remain the same each month unless advised otherwise. \n\n\n	Related
URL:https://aresdec.org/event/monthly-staff-meeting-2/2025-11-03/
LOCATION:PUMC – Parker United Methodist Church\, 11805 S Pine Drive\, Parker\, CO\, 80134\, United States
CATEGORIES:Staff Meetings
END:VEVENT
BEGIN:VEVENT
DTSTART;TZID=America/Denver:20251006T183000
DTEND;TZID=America/Denver:20251006T203000
DTSTAMP:20260423T001107
CREATED:20250610T182254Z
LAST-MODIFIED:20250711T175924Z
UID:10004898-1759775400-1759782600@aresdec.org
SUMMARY:Monthly Staff Meeting
DESCRIPTION:Monthly ARES R1D5 Staff Meeting held in person and via Microsoft Teams.  Link to Microsoft Teams will be provided before each Staff meeting.  In-Person location will remain the same each month unless advised otherwise. \n\n\n	Related
URL:https://aresdec.org/event/monthly-staff-meeting-2/2025-10-06/
LOCATION:PUMC – Parker United Methodist Church\, 11805 S Pine Drive\, Parker\, CO\, 80134\, United States
CATEGORIES:Staff Meetings
END:VEVENT
BEGIN:VEVENT
DTSTART;TZID=America/Denver:20250908T183000
DTEND;TZID=America/Denver:20250908T203000
DTSTAMP:20260423T001107
CREATED:20250711T175658Z
LAST-MODIFIED:20250825T150225Z
UID:10001174-1757356200-1757363400@aresdec.org
SUMMARY:Monthly Staff Meeting
DESCRIPTION:Monthly ARES R1D5 Staff Meeting held in person and via Microsoft Teams.  Link to Microsoft Teams will be provided before each Staff meeting.  In-Person location will remain the same each month unless advised otherwise. \n\n\n	Related
URL:https://aresdec.org/event/monthly-staff-meeting-3/
LOCATION:PUMC – Parker United Methodist Church\, 11805 S Pine Drive\, Parker\, CO\, 80134\, United States
CATEGORIES:Staff Meetings
END:VEVENT
BEGIN:VEVENT
DTSTART;TZID=America/Denver:20250804T183000
DTEND;TZID=America/Denver:20250804T203000
DTSTAMP:20260423T001107
CREATED:20250610T182254Z
LAST-MODIFIED:20250711T175924Z
UID:10004896-1754332200-1754339400@aresdec.org
SUMMARY:Monthly Staff Meeting
DESCRIPTION:Monthly ARES R1D5 Staff Meeting held in person and via Microsoft Teams.  Link to Microsoft Teams will be provided before each Staff meeting.  In-Person location will remain the same each month unless advised otherwise. \n\n\n	Related
URL:https://aresdec.org/event/monthly-staff-meeting-2/2025-08-04/
LOCATION:PUMC – Parker United Methodist Church\, 11805 S Pine Drive\, Parker\, CO\, 80134\, United States
CATEGORIES:Staff Meetings
END:VEVENT
BEGIN:VEVENT
DTSTART;TZID=America/Denver:20250707T183000
DTEND;TZID=America/Denver:20250707T203000
DTSTAMP:20260423T001107
CREATED:20250610T182254Z
LAST-MODIFIED:20250711T175924Z
UID:10001175-1751913000-1751920200@aresdec.org
SUMMARY:Monthly Staff Meeting
DESCRIPTION:Monthly ARES R1D5 Staff Meeting held in person and via Microsoft Teams.  Link to Microsoft Teams will be provided before each Staff meeting.  In-Person location will remain the same each month unless advised otherwise. \n\n\n	Related
URL:https://aresdec.org/event/monthly-staff-meeting-2/2025-07-07/
LOCATION:PUMC – Parker United Methodist Church\, 11805 S Pine Drive\, Parker\, CO\, 80134\, United States
CATEGORIES:Staff Meetings
END:VEVENT
BEGIN:VEVENT
DTSTART;TZID=America/Denver:20250512T183000
DTEND;TZID=America/Denver:20250512T203000
DTSTAMP:20260423T001107
CREATED:20241109T025740Z
LAST-MODIFIED:20241209T032219Z
UID:10001173-1747074600-1747081800@aresdec.org
SUMMARY:Monthly Staff Meeting
DESCRIPTION:Monthly ARES R1D5 Staff Meeting held in person and via Microsoft Teams.  Link to Microsoft Teams will be provided before each Staff meeting.  In-Person location will remain the same each month unless advised otherwise. \n\n\n	Related
URL:https://aresdec.org/event/monthly-staff-meeting/2025-05-12/
LOCATION:PUMC – Parker United Methodist Church\, 11805 S Pine Drive\, Parker\, CO\, 80134\, United States
CATEGORIES:Staff Meetings
END:VEVENT
BEGIN:VEVENT
DTSTART;TZID=America/Denver:20250414T183000
DTEND;TZID=America/Denver:20250414T203000
DTSTAMP:20260423T001107
CREATED:20241109T025740Z
LAST-MODIFIED:20241209T032219Z
UID:10001172-1744655400-1744662600@aresdec.org
SUMMARY:Monthly Staff Meeting
DESCRIPTION:Monthly ARES R1D5 Staff Meeting held in person and via Microsoft Teams.  Link to Microsoft Teams will be provided before each Staff meeting.  In-Person location will remain the same each month unless advised otherwise. \n\n\n	Related
URL:https://aresdec.org/event/monthly-staff-meeting/2025-04-14/
LOCATION:PUMC – Parker United Methodist Church\, 11805 S Pine Drive\, Parker\, CO\, 80134\, United States
CATEGORIES:Staff Meetings
END:VEVENT
BEGIN:VEVENT
DTSTART;TZID=America/Denver:20250310T183000
DTEND;TZID=America/Denver:20250310T203000
DTSTAMP:20260423T001107
CREATED:20241109T025740Z
LAST-MODIFIED:20241209T032219Z
UID:10001171-1741631400-1741638600@aresdec.org
SUMMARY:Monthly Staff Meeting
DESCRIPTION:Monthly ARES R1D5 Staff Meeting held in person and via Microsoft Teams.  Link to Microsoft Teams will be provided before each Staff meeting.  In-Person location will remain the same each month unless advised otherwise. \n\n\n	Related
URL:https://aresdec.org/event/monthly-staff-meeting/2025-03-10/
LOCATION:PUMC – Parker United Methodist Church\, 11805 S Pine Drive\, Parker\, CO\, 80134\, United States
CATEGORIES:Staff Meetings
END:VEVENT
BEGIN:VEVENT
DTSTART;TZID=America/Denver:20250215T090000
DTEND;TZID=America/Denver:20250215T120000
DTSTAMP:20260423T001107
CREATED:20241210T035905Z
LAST-MODIFIED:20250207T023707Z
UID:10004251-1739610000-1739620800@aresdec.org
SUMMARY:DMR Hands-On Workshop
DESCRIPTION:Each Spring\, ARES R1D5 members assemble together to help each other update radio firmware and DMR code plugs in preparation for the busy schedule of events we support each year.  We share tips and techniques to improve our understanding and use of DMR.   Finally\, we work together to test our DMR radios\, code plugs and troubleshoot any issues we might find. \nWe will begin the morning at 0900 with a presentation by Jerry\, AG7U on Roaming.  Afterwards\, we will break out into separate rooms based on a limited set of radio manufacturer / models\, and with the help of top notch “Elmers” standing by\, we will upgrade code plugs\, firmware and troubleshoot any issues we are having with our DMR code plug. \nSo mark your calendar and bring your HT / mobile radio to the workshop.  Hopefully you’ll leave with a radio that is ready for the upcoming season of planned activities and possible activations. \nWe will meet in the Youth Room 144 to start and break out to other rooms based on need and attendance. \nIf you are willing to be an Elmer during one of these DMR workshops\, please reach out to Training@aresdec.org. \n \n\n\n	Related
URL:https://aresdec.org/event/dmr-hands-on-workshop-2/
LOCATION:PUMC – Parker United Methodist Church\, 11805 S Pine Drive\, Parker\, CO\, 80134\, United States
CATEGORIES:Training
END:VEVENT
BEGIN:VEVENT
DTSTART;TZID=America/Denver:20250210T183000
DTEND;TZID=America/Denver:20250210T203000
DTSTAMP:20260423T001107
CREATED:20241109T025740Z
LAST-MODIFIED:20241209T032219Z
UID:10001170-1739212200-1739219400@aresdec.org
SUMMARY:Monthly Staff Meeting
DESCRIPTION:Monthly ARES R1D5 Staff Meeting held in person and via Microsoft Teams.  Link to Microsoft Teams will be provided before each Staff meeting.  In-Person location will remain the same each month unless advised otherwise. \n\n\n	Related
URL:https://aresdec.org/event/monthly-staff-meeting/2025-02-10/
LOCATION:PUMC – Parker United Methodist Church\, 11805 S Pine Drive\, Parker\, CO\, 80134\, United States
CATEGORIES:Staff Meetings
END:VEVENT
BEGIN:VEVENT
DTSTART;TZID=America/Denver:20250113T183000
DTEND;TZID=America/Denver:20250113T203000
DTSTAMP:20260423T001107
CREATED:20241109T025740Z
LAST-MODIFIED:20241209T032219Z
UID:10001169-1736793000-1736800200@aresdec.org
SUMMARY:Monthly Staff Meeting
DESCRIPTION:Monthly ARES R1D5 Staff Meeting held in person and via Microsoft Teams.  Link to Microsoft Teams will be provided before each Staff meeting.  In-Person location will remain the same each month unless advised otherwise. \n\n\n	Related
URL:https://aresdec.org/event/monthly-staff-meeting/2025-01-13/
LOCATION:PUMC – Parker United Methodist Church\, 11805 S Pine Drive\, Parker\, CO\, 80134\, United States
CATEGORIES:Staff Meetings
END:VEVENT
BEGIN:VEVENT
DTSTART;TZID=America/Denver:20241209T183000
DTEND;TZID=America/Denver:20241209T203000
DTSTAMP:20260423T001107
CREATED:20241109T025740Z
LAST-MODIFIED:20241209T032219Z
UID:10001168-1733769000-1733776200@aresdec.org
SUMMARY:Monthly Staff Meeting
DESCRIPTION:Monthly ARES R1D5 Staff Meeting held in person and via Microsoft Teams.  Link to Microsoft Teams will be provided before each Staff meeting.  In-Person location will remain the same each month unless advised otherwise. \n\n\n	Related
URL:https://aresdec.org/event/monthly-staff-meeting/2024-12-09/
LOCATION:PUMC – Parker United Methodist Church\, 11805 S Pine Drive\, Parker\, CO\, 80134\, United States
CATEGORIES:Staff Meetings
END:VEVENT
BEGIN:VEVENT
DTSTART;TZID=America/Denver:20241111T183000
DTEND;TZID=America/Denver:20241111T203000
DTSTAMP:20260423T001107
CREATED:20241109T025740Z
LAST-MODIFIED:20241209T032219Z
UID:10001167-1731349800-1731357000@aresdec.org
SUMMARY:Monthly Staff Meeting
DESCRIPTION:Monthly ARES R1D5 Staff Meeting held in person and via Microsoft Teams.  Link to Microsoft Teams will be provided before each Staff meeting.  In-Person location will remain the same each month unless advised otherwise. \n\n\n	Related
URL:https://aresdec.org/event/monthly-staff-meeting/2024-11-11/
LOCATION:PUMC – Parker United Methodist Church\, 11805 S Pine Drive\, Parker\, CO\, 80134\, United States
CATEGORIES:Staff Meetings
END:VEVENT
BEGIN:VEVENT
DTSTART;TZID=America/Denver:20240420T080000
DTEND;TZID=America/Denver:20240420T120000
DTSTAMP:20260423T001107
CREATED:20240318T015409Z
LAST-MODIFIED:20240331T215740Z
UID:10000910-1713600000-1713614400@aresdec.org
SUMMARY:Introduction to DMR Programming
DESCRIPTION:Do you know what DMR is all about?  Do you know how it works?  Do you know how to code a DMR enabled code plug for your HT or mobile radio?  If you answered ‘NO’\, we have a workshop for you! \nBrad / W0BDT will lead us through an Introduction to DMR programming workshop to help us understand DMR terminology and what it takes to create a DMR code plug.  We will then break out into separate groups based on select radio manufacturer / models and be led by Elmers who will help us upgrade our code plugs\, update firmware if needed and troubleshoot any issues we are having with our DMR code plug. \nSo mark your calendar and bring your HT / mobile radio to the workshop.  You’ll leave with updated code plugs and a radio ready to use for the upcoming season of planned activities and possible activations. \nWe will meet in the Youth Room 144 to start and break out to Room 138 and other rooms as necessary. \nIf any questions\, please contact Training@aresdec.org. \n\n\n	Related
URL:https://aresdec.org/event/introduction-to-dmr-dmr-programming/
LOCATION:PUMC – Parker United Methodist Church\, 11805 S Pine Drive\, Parker\, CO\, 80134\, United States
CATEGORIES:Training
END:VEVENT
END:VCALENDAR