BEGIN:VCALENDAR
VERSION:2.0
PRODID:-//ARESDEC - ECPv6.15.20//NONSGML v1.0//EN
CALSCALE:GREGORIAN
METHOD:PUBLISH
X-ORIGINAL-URL:https://aresdec.org
X-WR-CALDESC:Events for ARESDEC
REFRESH-INTERVAL;VALUE=DURATION:PT1H
X-Robots-Tag:noindex
X-PUBLISHED-TTL:PT1H
BEGIN:VTIMEZONE
TZID:America/Denver
BEGIN:DAYLIGHT
TZOFFSETFROM:-0700
TZOFFSETTO:-0600
TZNAME:MDT
DTSTART:20250309T090000
END:DAYLIGHT
BEGIN:STANDARD
TZOFFSETFROM:-0600
TZOFFSETTO:-0700
TZNAME:MST
DTSTART:20251102T080000
END:STANDARD
BEGIN:DAYLIGHT
TZOFFSETFROM:-0700
TZOFFSETTO:-0600
TZNAME:MDT
DTSTART:20260308T090000
END:DAYLIGHT
BEGIN:STANDARD
TZOFFSETFROM:-0600
TZOFFSETTO:-0700
TZNAME:MST
DTSTART:20261101T080000
END:STANDARD
BEGIN:DAYLIGHT
TZOFFSETFROM:-0700
TZOFFSETTO:-0600
TZNAME:MDT
DTSTART:20270314T090000
END:DAYLIGHT
BEGIN:STANDARD
TZOFFSETFROM:-0600
TZOFFSETTO:-0700
TZNAME:MST
DTSTART:20271107T080000
END:STANDARD
END:VTIMEZONE
BEGIN:VEVENT
DTSTART;TZID=America/Denver:20260723T190000
DTEND;TZID=America/Denver:20260723T210000
DTSTAMP:20260422T234334
CREATED:20241111T012530Z
LAST-MODIFIED:20260110T002938Z
UID:10000456-1784833200-1784840400@aresdec.org
SUMMARY:Face-to-Face Meeting:  ARRL Field Day Report & BCARES Analog/Digital TV Demonstration
DESCRIPTION:We have a really great program planned for the July Face-to-Face meeting. \nOur Field Day MC’s will share the results from our recent Field Day event held at Hess Reservoir.  It’s one of the highlights of each season for the team.  We always look forward to this presentation\, showing the highlights and fun that was had by all.  It’s quite an event to plan\, prepare\, setup and sponsor each year.  It takes many people and months of planning to make this a successful event. \nWe’ll also have the opportunity to meet the team from BCARES (Boulder County ARES) who will demonstrate both analog and digital TV and explain how they use it in their activities. \nWe look forward to this Face-to-Face.  Come and join us!   For more information\, please contact us at Training@aresdec.org. \n        \n\n\n	Related
URL:https://aresdec.org/event/face-to-face-7-24-2025/
LOCATION:NB – New Beginning Community Church\, 10550 S Progress Way #100\, Parker\, CO\, 80134\, United States
CATEGORIES:Face-to-Face Meetings
END:VEVENT
BEGIN:VEVENT
DTSTART;TZID=America/Denver:20260924T190000
DTEND;TZID=America/Denver:20260924T210000
DTSTAMP:20260422T234334
CREATED:20240308T031129Z
LAST-MODIFIED:20260304T041030Z
UID:10000442-1790276400-1790283600@aresdec.org
SUMMARY:Face-to-Face:  Your Ham Shack: Installing Coax Panel and Grounding Considerations
DESCRIPTION:Have you thought about building a Ham Shack at your QTH?   What goes into building one properly and using proper grounding practices? \nBrad W0BDT completed a project with his QTH and documented his story.  He will share with us a step-by-step guide to how he installed his coax panel and related grounding.  He will share with us what his experiences were and what considerations we should consider when undertaking a similar project.  He’ll also share with us how he setup his shack to properly manage exterior antennas.  It will be worth your time! \nAll interested amateur radio operators – or those interested in becoming amateur radio operators are welcome to attend the Face-to-Face meeting.  Please come and join us. \nFor more information\, please contact us at Training@aresdec.org. \n \n\n\n	Related
URL:https://aresdec.org/event/face-to-face-2-6-2/
LOCATION:NB – New Beginning Community Church\, 10550 S Progress Way #100\, Parker\, CO\, 80134\, United States
CATEGORIES:Face-to-Face Meetings
END:VEVENT
END:VCALENDAR