BEGIN:VCALENDAR
VERSION:2.0
PRODID:-//ARESDEC - ECPv6.15.20//NONSGML v1.0//EN
CALSCALE:GREGORIAN
METHOD:PUBLISH
X-ORIGINAL-URL:https://aresdec.org
X-WR-CALDESC:Events for ARESDEC
REFRESH-INTERVAL;VALUE=DURATION:PT1H
X-Robots-Tag:noindex
X-PUBLISHED-TTL:PT1H
BEGIN:VTIMEZONE
TZID:America/Denver
BEGIN:DAYLIGHT
TZOFFSETFROM:-0700
TZOFFSETTO:-0600
TZNAME:MDT
DTSTART:20250309T090000
END:DAYLIGHT
BEGIN:STANDARD
TZOFFSETFROM:-0600
TZOFFSETTO:-0700
TZNAME:MST
DTSTART:20251102T080000
END:STANDARD
BEGIN:DAYLIGHT
TZOFFSETFROM:-0700
TZOFFSETTO:-0600
TZNAME:MDT
DTSTART:20260308T090000
END:DAYLIGHT
BEGIN:STANDARD
TZOFFSETFROM:-0600
TZOFFSETTO:-0700
TZNAME:MST
DTSTART:20261101T080000
END:STANDARD
BEGIN:DAYLIGHT
TZOFFSETFROM:-0700
TZOFFSETTO:-0600
TZNAME:MDT
DTSTART:20270314T090000
END:DAYLIGHT
BEGIN:STANDARD
TZOFFSETFROM:-0600
TZOFFSETTO:-0700
TZNAME:MST
DTSTART:20271107T080000
END:STANDARD
BEGIN:DAYLIGHT
TZOFFSETFROM:-0700
TZOFFSETTO:-0600
TZNAME:MDT
DTSTART:20280312T090000
END:DAYLIGHT
BEGIN:STANDARD
TZOFFSETFROM:-0600
TZOFFSETTO:-0700
TZNAME:MST
DTSTART:20281105T080000
END:STANDARD
BEGIN:DAYLIGHT
TZOFFSETFROM:-0700
TZOFFSETTO:-0600
TZNAME:MDT
DTSTART:20290311T090000
END:DAYLIGHT
BEGIN:STANDARD
TZOFFSETFROM:-0600
TZOFFSETTO:-0700
TZNAME:MST
DTSTART:20291104T080000
END:STANDARD
BEGIN:DAYLIGHT
TZOFFSETFROM:-0700
TZOFFSETTO:-0600
TZNAME:MDT
DTSTART:20300310T090000
END:DAYLIGHT
BEGIN:STANDARD
TZOFFSETFROM:-0600
TZOFFSETTO:-0700
TZNAME:MST
DTSTART:20301103T080000
END:STANDARD
BEGIN:DAYLIGHT
TZOFFSETFROM:-0700
TZOFFSETTO:-0600
TZNAME:MDT
DTSTART:20310309T090000
END:DAYLIGHT
BEGIN:STANDARD
TZOFFSETFROM:-0600
TZOFFSETTO:-0700
TZNAME:MST
DTSTART:20311102T080000
END:STANDARD
END:VTIMEZONE
BEGIN:VEVENT
DTSTART;VALUE=DATE:20260725
DTEND;VALUE=DATE:20260803
DTSTAMP:20260423T040857
CREATED:20231229T043523Z
LAST-MODIFIED:20251211T195445Z
UID:10002767-1784937600-1785715199@aresdec.org
SUMMARY:Elbert County Fair & Rodeo
DESCRIPTION:The Elbert County Office of Emergency Management (OEM) provides the request for County Fair ARES® support to provide situational awareness\, weather monitoring and reporting\, staff coordination\, and onsite safety.  We will work from an on-site Safety Station\, monitor radio communications\, and relay traffic as directed by Elbert County Fair Board Leadership. We will again be using DTRS (public safety radios) and those R1D5 members with Elbert County EOC training are highly desired\, but not required\, for this event. \nRADOs needed to cover the entire event. \nEvent website: https://www.elbertcountyfair.com/ \n \n\n\n	Related
URL:https://aresdec.org/event/elbert-county-fair-2024/2026-07-25/
LOCATION:Elbert County Fairground\, 95 Ute Ave\, Kiowa\, CO\, 80117\, United States
CATEGORIES:Event
END:VEVENT
BEGIN:VEVENT
DTSTART;VALUE=DATE:20270724
DTEND;VALUE=DATE:20270802
DTSTAMP:20260423T040857
CREATED:20231229T043523Z
LAST-MODIFIED:20251211T195445Z
UID:10002768-1816387200-1817164799@aresdec.org
SUMMARY:Elbert County Fair & Rodeo
DESCRIPTION:The Elbert County Office of Emergency Management (OEM) provides the request for County Fair ARES® support to provide situational awareness\, weather monitoring and reporting\, staff coordination\, and onsite safety.  We will work from an on-site Safety Station\, monitor radio communications\, and relay traffic as directed by Elbert County Fair Board Leadership. We will again be using DTRS (public safety radios) and those R1D5 members with Elbert County EOC training are highly desired\, but not required\, for this event. \nRADOs needed to cover the entire event. \nEvent website: https://www.elbertcountyfair.com/ \n \n\n\n	Related
URL:https://aresdec.org/event/elbert-county-fair-2024/2027-07-24/
LOCATION:Elbert County Fairground\, 95 Ute Ave\, Kiowa\, CO\, 80117\, United States
CATEGORIES:Event
END:VEVENT
BEGIN:VEVENT
DTSTART;VALUE=DATE:20280722
DTEND;VALUE=DATE:20280731
DTSTAMP:20260423T040857
CREATED:20231229T043523Z
LAST-MODIFIED:20251211T195445Z
UID:10002769-1847836800-1848614399@aresdec.org
SUMMARY:Elbert County Fair & Rodeo
DESCRIPTION:The Elbert County Office of Emergency Management (OEM) provides the request for County Fair ARES® support to provide situational awareness\, weather monitoring and reporting\, staff coordination\, and onsite safety.  We will work from an on-site Safety Station\, monitor radio communications\, and relay traffic as directed by Elbert County Fair Board Leadership. We will again be using DTRS (public safety radios) and those R1D5 members with Elbert County EOC training are highly desired\, but not required\, for this event. \nRADOs needed to cover the entire event. \nEvent website: https://www.elbertcountyfair.com/ \n \n\n\n	Related
URL:https://aresdec.org/event/elbert-county-fair-2024/2028-07-22/
LOCATION:Elbert County Fairground\, 95 Ute Ave\, Kiowa\, CO\, 80117\, United States
CATEGORIES:Event
END:VEVENT
BEGIN:VEVENT
DTSTART;VALUE=DATE:20290728
DTEND;VALUE=DATE:20290806
DTSTAMP:20260423T040857
CREATED:20231229T043523Z
LAST-MODIFIED:20251211T195445Z
UID:10002770-1879891200-1880668799@aresdec.org
SUMMARY:Elbert County Fair & Rodeo
DESCRIPTION:The Elbert County Office of Emergency Management (OEM) provides the request for County Fair ARES® support to provide situational awareness\, weather monitoring and reporting\, staff coordination\, and onsite safety.  We will work from an on-site Safety Station\, monitor radio communications\, and relay traffic as directed by Elbert County Fair Board Leadership. We will again be using DTRS (public safety radios) and those R1D5 members with Elbert County EOC training are highly desired\, but not required\, for this event. \nRADOs needed to cover the entire event. \nEvent website: https://www.elbertcountyfair.com/ \n \n\n\n	Related
URL:https://aresdec.org/event/elbert-county-fair-2024/2029-07-28/
LOCATION:Elbert County Fairground\, 95 Ute Ave\, Kiowa\, CO\, 80117\, United States
CATEGORIES:Event
END:VEVENT
BEGIN:VEVENT
DTSTART;VALUE=DATE:20300727
DTEND;VALUE=DATE:20300805
DTSTAMP:20260423T040857
CREATED:20231229T043523Z
LAST-MODIFIED:20251211T195445Z
UID:10005021-1911340800-1912118399@aresdec.org
SUMMARY:Elbert County Fair & Rodeo
DESCRIPTION:The Elbert County Office of Emergency Management (OEM) provides the request for County Fair ARES® support to provide situational awareness\, weather monitoring and reporting\, staff coordination\, and onsite safety.  We will work from an on-site Safety Station\, monitor radio communications\, and relay traffic as directed by Elbert County Fair Board Leadership. We will again be using DTRS (public safety radios) and those R1D5 members with Elbert County EOC training are highly desired\, but not required\, for this event. \nRADOs needed to cover the entire event. \nEvent website: https://www.elbertcountyfair.com/ \n \n\n\n	Related
URL:https://aresdec.org/event/elbert-county-fair-2024/2030-07-27/
LOCATION:Elbert County Fairground\, 95 Ute Ave\, Kiowa\, CO\, 80117\, United States
CATEGORIES:Event
END:VEVENT
END:VCALENDAR