BEGIN:VCALENDAR
VERSION:2.0
PRODID:-//ARESDEC - ECPv6.15.20//NONSGML v1.0//EN
CALSCALE:GREGORIAN
METHOD:PUBLISH
X-WR-CALNAME:ARESDEC
X-ORIGINAL-URL:https://aresdec.org
X-WR-CALDESC:Events for ARESDEC
REFRESH-INTERVAL;VALUE=DURATION:PT1H
X-Robots-Tag:noindex
X-PUBLISHED-TTL:PT1H
BEGIN:VTIMEZONE
TZID:America/Denver
BEGIN:DAYLIGHT
TZOFFSETFROM:-0700
TZOFFSETTO:-0600
TZNAME:MDT
DTSTART:20230312T090000
END:DAYLIGHT
BEGIN:STANDARD
TZOFFSETFROM:-0600
TZOFFSETTO:-0700
TZNAME:MST
DTSTART:20231105T080000
END:STANDARD
BEGIN:DAYLIGHT
TZOFFSETFROM:-0700
TZOFFSETTO:-0600
TZNAME:MDT
DTSTART:20240310T090000
END:DAYLIGHT
BEGIN:STANDARD
TZOFFSETFROM:-0600
TZOFFSETTO:-0700
TZNAME:MST
DTSTART:20241103T080000
END:STANDARD
BEGIN:DAYLIGHT
TZOFFSETFROM:-0700
TZOFFSETTO:-0600
TZNAME:MDT
DTSTART:20250309T090000
END:DAYLIGHT
BEGIN:STANDARD
TZOFFSETFROM:-0600
TZOFFSETTO:-0700
TZNAME:MST
DTSTART:20251102T080000
END:STANDARD
BEGIN:DAYLIGHT
TZOFFSETFROM:-0700
TZOFFSETTO:-0600
TZNAME:MDT
DTSTART:20260308T090000
END:DAYLIGHT
BEGIN:STANDARD
TZOFFSETFROM:-0600
TZOFFSETTO:-0700
TZNAME:MST
DTSTART:20261101T080000
END:STANDARD
END:VTIMEZONE
BEGIN:VEVENT
DTSTART;VALUE=DATE:20250726
DTEND;VALUE=DATE:20250804
DTSTAMP:20260423T053750
CREATED:20231229T043523Z
LAST-MODIFIED:20251211T195445Z
UID:10002766-1753488000-1754265599@aresdec.org
SUMMARY:Elbert County Fair & Rodeo
DESCRIPTION:The Elbert County Office of Emergency Management (OEM) provides the request for County Fair ARES® support to provide situational awareness\, weather monitoring and reporting\, staff coordination\, and onsite safety.  We will work from an on-site Safety Station\, monitor radio communications\, and relay traffic as directed by Elbert County Fair Board Leadership. We will again be using DTRS (public safety radios) and those R1D5 members with Elbert County EOC training are highly desired\, but not required\, for this event. \nRADOs needed to cover the entire event. \nEvent website: https://www.elbertcountyfair.com/ \n \n\n\n	Related
URL:https://aresdec.org/event/elbert-county-fair-2024/2025-07-26/
LOCATION:Elbert County Fairground\, 95 Ute Ave\, Kiowa\, CO\, 80117\, United States
CATEGORIES:Event
END:VEVENT
BEGIN:VEVENT
DTSTART;VALUE=DATE:20240727
DTEND;VALUE=DATE:20240805
DTSTAMP:20260423T053750
CREATED:20231229T043523Z
LAST-MODIFIED:20251211T195445Z
UID:10000825-1722038400-1722815999@aresdec.org
SUMMARY:Elbert County Fair & Rodeo
DESCRIPTION:The Elbert County Office of Emergency Management (OEM) provides the request for County Fair ARES® support to provide situational awareness\, weather monitoring and reporting\, staff coordination\, and onsite safety.  We will work from an on-site Safety Station\, monitor radio communications\, and relay traffic as directed by Elbert County Fair Board Leadership. We will again be using DTRS (public safety radios) and those R1D5 members with Elbert County EOC training are highly desired\, but not required\, for this event. \nRADOs needed to cover the entire event. \nEvent website: https://www.elbertcountyfair.com/ \n \n\n\n	Related
URL:https://aresdec.org/event/elbert-county-fair-2024/2024-07-27/
LOCATION:Elbert County Fairground\, 95 Ute Ave\, Kiowa\, CO\, 80117\, United States
CATEGORIES:Event
END:VEVENT
END:VCALENDAR