BEGIN:VCALENDAR
VERSION:2.0
PRODID:-//ARESDEC - ECPv6.15.20//NONSGML v1.0//EN
CALSCALE:GREGORIAN
METHOD:PUBLISH
X-WR-CALNAME:ARESDEC
X-ORIGINAL-URL:https://aresdec.org
X-WR-CALDESC:Events for ARESDEC
REFRESH-INTERVAL;VALUE=DURATION:PT1H
X-Robots-Tag:noindex
X-PUBLISHED-TTL:PT1H
BEGIN:VTIMEZONE
TZID:America/Denver
BEGIN:DAYLIGHT
TZOFFSETFROM:-0700
TZOFFSETTO:-0600
TZNAME:MDT
DTSTART:20220313T090000
END:DAYLIGHT
BEGIN:STANDARD
TZOFFSETFROM:-0600
TZOFFSETTO:-0700
TZNAME:MST
DTSTART:20221106T080000
END:STANDARD
BEGIN:DAYLIGHT
TZOFFSETFROM:-0700
TZOFFSETTO:-0600
TZNAME:MDT
DTSTART:20230312T090000
END:DAYLIGHT
BEGIN:STANDARD
TZOFFSETFROM:-0600
TZOFFSETTO:-0700
TZNAME:MST
DTSTART:20231105T080000
END:STANDARD
BEGIN:DAYLIGHT
TZOFFSETFROM:-0700
TZOFFSETTO:-0600
TZNAME:MDT
DTSTART:20240310T090000
END:DAYLIGHT
BEGIN:STANDARD
TZOFFSETFROM:-0600
TZOFFSETTO:-0700
TZNAME:MST
DTSTART:20241103T080000
END:STANDARD
BEGIN:DAYLIGHT
TZOFFSETFROM:-0700
TZOFFSETTO:-0600
TZNAME:MDT
DTSTART:20250309T090000
END:DAYLIGHT
BEGIN:STANDARD
TZOFFSETFROM:-0600
TZOFFSETTO:-0700
TZNAME:MST
DTSTART:20251102T080000
END:STANDARD
BEGIN:DAYLIGHT
TZOFFSETFROM:-0700
TZOFFSETTO:-0600
TZNAME:MDT
DTSTART:20260308T090000
END:DAYLIGHT
BEGIN:STANDARD
TZOFFSETFROM:-0600
TZOFFSETTO:-0700
TZNAME:MST
DTSTART:20261101T080000
END:STANDARD
END:VTIMEZONE
BEGIN:VEVENT
DTSTART;VALUE=DATE:20251101
DTEND;VALUE=DATE:20251102
DTSTAMP:20260423T053445
CREATED:20250918T180214Z
LAST-MODIFIED:20250923T004838Z
UID:10002772-1761955200-1762041599@aresdec.org
SUMMARY:Colorado State Simulated Emergency Test (SET)
DESCRIPTION:ARRL’s annual Simulated Emergency Test (SET) for Colorado is usually scheduled sometime during the Fall each year.  This year it falls on November 1st. \nThis nationwide exercise is the chance to test personal emergency-operating skills and the readiness of communications equipment and accessories in a simulated emergency-like deployment.  The ARRL’s Amateur Radio Emergency Service ® (ARES®)\, the National Traffic System (NTS)\, the Radio Amateur Civil Emergency Service (RACES)\, SKYWARN\, Community Emergency Response Team (CERT)\, Salvation Army Team Emergency Radio Network (SATERN)\, and other allied groups and public-service oriented radio amateurs are among those who are eligible to participate in the simulated exercise and to practice emergency operation plans\, nets and procedures. \nThis year the Colorado ARES Section will organize a coordinated communications exercise for all Colorado regions and districts.  The scenario and injects have not yet been developed or announced.  The annual exercise promises to test our radio skills and equipment abilities.  We may operate from each of our served agency’s EOC and Hospital’s Emergency Radio room. \nIt’s a great opportunity to participate and develop skills that are invaluable if the crisis were the real thing!  Time and duration of the event to be provided by leadership.  If you want to participate\, please contact OPS@aresdec.org.   For more information about our training opportunities\, please contact Training@aresdec.org. \n \n\n\n	Related
URL:https://aresdec.org/event/colorado-state-simulated-emergency-test-set-2024-2-2/
LOCATION:Douglas County EOC\, 4000 Justice Way\, Castle Rock\, CO\, 80109\, United States
CATEGORIES:SET (Simulated Emergency Test)
END:VEVENT
BEGIN:VEVENT
DTSTART;VALUE=DATE:20241026
DTEND;VALUE=DATE:20241027
DTSTAMP:20260423T053445
CREATED:20240313T011307Z
LAST-MODIFIED:20241111T171428Z
UID:10002771-1729900800-1729987199@aresdec.org
SUMMARY:Colorado State Simulated Emergency Test (SET)
DESCRIPTION:ARRL’s annual Simulated Emergency Test (SET) for Colorado is usually scheduled for the 4th Saturday in October each year.  This nationwide exercise is the chance to test personal emergency-operating skills and the readiness of communications equipment and accessories in a simulated emergency-like deployment.  The ARRL’s Amateur Radio Emergency Service ® (ARES®)\, the National Traffic System (NTS)\, the Radio Amateur Civil Emergency Service (RACES)\, SKYWARN\, Community Emergency Response Team (CERT)\, Salvation Army Team Emergency Radio Network (SATERN)\, and other allied groups and public-service oriented radio amateurs are among those who are eligible to participate in the simulated exercise and to practice emergency operation plans\, nets and procedures. \nThis year the Colorado ARES Section will organize a coordinated communications exercise for all Colorado regions and districts.  The scenario and injects have not yet been developed or announced.  The annual exercise promises to test our radio skills and equipment abilities.  We will operate from each of our serve agency’s EOC and Hospital’s Emergency Radio room. \nIt’s a great opportunity to participate as if it were the real thing!  Time and duration of the event TBD. \nStay tuned for more information as we get closer to the date! \n \n\n\n	Related
URL:https://aresdec.org/event/colorado-state-simulated-emergency-test-set-2024/
LOCATION:Douglas County EOC\, 4000 Justice Way\, Castle Rock\, CO\, 80109\, United States
CATEGORIES:SET (Simulated Emergency Test)
END:VEVENT
BEGIN:VEVENT
DTSTART;TZID=America/Denver:20240605T190000
DTEND;TZID=America/Denver:20240605T210000
DTSTAMP:20260423T053445
CREATED:20240419T193825Z
LAST-MODIFIED:20240422T192834Z
UID:10000911-1717614000-1717621200@aresdec.org
SUMMARY:Elbert County ICP (Incident Command Post) Training
DESCRIPTION:Elbert OEM and ARES have agreed to a date for ICP training that is required for those working volunteering to work the 2024 Elizabeth Stampede ICP. Other Elbert County EOC-badged ARES members are welcome to attend the ICP training even if they are not working the event.\n\nTraining Time:    1900-2100\nLocation:          Elbert County EOC\, 751 Ute Ave.\, Kiowa CO 80117\nPurpose:           The ICP training will prepare ARES members to monitor and operate public safety radio systems during the 2024 Elizabeth Stampede to enhance Life Safety\, Incident Stabilization\, and Property Protection.\nTraining Overview:  Members will be familiarized with the Elizabeth Stampede EOP (Emergency Operations Plan)\, Public Safety radios\, and ICP procedures including monitoring radios\, maintaining Situational Awareness (SA)\, making Calls for Service\, and reporting anticipated adverse weather to rodeo officials.\n          \n\n\n\n	Related
URL:https://aresdec.org/event/elbert-county-icp-incident-command-post-training/
LOCATION:Elbert County EOC\, 751 Ute Ave\, Kiowa\, CO\, 80117\, United States
CATEGORIES:Training
END:VEVENT
BEGIN:VEVENT
DTSTART;TZID=America/Denver:20230927T180000
DTEND;TZID=America/Denver:20230927T200000
DTSTAMP:20260423T053445
CREATED:20230829T141506Z
LAST-MODIFIED:20230829T141506Z
UID:10000508-1695837600-1695844800@aresdec.org
SUMMARY:Elbert County EOC Orientation
DESCRIPTION:This orientation is provided to those R1D5 members who desire to be specially qualified to serve in the Elbert County Emergency Operations Center (EOC) in the ESF-2 Communications capacity. These specially qualified individuals \, known as the ESF-2 Cadre\, will be the first called when the ESF-2 function is required during an Elbert County EOC activation. \nThe two-hour orientation required to be on the ESF-2 Cadre: \nDay/date: Wed 9/27\nTime: 1800-2000\nPlace: Elbert County EOC in Kiowa\, 751 Ute Ave\, Kiowa\, CO 80117 \nFor additional information\, contact the ARES R1D5 Elbert County Liaison\, Kelly English/W0KDE. \n\n\n	Related
URL:https://aresdec.org/event/elbert-county-eoc-orientation/
LOCATION:Elbert County EOC\, 751 Ute Ave\, Kiowa\, CO\, 80117\, United States
CATEGORIES:Training
ATTACH;FMTTYPE=image/png:https://aresdec.org/wp-content/uploads/2023/08/Elbert-County-Emergency-Management.png
END:VEVENT
END:VCALENDAR