BEGIN:VCALENDAR
VERSION:2.0
PRODID:-//ARESDEC - ECPv6.15.20//NONSGML v1.0//EN
CALSCALE:GREGORIAN
METHOD:PUBLISH
X-ORIGINAL-URL:https://aresdec.org
X-WR-CALDESC:Events for ARESDEC
REFRESH-INTERVAL;VALUE=DURATION:PT1H
X-Robots-Tag:noindex
X-PUBLISHED-TTL:PT1H
BEGIN:VTIMEZONE
TZID:America/Denver
BEGIN:DAYLIGHT
TZOFFSETFROM:-0700
TZOFFSETTO:-0600
TZNAME:MDT
DTSTART:20230312T090000
END:DAYLIGHT
BEGIN:STANDARD
TZOFFSETFROM:-0600
TZOFFSETTO:-0700
TZNAME:MST
DTSTART:20231105T080000
END:STANDARD
BEGIN:DAYLIGHT
TZOFFSETFROM:-0700
TZOFFSETTO:-0600
TZNAME:MDT
DTSTART:20240310T090000
END:DAYLIGHT
BEGIN:STANDARD
TZOFFSETFROM:-0600
TZOFFSETTO:-0700
TZNAME:MST
DTSTART:20241103T080000
END:STANDARD
BEGIN:DAYLIGHT
TZOFFSETFROM:-0700
TZOFFSETTO:-0600
TZNAME:MDT
DTSTART:20250309T090000
END:DAYLIGHT
BEGIN:STANDARD
TZOFFSETFROM:-0600
TZOFFSETTO:-0700
TZNAME:MST
DTSTART:20251102T080000
END:STANDARD
BEGIN:DAYLIGHT
TZOFFSETFROM:-0700
TZOFFSETTO:-0600
TZNAME:MDT
DTSTART:20260308T090000
END:DAYLIGHT
BEGIN:STANDARD
TZOFFSETFROM:-0600
TZOFFSETTO:-0700
TZNAME:MST
DTSTART:20261101T080000
END:STANDARD
END:VTIMEZONE
BEGIN:VEVENT
DTSTART;TZID=America/Denver:20250426T083000
DTEND;TZID=America/Denver:20250426T120000
DTSTAMP:20260423T190824
CREATED:20241113T015637Z
LAST-MODIFIED:20241216T013721Z
UID:10004234-1745656200-1745668800@aresdec.org
SUMMARY:RMHAM University - Grounding and lightning protection
DESCRIPTION:2024-2025 RMHAM U Season is here.\nThere’s no charge for our classes and everyone is welcome in person\, or online. \nClasses will be both in person at the Cherry Creek Schools Educational Services Center\, 4700 South Yosemite Street\, Greenwood Village\, CO  but will but will also be simulcast on Zoom.  Many of the classes are in the form of a lab\, so we are looking forward to meeting in person.  RMHAM University full length classes are scheduled from 8:30AM to Noon on the listed day.  Once you sign up\, you will have access to the zoom information in the registration system.  You may ask questions via chat or via your microphone. \nAll of our courses are free to the public\, but you will need to register to get the Zoom meeting information. \nToday’s Workshop – Grounding and lightning protection\nHow not to get you or your equipment zapped by lightning.\nZoom Meeting ID: 899 2441 6627 Passcode: 588286 \nPresented by: Mike K7AIH \nBesides watching via Zoom\, classes will also be in person at: \nCherry Creek Schools ESC\n4700 S. Yosemite Street\nGreenwood Village\, CO 80111 \n  \n\n\n	Related
URL:https://aresdec.org/event/rmham-university-workshop-apr25/
LOCATION:Cherry Creek Schools ESC\, 4700 S. Yosemite Street\, Greenwood Village\, CO\, 80111\, United States
CATEGORIES:Training
END:VEVENT
BEGIN:VEVENT
DTSTART;TZID=America/Denver:20250308T083000
DTEND;TZID=America/Denver:20250308T120000
DTSTAMP:20260423T190824
CREATED:20241113T015518Z
LAST-MODIFIED:20241216T013630Z
UID:10004233-1741422600-1741435200@aresdec.org
SUMMARY:RMHAM University - Antenna Workshop
DESCRIPTION:2024-2025 RMHAM U Season is here.\nThere’s no charge for our classes and everyone is welcome in person\, or online. \nClasses will be both in person at the Cherry Creek Schools Educational Services Center\, 4700 South Yosemite Street\, Greenwood Village\, CO  but will but will also be simulcast on Zoom.  Many of the classes are in the form of a lab\, so we are looking forward to meeting in person.  RMHAM University full length classes are scheduled from 8:30AM to Noon on the listed day.  Once you sign up\, you will have access to the zoom information in the registration system.  You may ask questions via chat or via your microphone. \nAll of our courses are free to the public\, but you will need to register to get the Zoom meeting information. \nToday’s Workshop – Antenna Workshop\nAntennas for HF and VHF. Transmission lines\, different HF antennas (dipole\, OCF\, Zepp\, bazooka\, multi-band\, trapped\, vertical\, beams)\, building and tuning wire antennas\, yagis\, trapped\, etc. Oriented at practical considerations\, stealth\, size and height\, etc.\nZoom Meeting ID: 851 4738 2641 Passcode: 029353 \nPresented by: Doug K2AD and Willem AC0KQ \nBesides watching via Zoom\, classes will also be in person at: \nCherry Creek Schools ESC\n4700 S. Yosemite Street\nGreenwood Village\, CO 80111 \n  \n\n\n	Related
URL:https://aresdec.org/event/rmham-university-workshop-mar25/
LOCATION:Cherry Creek Schools ESC\, 4700 S. Yosemite Street\, Greenwood Village\, CO\, 80111\, United States
CATEGORIES:Training
END:VEVENT
BEGIN:VEVENT
DTSTART;TZID=America/Denver:20250215T083000
DTEND;TZID=America/Denver:20250215T120000
DTSTAMP:20260423T190824
CREATED:20241113T015342Z
LAST-MODIFIED:20241216T013541Z
UID:10004232-1739608200-1739620800@aresdec.org
SUMMARY:RMHAM University - Nerdfest
DESCRIPTION:2024-2025 RMHAM U Season is here.\nThere’s no charge for our classes and everyone is welcome in person\, or online. \nClasses will be both in person at the Cherry Creek Schools Educational Services Center\, 4700 South Yosemite Street\, Greenwood Village\, CO  but will but will also be simulcast on Zoom.  Many of the classes are in the form of a lab\, so we are looking forward to meeting in person.  RMHAM University full length classes are scheduled from 8:30AM to Noon on the listed day.  Once you sign up\, you will have access to the zoom information in the registration system.  You may ask questions via chat or via your microphone. \nAll of our courses are free to the public\, but you will need to register to get the Zoom meeting information. \nToday’s Workshop – Nerdfest\nAn eclectic assortment of talks on topics of interest to hams.\nZoom Meeting ID: 860 8788 6425 Passcode: 356334 \nPresented by: Multiple individuals \nBesides watching via Zoom\, classes will also be in person at: \nCherry Creek Schools ESC\n4700 S. Yosemite Street\nGreenwood Village\, CO 80111 \n  \n\n\n	Related
URL:https://aresdec.org/event/rmham-university-workshop-feb25/
LOCATION:Cherry Creek Schools ESC\, 4700 S. Yosemite Street\, Greenwood Village\, CO\, 80111\, United States
CATEGORIES:Training
END:VEVENT
BEGIN:VEVENT
DTSTART;TZID=America/Denver:20250125T083000
DTEND;TZID=America/Denver:20250125T120000
DTSTAMP:20260423T190824
CREATED:20241113T015053Z
LAST-MODIFIED:20241216T013406Z
UID:10004231-1737793800-1737806400@aresdec.org
SUMMARY:RMHAM University - Designing Objects for 3D Printing
DESCRIPTION:2024-2025 RMHAM U Season is here.\nThere’s no charge for our classes and everyone is welcome in person\, or online. \nClasses will be both in person at the Cherry Creek Schools Educational Services Center\, 4700 South Yosemite Street\, Greenwood Village\, CO  but will but will also be simulcast on Zoom.  Many of the classes are in the form of a lab\, so we are looking forward to meeting in person.  RMHAM University full length classes are scheduled from 8:30AM to Noon on the listed day.  Once you sign up\, you will have access to the zoom information in the registration system.  You may ask questions via chat or via your microphone. \nAll of our courses are free to the public\, but you will need to register to get the Zoom meeting information. \nToday’s Workshop – Designing Objects for 3D Printing\nThis is a class following on the 3D Printing class concentrating on the software used to design 3D objects for 3D printing.\nZoom Meeting ID: 844 9084 0341 Passcode: 483704 \nPresented by: Jim Dixon KA6ETE \nBesides watching via Zoom\, classes will also be in person at: \nCherry Creek Schools ESC\n4700 S. Yosemite Street\nGreenwood Village\, CO 80111 \n  \n\n\n	Related
URL:https://aresdec.org/event/rmham-university-workshop-jan25/
LOCATION:Cherry Creek Schools ESC\, 4700 S. Yosemite Street\, Greenwood Village\, CO\, 80111\, United States
CATEGORIES:Training
END:VEVENT
BEGIN:VEVENT
DTSTART;TZID=America/Denver:20241221T083000
DTEND;TZID=America/Denver:20241221T120000
DTSTAMP:20260423T190824
CREATED:20241113T014836Z
LAST-MODIFIED:20241216T013201Z
UID:10004230-1734769800-1734782400@aresdec.org
SUMMARY:RMHAM University - Solar Power: Planning and Design
DESCRIPTION:2024-2025 RMHAM U Season is here.\nThere’s no charge for our classes and everyone is welcome in person\, or online. \nClasses will be both in person at the Cherry Creek Schools Educational Services Center\, 4700 South Yosemite Street\, Greenwood Village\, CO  but will but will also be simulcast on Zoom.  Many of the classes are in the form of a lab\, so we are looking forward to meeting in person.  RMHAM University full length classes are scheduled from 8:30AM to Noon on the listed day.  Once you sign up\, you will have access to the zoom information in the registration system.  You may ask questions via chat or via your microphone. \nAll of our courses are free to the public\, but you will need to register to get the Zoom meeting information. \nToday’s Workshop – Solar Power: Planning and Design\nDesign and planning for solar power\, power requirement planning\, storage\, sizing panels\, deciding mono/poly panels\, mounts\, sizing\, etc.\nZoom Meeting ID: 886 5969 7697 Passcode: 605633 \nPresented by: Doug K2AD and John W0VG \nBesides watching via Zoom\, classes will also be in person at: \nCherry Creek Schools ESC\n4700 S. Yosemite Street\nGreenwood Village\, CO 80111 \n  \n\n\n	Related
URL:https://aresdec.org/event/rmham-university-workshop/
LOCATION:Cherry Creek Schools ESC\, 4700 S. Yosemite Street\, Greenwood Village\, CO\, 80111\, United States
CATEGORIES:Training
END:VEVENT
BEGIN:VEVENT
DTSTART;TZID=America/Denver:20241116T083000
DTEND;TZID=America/Denver:20241116T120000
DTSTAMP:20260423T190824
CREATED:20241113T022648Z
LAST-MODIFIED:20241113T023622Z
UID:10004235-1731745800-1731758400@aresdec.org
SUMMARY:RMHAM University - Direction Finding Workshop
DESCRIPTION:2024-2025 RMHAM U Season is here.\nThere’s no charge for our classes and everyone is welcome in person\, or online. \nClasses will be both in person at the Cherry Creek Schools Educational Services Center\, 4700 South Yosemite Street\, Greenwood Village\, CO  but will but will also be simulcast on Zoom.  Many of the classes are in the form of a lab\, so we are looking forward to meeting in person.  RMHAM University full length classes are scheduled from 8:30AM to Noon on the listed day.  Once you sign up\, you will have access to the zoom information in the registration system.  You may ask questions via chat or via your microphone. \nAll of our courses are free to the public\, but you will need to register to get the Zoom meeting information. \nToday’s Workshop – Direction Finding Workshop\nAbout 2 hours of class instruction on direction finding at field as well as regional scales followed by a field exercise. Covers everything from a simple HT ad a yagi to sophisticated direction finding equipment. Bring what you have for the fox hunt.\nZoom Meeting ID: 885 9008 1605 Passcode: 711752 \nPresented by: Chris K0SWE and Dan N0PUF \nBesides watching via Zoom\, classes will also be in person at: \nCherry Creek Schools ESC\n4700 S. Yosemite Street\nGreenwood Village\, CO 80111 \n  \n\n\n	Related
URL:https://aresdec.org/event/rmham-university-direction-finding-workshop-2-2/
LOCATION:Cherry Creek Schools ESC\, 4700 S. Yosemite Street\, Greenwood Village\, CO\, 80111\, United States
CATEGORIES:Training
END:VEVENT
BEGIN:VEVENT
DTSTART;TZID=America/Denver:20241112T083000
DTEND;TZID=America/Denver:20241112T120000
DTSTAMP:20260423T190824
CREATED:20241113T014226Z
LAST-MODIFIED:20241113T014553Z
UID:10004229-1731400200-1731412800@aresdec.org
SUMMARY:RMHAM University - Direction Finding Workshop
DESCRIPTION:2024-2025 RMHAM U Season is here.\nThere’s no charge for our classes and everyone is welcome in person\, or online. \nClasses will be both in person at the Cherry Creek Schools Educational Services Center\, 4700 South Yosemite Street\, Greenwood Village\, CO  but will but will also be simulcast on Zoom.  Many of the classes are in the form of a lab\, so we are looking forward to meeting in person.  RMHAM University full length classes are scheduled from 8:30AM to Noon on the listed day.  Once you sign up\, you will have access to the zoom information in the registration system.  You may ask questions via chat or via your microphone. \nAll of our courses are free to the public\, but you will need to register to get the Zoom meeting information. \nToday’s Workshop – Direction Finding Workshop\nAbout 2 hours of class instruction on direction finding at field as well as regional scales followed by a field exercise. Covers everything from a simple HT ad a Yagi to sophisticated direction finding equipment. Bring what you have for the fox hunt.\nZoom Meeting ID: 885 9008 1605 Passcode: 711752 \nPresented by: Chris K0SWE and Dan N0PUF \nBesides watching via Zoom\, classes will also be in person at: \nCherry Creek Schools ESC\n4700 S. Yosemite Street\nGreenwood Village\, CO 80111 \n  \n\n\n	Related
URL:https://aresdec.org/event/rmham-university-direction-finding-workshop/
LOCATION:Cherry Creek Schools ESC\, 4700 S. Yosemite Street\, Greenwood Village\, CO\, 80111\, United States
CATEGORIES:Training
END:VEVENT
END:VCALENDAR