BEGIN:VCALENDAR
VERSION:2.0
PRODID:-//ARESDEC - ECPv6.15.20//NONSGML v1.0//EN
CALSCALE:GREGORIAN
METHOD:PUBLISH
X-WR-CALNAME:ARESDEC
X-ORIGINAL-URL:https://aresdec.org
X-WR-CALDESC:Events for ARESDEC
REFRESH-INTERVAL;VALUE=DURATION:PT1H
X-Robots-Tag:noindex
X-PUBLISHED-TTL:PT1H
BEGIN:VTIMEZONE
TZID:America/Denver
BEGIN:DAYLIGHT
TZOFFSETFROM:-0700
TZOFFSETTO:-0600
TZNAME:MDT
DTSTART:20240310T090000
END:DAYLIGHT
BEGIN:STANDARD
TZOFFSETFROM:-0600
TZOFFSETTO:-0700
TZNAME:MST
DTSTART:20241103T080000
END:STANDARD
BEGIN:DAYLIGHT
TZOFFSETFROM:-0700
TZOFFSETTO:-0600
TZNAME:MDT
DTSTART:20250309T090000
END:DAYLIGHT
BEGIN:STANDARD
TZOFFSETFROM:-0600
TZOFFSETTO:-0700
TZNAME:MST
DTSTART:20251102T080000
END:STANDARD
BEGIN:DAYLIGHT
TZOFFSETFROM:-0700
TZOFFSETTO:-0600
TZNAME:MDT
DTSTART:20260308T090000
END:DAYLIGHT
BEGIN:STANDARD
TZOFFSETFROM:-0600
TZOFFSETTO:-0700
TZNAME:MST
DTSTART:20261101T080000
END:STANDARD
END:VTIMEZONE
BEGIN:VEVENT
DTSTART;TZID=America/Denver:20250222T090000
DTEND;TZID=America/Denver:20250222T110000
DTSTAMP:20260425T161645
CREATED:20241210T024629Z
LAST-MODIFIED:20241210T025437Z
UID:10004266-1740214800-1740222000@aresdec.org
SUMMARY:ARESDEC Presentation to American Legion Post 82 - Elizabeth\, CO
DESCRIPTION:On February 22\, 2025\, ARESDEC members will participate in a presentation to the American Legion Post 82 in Elizabeth\, Colorado regarding what ARESDEC is\, our  mission\, our services\, the served agencies and communities we serve.  As an all-volunteer public service organization\, we are made up of FCC licensed and trained Amateur Radio operators who provide their own equipment to perform communications services for community events and in times of emergency. \nThe Amateur Radio Emergency Service of Douglas and Elbert Counties (ARESDEC) is one of 28 ARES districts in the state of Colorado. For more than 30 years\, ARESDEC has been serving our community in times of emergency and disaster by providing volunteer communications services to public safety agencies and support organizations (i.e.\, American Red Cross and Salvation Army). We are a service organization comprised of amateur radio operators who donate our time\, equipment\, and expertise. We train our members to use best communications practices to effectively assist our served agencies. \nIf any ARESDEC members wish to participate in this presentation\, please reach out to Operations@aresdec.org or W0KDE@aresdec.org. \n  \n \n\n\n	Related
URL:https://aresdec.org/event/aresdec-presentation-to-american-legion-post-82-elizabeth-co/
LOCATION:American Legion Post 82 – Elizabeth\, CO\, 228 S Banner St\, Elizabeth\, CO\, 80107\, United States
CATEGORIES:Event
END:VEVENT
END:VCALENDAR