BEGIN:VCALENDAR
VERSION:2.0
PRODID:-//ARESDEC - ECPv6.15.20//NONSGML v1.0//EN
CALSCALE:GREGORIAN
METHOD:PUBLISH
X-WR-CALNAME:ARESDEC
X-ORIGINAL-URL:https://aresdec.org
X-WR-CALDESC:Events for ARESDEC
REFRESH-INTERVAL;VALUE=DURATION:PT1H
X-Robots-Tag:noindex
X-PUBLISHED-TTL:PT1H
BEGIN:VTIMEZONE
TZID:America/Denver
BEGIN:DAYLIGHT
TZOFFSETFROM:-0700
TZOFFSETTO:-0600
TZNAME:MDT
DTSTART:20260308T090000
END:DAYLIGHT
BEGIN:STANDARD
TZOFFSETFROM:-0600
TZOFFSETTO:-0700
TZNAME:MST
DTSTART:20261101T080000
END:STANDARD
BEGIN:DAYLIGHT
TZOFFSETFROM:-0700
TZOFFSETTO:-0600
TZNAME:MDT
DTSTART:20270314T090000
END:DAYLIGHT
BEGIN:STANDARD
TZOFFSETFROM:-0600
TZOFFSETTO:-0700
TZNAME:MST
DTSTART:20271107T080000
END:STANDARD
BEGIN:DAYLIGHT
TZOFFSETFROM:-0700
TZOFFSETTO:-0600
TZNAME:MDT
DTSTART:20280312T090000
END:DAYLIGHT
BEGIN:STANDARD
TZOFFSETFROM:-0600
TZOFFSETTO:-0700
TZNAME:MST
DTSTART:20281105T080000
END:STANDARD
BEGIN:DAYLIGHT
TZOFFSETFROM:-0700
TZOFFSETTO:-0600
TZNAME:MDT
DTSTART:20290311T090000
END:DAYLIGHT
BEGIN:STANDARD
TZOFFSETFROM:-0600
TZOFFSETTO:-0700
TZNAME:MST
DTSTART:20291104T080000
END:STANDARD
BEGIN:DAYLIGHT
TZOFFSETFROM:-0700
TZOFFSETTO:-0600
TZNAME:MDT
DTSTART:20300310T090000
END:DAYLIGHT
BEGIN:STANDARD
TZOFFSETFROM:-0600
TZOFFSETTO:-0700
TZNAME:MST
DTSTART:20301103T080000
END:STANDARD
BEGIN:DAYLIGHT
TZOFFSETFROM:-0700
TZOFFSETTO:-0600
TZNAME:MDT
DTSTART:20310309T090000
END:DAYLIGHT
BEGIN:STANDARD
TZOFFSETFROM:-0600
TZOFFSETTO:-0700
TZNAME:MST
DTSTART:20311102T080000
END:STANDARD
END:VTIMEZONE
BEGIN:VEVENT
DTSTART;TZID=America/Denver:20270410T090000
DTEND;TZID=America/Denver:20270410T120000
DTSTAMP:20260422T205349
CREATED:20230925T183021Z
LAST-MODIFIED:20251214T033809Z
UID:10005058-1807347600-1807358400@aresdec.org
SUMMARY:Winlink "Hands On" Saturday Workshop
DESCRIPTION:Winlink Hands-On Workshop\nHow would you like to have some radio fun\, try some new things\, and not have to give up a whole day to do it? Did you know Winlink is a critical tool in the ARES R1D5 member toolbox.  So\, what better way to “sharpen the saw” than getting together\, having some fun\, sharing knowledge\, enjoying some donuts and building some great comradery?\nMark your calendars for our annual Winlink Hands-On Workshop. This workshop is an opportunity to setup your radio equipment\, antenna and use Winlink to communicate messages to remote destinations.  We will be testing our equipment to ensure software is configured correctly\, radios are tuned and we can connect with other stations to send messages.\nWe will be using different protocols like Telnet\, VARA FM\, VARA HF\, Packet and even peer-to-peer.\nIf you are new to Winlink or haven’t tried Winlink before\, please come\, get some hands on experience and see how easy it is.\n\nAll are welcome to participate.  For more information\, please contact Training@aresdec.org\n\nFebruary 2024 Winlink workshop in very cold weather.  Various ARESDEC members working together to send Winlink messages using different protocols.
URL:https://aresdec.org/event/winlink-hands-on-workshop/2027-04-10/
LOCATION:PUMC – Parker United Methodist Church\, 11805 S Pine Drive\, Parker\, CO\, 80134\, United States
CATEGORIES:Training
END:VEVENT
BEGIN:VEVENT
DTSTART;TZID=America/Denver:20280408T090000
DTEND;TZID=America/Denver:20280408T120000
DTSTAMP:20260422T205349
CREATED:20230925T183021Z
LAST-MODIFIED:20251214T033809Z
UID:10005059-1838797200-1838808000@aresdec.org
SUMMARY:Winlink "Hands On" Saturday Workshop
DESCRIPTION:Winlink Hands-On Workshop\nHow would you like to have some radio fun\, try some new things\, and not have to give up a whole day to do it? Did you know Winlink is a critical tool in the ARES R1D5 member toolbox.  So\, what better way to “sharpen the saw” than getting together\, having some fun\, sharing knowledge\, enjoying some donuts and building some great comradery?\nMark your calendars for our annual Winlink Hands-On Workshop. This workshop is an opportunity to setup your radio equipment\, antenna and use Winlink to communicate messages to remote destinations.  We will be testing our equipment to ensure software is configured correctly\, radios are tuned and we can connect with other stations to send messages.\nWe will be using different protocols like Telnet\, VARA FM\, VARA HF\, Packet and even peer-to-peer.\nIf you are new to Winlink or haven’t tried Winlink before\, please come\, get some hands on experience and see how easy it is.\n\nAll are welcome to participate.  For more information\, please contact Training@aresdec.org\n\nFebruary 2024 Winlink workshop in very cold weather.  Various ARESDEC members working together to send Winlink messages using different protocols.
URL:https://aresdec.org/event/winlink-hands-on-workshop/2028-04-08/
LOCATION:PUMC – Parker United Methodist Church\, 11805 S Pine Drive\, Parker\, CO\, 80134\, United States
CATEGORIES:Training
END:VEVENT
BEGIN:VEVENT
DTSTART;TZID=America/Denver:20290414T090000
DTEND;TZID=America/Denver:20290414T120000
DTSTAMP:20260422T205349
CREATED:20230925T183021Z
LAST-MODIFIED:20251214T033809Z
UID:10005060-1870851600-1870862400@aresdec.org
SUMMARY:Winlink "Hands On" Saturday Workshop
DESCRIPTION:Winlink Hands-On Workshop\nHow would you like to have some radio fun\, try some new things\, and not have to give up a whole day to do it? Did you know Winlink is a critical tool in the ARES R1D5 member toolbox.  So\, what better way to “sharpen the saw” than getting together\, having some fun\, sharing knowledge\, enjoying some donuts and building some great comradery?\nMark your calendars for our annual Winlink Hands-On Workshop. This workshop is an opportunity to setup your radio equipment\, antenna and use Winlink to communicate messages to remote destinations.  We will be testing our equipment to ensure software is configured correctly\, radios are tuned and we can connect with other stations to send messages.\nWe will be using different protocols like Telnet\, VARA FM\, VARA HF\, Packet and even peer-to-peer.\nIf you are new to Winlink or haven’t tried Winlink before\, please come\, get some hands on experience and see how easy it is.\n\nAll are welcome to participate.  For more information\, please contact Training@aresdec.org\n\nFebruary 2024 Winlink workshop in very cold weather.  Various ARESDEC members working together to send Winlink messages using different protocols.
URL:https://aresdec.org/event/winlink-hands-on-workshop/2029-04-14/
LOCATION:PUMC – Parker United Methodist Church\, 11805 S Pine Drive\, Parker\, CO\, 80134\, United States
CATEGORIES:Training
END:VEVENT
BEGIN:VEVENT
DTSTART;TZID=America/Denver:20300413T090000
DTEND;TZID=America/Denver:20300413T120000
DTSTAMP:20260422T205349
CREATED:20230925T183021Z
LAST-MODIFIED:20251214T033809Z
UID:10005061-1902301200-1902312000@aresdec.org
SUMMARY:Winlink "Hands On" Saturday Workshop
DESCRIPTION:Winlink Hands-On Workshop\nHow would you like to have some radio fun\, try some new things\, and not have to give up a whole day to do it? Did you know Winlink is a critical tool in the ARES R1D5 member toolbox.  So\, what better way to “sharpen the saw” than getting together\, having some fun\, sharing knowledge\, enjoying some donuts and building some great comradery?\nMark your calendars for our annual Winlink Hands-On Workshop. This workshop is an opportunity to setup your radio equipment\, antenna and use Winlink to communicate messages to remote destinations.  We will be testing our equipment to ensure software is configured correctly\, radios are tuned and we can connect with other stations to send messages.\nWe will be using different protocols like Telnet\, VARA FM\, VARA HF\, Packet and even peer-to-peer.\nIf you are new to Winlink or haven’t tried Winlink before\, please come\, get some hands on experience and see how easy it is.\n\nAll are welcome to participate.  For more information\, please contact Training@aresdec.org\n\nFebruary 2024 Winlink workshop in very cold weather.  Various ARESDEC members working together to send Winlink messages using different protocols.
URL:https://aresdec.org/event/winlink-hands-on-workshop/2030-04-13/
LOCATION:PUMC – Parker United Methodist Church\, 11805 S Pine Drive\, Parker\, CO\, 80134\, United States
CATEGORIES:Training
END:VEVENT
END:VCALENDAR