BEGIN:VCALENDAR
VERSION:2.0
PRODID:-//ARESDEC - ECPv6.15.20//NONSGML v1.0//EN
CALSCALE:GREGORIAN
METHOD:PUBLISH
X-WR-CALNAME:ARESDEC
X-ORIGINAL-URL:https://aresdec.org
X-WR-CALDESC:Events for ARESDEC
REFRESH-INTERVAL;VALUE=DURATION:PT1H
X-Robots-Tag:noindex
X-PUBLISHED-TTL:PT1H
BEGIN:VTIMEZONE
TZID:America/Denver
BEGIN:DAYLIGHT
TZOFFSETFROM:-0700
TZOFFSETTO:-0600
TZNAME:MDT
DTSTART:20260308T090000
END:DAYLIGHT
BEGIN:STANDARD
TZOFFSETFROM:-0600
TZOFFSETTO:-0700
TZNAME:MST
DTSTART:20261101T080000
END:STANDARD
BEGIN:DAYLIGHT
TZOFFSETFROM:-0700
TZOFFSETTO:-0600
TZNAME:MDT
DTSTART:20270314T090000
END:DAYLIGHT
BEGIN:STANDARD
TZOFFSETFROM:-0600
TZOFFSETTO:-0700
TZNAME:MST
DTSTART:20271107T080000
END:STANDARD
BEGIN:DAYLIGHT
TZOFFSETFROM:-0700
TZOFFSETTO:-0600
TZNAME:MDT
DTSTART:20280312T090000
END:DAYLIGHT
BEGIN:STANDARD
TZOFFSETFROM:-0600
TZOFFSETTO:-0700
TZNAME:MST
DTSTART:20281105T080000
END:STANDARD
END:VTIMEZONE
BEGIN:VEVENT
DTSTART;TZID=America/Denver:20270902T200000
DTEND;TZID=America/Denver:20270902T203000
DTSTAMP:20260423T210430
CREATED:20241109T225114Z
LAST-MODIFIED:20241109T225114Z
UID:10002463-1819915200-1819917000@aresdec.org
SUMMARY:ARESDEC Weekly Net
DESCRIPTION:Weekly Nets\n\nWeekly ARESDEC nets are held every Thursday at 20:00 local time\, except for the fourth Thursday of each month which is reserved for our monthly Face-to-Face meeting. The default Net frequency is the 448.425 MHz  repeater (negative offset\, 107.2 Hz tone)\, but may sometimes be moved to other frequencies in order to test our capabilities. \nGuests are welcome! Please listen to NCS instructions prior to checking in to the net.
URL:https://aresdec.org/event/aresdec-weekly-net/2027-09-02/
CATEGORIES:Weekly Net
END:VEVENT
BEGIN:VEVENT
DTSTART;TZID=America/Denver:20270905T070000
DTEND;TZID=America/Denver:20270905T170000
DTSTAMP:20260423T210430
CREATED:20251211T192818Z
LAST-MODIFIED:20251211T192938Z
UID:10005014-1820127600-1820163600@aresdec.org
SUMMARY:Mad Gravel Race
DESCRIPTION:Elbert County is where you want to be to celebrate the Sunday of Labor Day weekend this year!\n\nLocated in Kiowa\, Colorado\, the Mad Gravel Race is a series of events that are held over the Labor Day weekend each year.  ARESDEC is proud to provide communications support for Elbert County OEM and the event sponsor.  There are three races of different distances\, described below. \n\n\n\nHemi Hustle: 30 miles\n\nAt 30 miles\, the Hemi Hustle is the best route for those that want a great sampling of the region while still enjoying the unique roads and views of Elbert County. On 100% gravel roads\, this amazing course delivers the Hemi experience in a condensed form. While you get a custom number plate\, it is not a competitive event. This is the shortest route\, but know you still will conquer a very challenging course.\n\n\nHemi Five-O: 50 miles\n\nAt a hefty 50 miles\, Hemi Five-O is slightly less sadistic than its parent. Plenty of mileage while still enjoying an epic tour of the eastern plains. Prepare yourself for some awe-inspiring moments while you take in a great panorama of Colorado’s high peaks. Pikes Peak alone is stunning in late spring with its snow-capped summit. Fully supported with an aid station in the middle so you can pack light.\n\n\nHemi: 100 miles\n\n100 miles of pure bliss. The Hemi will cover over 6400 feet of climbing while topping out at 7300 ft. This course is a perfect blend of all the killer gravel roads in Elbert County. While you’ll get wide open power sections\, expect some climbing that will test the legs over this distance. Wind in May east of the Colorado front range? Yeah it’s likely. 3 aid stations to serve your hydration and nutritional needs.\n\n\n\n\n\nMad Gravel and Rattler Racing have combined efforts with the Junior Cycling Project\, a Colorado non-profit charitable organization to create this event. Together\, they work to expand on the shared mission of getting juniors on bikes\, introduce new cycling opportunities\, and work with like minded non-profits to get bikes in the hands of those juniors in need. By working and partnering with the community\, they advance the cause of supporting junior riders and give them the resources and avenues to help them grow. After all\, they are the future of the sport!. \nARESDEC is proud to provide communications support to this important event and the community that supports them! \n 
URL:https://aresdec.org/event/mad-gravel-race-2-2/2027-09-05/
LOCATION:Peaceful Valley Scout Ranch\, 22799 Elbert Rd.\, Elbert\, CO\, 80106\, United States
CATEGORIES:Event
END:VEVENT
BEGIN:VEVENT
DTSTART;TZID=America/Denver:20270905T080000
DTEND;TZID=America/Denver:20270905T083000
DTSTAMP:20260423T210430
CREATED:20241210T032808Z
LAST-MODIFIED:20241223T015141Z
UID:10004409-1820131200-1820133000@aresdec.org
SUMMARY:ARES HF SSB Net 0800
DESCRIPTION:Colorado statewide ARES Voice Nets are held each Sunday. The HF single sideband Net meets at 0800 hours on 3810 KHz.\nPlease join us. \n 
URL:https://aresdec.org/event/ares-hf-ssb-net-0800/2027-09-05/
END:VEVENT
BEGIN:VEVENT
DTSTART;TZID=America/Denver:20270905T200000
DTEND;TZID=America/Denver:20270905T203000
DTSTAMP:20260423T210430
CREATED:20241210T033542Z
LAST-MODIFIED:20241223T014921Z
UID:10004670-1820174400-1820176200@aresdec.org
SUMMARY:ARES VHF Net 2000
DESCRIPTION:Statewide ARES voice Nets are held each Sunday. At 2000 hours the VHF Net meets on the Colorado Connection system of repeaters. In the Denver area the Connection is found on 145.310 MHz. and an 88.5 Hz tone is required.\nCome join us!
URL:https://aresdec.org/event/ares-vhf-net-2000/2027-09-05/
END:VEVENT
BEGIN:VEVENT
DTSTART;VALUE=DATE:20270906
DTEND;VALUE=DATE:20270907
DTSTAMP:20260423T210430
CREATED:20251216T014513Z
LAST-MODIFIED:20251216T014513Z
UID:10005079-1820188800-1820275199@aresdec.org
SUMMARY:Labor Day
DESCRIPTION:
URL:https://aresdec.org/event/labor-day/2027-09-06/
CATEGORIES:US Federal Holidays
END:VEVENT
BEGIN:VEVENT
DTSTART;TZID=America/Denver:20270906T183000
DTEND;TZID=America/Denver:20270906T203000
DTSTAMP:20260423T210430
CREATED:20251205T201703Z
LAST-MODIFIED:20251205T201704Z
UID:10004921-1820255400-1820262600@aresdec.org
SUMMARY:Monthly Staff Meeting
DESCRIPTION:Monthly ARES R1D5 Staff Meeting held in person and online via Microsoft Teams.  Link to Microsoft Teams will be provided before each Staff meeting.  In-Person location will remain the same each month unless advised otherwise.
URL:https://aresdec.org/event/monthly-staff-meeting-2-2/2027-09-06/
LOCATION:PUMC – Parker United Methodist Church\, 11805 S Pine Drive\, Parker\, CO\, 80134\, United States
CATEGORIES:Staff Meetings
END:VEVENT
BEGIN:VEVENT
DTSTART;TZID=America/Denver:20270909T200000
DTEND;TZID=America/Denver:20270909T203000
DTSTAMP:20260423T210430
CREATED:20241109T225256Z
LAST-MODIFIED:20241109T225256Z
UID:10002524-1820520000-1820521800@aresdec.org
SUMMARY:ARESDEC Weekly Net
DESCRIPTION:Weekly Nets\n\nWeekly ARESDEC nets are held every Thursday at 20:00 local time\, except for the fourth Thursday of each month which is reserved for our monthly Face-to-Face meeting. The default Net frequency is the 448.425 MHz  repeater (negative offset\, 107.2 Hz tone)\, but may sometimes be moved to other frequencies in order to test our capabilities. \nGuests are welcome! Please listen to NCS instructions prior to checking in to the net
URL:https://aresdec.org/event/aresdec-weekly-net-2/2027-09-09/
CATEGORIES:Weekly Net
END:VEVENT
BEGIN:VEVENT
DTSTART;VALUE=DATE:20270911
DTEND;VALUE=DATE:20270912
DTSTAMP:20260423T210430
CREATED:20251216T021712Z
LAST-MODIFIED:20251216T021712Z
UID:10005129-1820620800-1820707199@aresdec.org
SUMMARY:9/11 Remembrance Day
DESCRIPTION:
URL:https://aresdec.org/event/9-11-remembrance-day/2027-09-11/
CATEGORIES:US Days of Celebration
END:VEVENT
BEGIN:VEVENT
DTSTART;TZID=America/Denver:20270912T070000
DTEND;TZID=America/Denver:20270912T170000
DTSTAMP:20260423T210430
CREATED:20251211T191043Z
LAST-MODIFIED:20251211T191241Z
UID:10005008-1820732400-1820768400@aresdec.org
SUMMARY:Fall Poker Run
DESCRIPTION:Twice a year\, the Rampart Range Motorcycle Management Committee sponsors a non-competitive Poker Run for off-road motorcycles (no ATV’s) and riders of all ages. There is a short course (approximately 15-25 miles) and a long course (approximately 50-55 miles). Riders of all abilities are welcome. Prizes are awarded on the basis of the poker hand you draw at the final check point.  The Fall Poker Run is not a race\, it is an EVENT!   \nThis is a non-competitive event and the 5 prizes awarded for each course are based on the rider’s luck in drawing one of the five highest winning poker hands consisting of five (short course) or seven (long course) total cards at the final checkpoint.  It’s truly a wonderful experience. \nARESDEC will provide tactical communications & situational awareness for Poker Run event staff. ARESDEC members should expect to provide APRS/LoRa tracking\, checkpoint communications\, Forward Observer (FOB)\, observe Poker Run operations and monitor the Net\, report any emergencies\, medical issues\, and/or disabled bikes\, and report rider activity like first rider through\, sweeps passing through the checkpoints\, and event staff arriving and departing.  We coordinate with Douglas County Search & Rescue (DCSAR) for their services if needed on the course. \nARES R1D5 Members can contact Training@aresdec.org or staff@aresdec.org if you have questions\, suggestions or concerns.  We look forward to working with the event sponsor and partners for a successful event! \nBackground:  The Rampart Range Fall Poker Run is planned and run by the RRMMC (Rampart Range Motorcycle Management Committee). RRMMC is an all-volunteer\, nonprofit corporation founded in 1972 to work with the Forest Service to promote and preserve dirt bike trail riding opportunities in the Rampart Range area of Pike National Forest near Sedalia\, Colorado. \nEvent Website: http://rampartrange.org/poker-run/ \n 
URL:https://aresdec.org/event/fall-poker-run-2-2/2027-09-12/
LOCATION:Rampart Range\, CO\, United States
CATEGORIES:Event
GEO:39.32777;-105.09408
END:VEVENT
BEGIN:VEVENT
DTSTART;TZID=America/Denver:20270912T080000
DTEND;TZID=America/Denver:20270912T083000
DTSTAMP:20260423T210430
CREATED:20241210T032808Z
LAST-MODIFIED:20241223T015141Z
UID:10004410-1820736000-1820737800@aresdec.org
SUMMARY:ARES HF SSB Net 0800
DESCRIPTION:Colorado statewide ARES Voice Nets are held each Sunday. The HF single sideband Net meets at 0800 hours on 3810 KHz.\nPlease join us. \n 
URL:https://aresdec.org/event/ares-hf-ssb-net-0800/2027-09-12/
END:VEVENT
BEGIN:VEVENT
DTSTART;TZID=America/Denver:20270912T200000
DTEND;TZID=America/Denver:20270912T203000
DTSTAMP:20260423T210430
CREATED:20241210T033542Z
LAST-MODIFIED:20241223T014921Z
UID:10004671-1820779200-1820781000@aresdec.org
SUMMARY:ARES VHF Net 2000
DESCRIPTION:Statewide ARES voice Nets are held each Sunday. At 2000 hours the VHF Net meets on the Colorado Connection system of repeaters. In the Denver area the Connection is found on 145.310 MHz. and an 88.5 Hz tone is required.\nCome join us!
URL:https://aresdec.org/event/ares-vhf-net-2000/2027-09-12/
END:VEVENT
BEGIN:VEVENT
DTSTART;TZID=America/Denver:20270913T183000
DTEND;TZID=America/Denver:20270913T203000
DTSTAMP:20260423T210430
CREATED:20251211T023622Z
LAST-MODIFIED:20251211T023622Z
UID:10004990-1820860200-1820867400@aresdec.org
SUMMARY:Douglas County AuxComm Fall All-Hands Meeting
DESCRIPTION:ARES R1D5 members and the Douglas County (DC) OEM staff will meet in the Spring and Fall each year for AuxComm training. The meeting is held at the DC County EOC.  Meeting time is 1830 – 2030.  The purpose of this meeting is to become better acquainted with EOC processes and procedures\, discuss any changes within the EOC since the last time we met and anything needed to be prepared to support activations in the EOC. \nW6AUN will facilitate the meeting.  Stay tuned for more details. \n  \n 
URL:https://aresdec.org/event/dc-auxcomm-semi-annual-all-hands-meeting-3/2027-09-13/
LOCATION:Douglas County EOC\, 4000 Justice Way\, Castle Rock\, CO\, 80109\, United States
CATEGORIES:AuxComm Meeting
END:VEVENT
BEGIN:VEVENT
DTSTART;TZID=America/Denver:20270913T190000
DTEND;TZID=America/Denver:20270913T193000
DTSTAMP:20260423T210430
CREATED:20250119T031217Z
LAST-MODIFIED:20250212T015927Z
UID:10004830-1820862000-1820863800@aresdec.org
SUMMARY:ARRL Colorado Section Monthly Net
DESCRIPTION:Monthly ARRL Section Net\nEveryone is invited to check in and join the discussion! \nThis net is dedicated to all things related to amateur radio in Colorado\, including updates from the ARRL. It’s the perfect place to announce ham fests\, club activities\, request assistance from fellow hams\, and share anything of interest to the Colorado ham community. This net takes place every second Monday of the month at 7:00 PM. \nWe extend our heartfelt thanks to the repeater owners and clubs that host the Section Net. Please feel free to visit the websites of all the clubs that carry the Colorado Section Net. Additionally\, we appreciate the Colorado Traffic League for allowing us to use their usual time slot on the Colorado Connection to host this net at 7 PM. \nThe net is carried on the following repeater systems: \n\nWE0FUN Fun Machines Repeaters\nColorado Connection VHF Repeater System\nRocky Mountain Ham Radio Wide Talk Group 700\nNorthern Colorado ARC Buckhorn Repeaters\nMountain Amateur Radio Club Repeaters\nWestern Colorado Amateur Radio Club\n\nComputer and digital modes: \n\nAllstar – Node 28368\nEcholink – *CANONCTY* 363976\nDStar – XRF815B\, XLX815B\, DCS815B or REF815B\nTGIF – DMR 815\nYSF – US CO WE0FUN 53927\nP25 – Talkgroup 10209\nNXDN – Talkgroup 31081\nM17 – 815B\n\nThe above information is found on the website link at https://colorado-arrl.us/arrl-section-net/
URL:https://aresdec.org/event/5940/2027-09-13/
CATEGORIES:Training
END:VEVENT
BEGIN:VEVENT
DTSTART;TZID=America/Denver:20270916T200000
DTEND;TZID=America/Denver:20270916T203000
DTSTAMP:20260423T210430
CREATED:20241109T225421Z
LAST-MODIFIED:20241109T225421Z
UID:10002585-1821124800-1821126600@aresdec.org
SUMMARY:ARESDEC Weekly Net
DESCRIPTION:Weekly Nets\n\nWeekly ARESDEC nets are held every Thursday at 20:00 local time\, except for the fourth Thursday of each month which is reserved for our monthly Face-to-Face meeting. The default Net frequency is the 448.425 MHz  repeater (negative offset\, 107.2 Hz tone)\, but may sometimes be moved to other frequencies in order to test our capabilities. \nGuests are welcome! Please listen to NCS instructions prior to checking in to the net
URL:https://aresdec.org/event/aresdec-weekly-net-3/2027-09-16/
CATEGORIES:Weekly Net
END:VEVENT
BEGIN:VEVENT
DTSTART;TZID=America/Denver:20270919T080000
DTEND;TZID=America/Denver:20270919T083000
DTSTAMP:20260423T210430
CREATED:20241210T032808Z
LAST-MODIFIED:20241223T015141Z
UID:10004411-1821340800-1821342600@aresdec.org
SUMMARY:ARES HF SSB Net 0800
DESCRIPTION:Colorado statewide ARES Voice Nets are held each Sunday. The HF single sideband Net meets at 0800 hours on 3810 KHz.\nPlease join us. \n 
URL:https://aresdec.org/event/ares-hf-ssb-net-0800/2027-09-19/
END:VEVENT
BEGIN:VEVENT
DTSTART;TZID=America/Denver:20270919T200000
DTEND;TZID=America/Denver:20270919T203000
DTSTAMP:20260423T210430
CREATED:20241210T033542Z
LAST-MODIFIED:20241223T014921Z
UID:10004672-1821384000-1821385800@aresdec.org
SUMMARY:ARES VHF Net 2000
DESCRIPTION:Statewide ARES voice Nets are held each Sunday. At 2000 hours the VHF Net meets on the Colorado Connection system of repeaters. In the Denver area the Connection is found on 145.310 MHz. and an 88.5 Hz tone is required.\nCome join us!
URL:https://aresdec.org/event/ares-vhf-net-2000/2027-09-19/
END:VEVENT
BEGIN:VEVENT
DTSTART;TZID=America/Denver:20270923T190000
DTEND;TZID=America/Denver:20270923T210000
DTSTAMP:20260423T210430
CREATED:20251225T232959Z
LAST-MODIFIED:20251225T232959Z
UID:10005159-1821726000-1821733200@aresdec.org
SUMMARY:Face-to-Face Meeting TBD
DESCRIPTION:Meeting location and presentation topic is TBD
URL:https://aresdec.org/event/face-to-face-meeting-tbd/2027-09-23/
CATEGORIES:Face-to-Face Meetings
END:VEVENT
BEGIN:VEVENT
DTSTART;TZID=America/Denver:20270923T200000
DTEND;TZID=America/Denver:20270923T203000
DTSTAMP:20260423T210430
CREATED:20241110T012208Z
LAST-MODIFIED:20241110T012208Z
UID:10002662-1821729600-1821731400@aresdec.org
SUMMARY:ARESDEC Weekly Net Cancelled
DESCRIPTION:There is no Weekly Net on the 4th Thursday of each month if ARESDEC is sponsoring a monthly Face-to-Face meeting or if a holiday falls on the 4th Thursday.
URL:https://aresdec.org/event/aresdec-weekly-net-cancelled/2027-09-23/
CATEGORIES:Weekly NET Cancelled
END:VEVENT
BEGIN:VEVENT
DTSTART;TZID=America/Denver:20270926T080000
DTEND;TZID=America/Denver:20270926T083000
DTSTAMP:20260423T210430
CREATED:20241210T032808Z
LAST-MODIFIED:20241223T015141Z
UID:10004412-1821945600-1821947400@aresdec.org
SUMMARY:ARES HF SSB Net 0800
DESCRIPTION:Colorado statewide ARES Voice Nets are held each Sunday. The HF single sideband Net meets at 0800 hours on 3810 KHz.\nPlease join us. \n 
URL:https://aresdec.org/event/ares-hf-ssb-net-0800/2027-09-26/
END:VEVENT
BEGIN:VEVENT
DTSTART;TZID=America/Denver:20270926T200000
DTEND;TZID=America/Denver:20270926T203000
DTSTAMP:20260423T210430
CREATED:20241210T033542Z
LAST-MODIFIED:20241223T014921Z
UID:10004673-1821988800-1821990600@aresdec.org
SUMMARY:ARES VHF Net 2000
DESCRIPTION:Statewide ARES voice Nets are held each Sunday. At 2000 hours the VHF Net meets on the Colorado Connection system of repeaters. In the Denver area the Connection is found on 145.310 MHz. and an 88.5 Hz tone is required.\nCome join us!
URL:https://aresdec.org/event/ares-vhf-net-2000/2027-09-26/
END:VEVENT
BEGIN:VEVENT
DTSTART;TZID=America/Denver:20270930T200000
DTEND;TZID=America/Denver:20270930T203000
DTSTAMP:20260423T210430
CREATED:20241109T230858Z
LAST-MODIFIED:20241109T231305Z
UID:10002622-1822334400-1822336200@aresdec.org
SUMMARY:ARESDEC Weekly Net
DESCRIPTION:Weekly Nets\n\nWeekly ARESDEC nets are held every Thursday at 20:00 local time\, except for the fourth Thursday of each month which is reserved for our monthly Face-to-Face meeting. The default Net frequency is the 448.425 MHz  repeater (negative offset\, 107.2 Hz tone)\, but may sometimes be moved to other frequencies in order to test our capabilities. \nGuests are welcome! Please listen to NCS instructions prior to checking in to the net
URL:https://aresdec.org/event/aresdec-weekly-net-4/2027-09-30/
CATEGORIES:Weekly Net
END:VEVENT
END:VCALENDAR