BEGIN:VCALENDAR
VERSION:2.0
PRODID:-//ARESDEC - ECPv6.15.20//NONSGML v1.0//EN
CALSCALE:GREGORIAN
METHOD:PUBLISH
X-WR-CALNAME:ARESDEC
X-ORIGINAL-URL:https://aresdec.org
X-WR-CALDESC:Events for ARESDEC
REFRESH-INTERVAL;VALUE=DURATION:PT1H
X-Robots-Tag:noindex
X-PUBLISHED-TTL:PT1H
BEGIN:VTIMEZONE
TZID:America/Denver
BEGIN:DAYLIGHT
TZOFFSETFROM:-0700
TZOFFSETTO:-0600
TZNAME:MDT
DTSTART:20260308T090000
END:DAYLIGHT
BEGIN:STANDARD
TZOFFSETFROM:-0600
TZOFFSETTO:-0700
TZNAME:MST
DTSTART:20261101T080000
END:STANDARD
BEGIN:DAYLIGHT
TZOFFSETFROM:-0700
TZOFFSETTO:-0600
TZNAME:MDT
DTSTART:20270314T090000
END:DAYLIGHT
BEGIN:STANDARD
TZOFFSETFROM:-0600
TZOFFSETTO:-0700
TZNAME:MST
DTSTART:20271107T080000
END:STANDARD
BEGIN:DAYLIGHT
TZOFFSETFROM:-0700
TZOFFSETTO:-0600
TZNAME:MDT
DTSTART:20280312T090000
END:DAYLIGHT
BEGIN:STANDARD
TZOFFSETFROM:-0600
TZOFFSETTO:-0700
TZNAME:MST
DTSTART:20281105T080000
END:STANDARD
END:VTIMEZONE
BEGIN:VEVENT
DTSTART;VALUE=DATE:20270101
DTEND;VALUE=DATE:20270102
DTSTAMP:20260423T053214
CREATED:20251216T014048Z
LAST-MODIFIED:20251216T014048Z
UID:10005064-1798761600-1798847999@aresdec.org
SUMMARY:New Years Day
DESCRIPTION:
URL:https://aresdec.org/event/new-years-day/2027-01-01/
CATEGORIES:US Federal Holidays
END:VEVENT
BEGIN:VEVENT
DTSTART;TZID=America/Denver:20270103T080000
DTEND;TZID=America/Denver:20270103T083000
DTSTAMP:20260423T053214
CREATED:20241210T032808Z
LAST-MODIFIED:20241223T015141Z
UID:10004374-1798963200-1798965000@aresdec.org
SUMMARY:ARES HF SSB Net 0800
DESCRIPTION:Colorado statewide ARES Voice Nets are held each Sunday. The HF single sideband Net meets at 0800 hours on 3810 KHz.\nPlease join us. \n 
URL:https://aresdec.org/event/ares-hf-ssb-net-0800/2027-01-03/
END:VEVENT
BEGIN:VEVENT
DTSTART;TZID=America/Denver:20270103T200000
DTEND;TZID=America/Denver:20270103T203000
DTSTAMP:20260423T053214
CREATED:20241210T033542Z
LAST-MODIFIED:20241223T014921Z
UID:10004635-1799006400-1799008200@aresdec.org
SUMMARY:ARES VHF Net 2000
DESCRIPTION:Statewide ARES voice Nets are held each Sunday. At 2000 hours the VHF Net meets on the Colorado Connection system of repeaters. In the Denver area the Connection is found on 145.310 MHz. and an 88.5 Hz tone is required.\nCome join us!
URL:https://aresdec.org/event/ares-vhf-net-2000/2027-01-03/
END:VEVENT
BEGIN:VEVENT
DTSTART;TZID=America/Denver:20270104T183000
DTEND;TZID=America/Denver:20270104T203000
DTSTAMP:20260423T053214
CREATED:20251205T201703Z
LAST-MODIFIED:20251205T201704Z
UID:10004913-1799087400-1799094600@aresdec.org
SUMMARY:Monthly Staff Meeting
DESCRIPTION:Monthly ARES R1D5 Staff Meeting held in person and online via Microsoft Teams.  Link to Microsoft Teams will be provided before each Staff meeting.  In-Person location will remain the same each month unless advised otherwise.
URL:https://aresdec.org/event/monthly-staff-meeting-2-2/2027-01-04/
LOCATION:PUMC – Parker United Methodist Church\, 11805 S Pine Drive\, Parker\, CO\, 80134\, United States
CATEGORIES:Staff Meetings
END:VEVENT
BEGIN:VEVENT
DTSTART;TZID=America/Denver:20270107T200000
DTEND;TZID=America/Denver:20270107T203000
DTSTAMP:20260423T053214
CREATED:20241109T225114Z
LAST-MODIFIED:20241109T225114Z
UID:10002455-1799352000-1799353800@aresdec.org
SUMMARY:ARESDEC Weekly Net
DESCRIPTION:Weekly Nets\n\nWeekly ARESDEC nets are held every Thursday at 20:00 local time\, except for the fourth Thursday of each month which is reserved for our monthly Face-to-Face meeting. The default Net frequency is the 448.425 MHz  repeater (negative offset\, 107.2 Hz tone)\, but may sometimes be moved to other frequencies in order to test our capabilities. \nGuests are welcome! Please listen to NCS instructions prior to checking in to the net.
URL:https://aresdec.org/event/aresdec-weekly-net/2027-01-07/
CATEGORIES:Weekly Net
END:VEVENT
BEGIN:VEVENT
DTSTART;TZID=America/Denver:20270110T080000
DTEND;TZID=America/Denver:20270110T083000
DTSTAMP:20260423T053214
CREATED:20241210T032808Z
LAST-MODIFIED:20241223T015141Z
UID:10004375-1799568000-1799569800@aresdec.org
SUMMARY:ARES HF SSB Net 0800
DESCRIPTION:Colorado statewide ARES Voice Nets are held each Sunday. The HF single sideband Net meets at 0800 hours on 3810 KHz.\nPlease join us. \n 
URL:https://aresdec.org/event/ares-hf-ssb-net-0800/2027-01-10/
END:VEVENT
BEGIN:VEVENT
DTSTART;TZID=America/Denver:20270110T200000
DTEND;TZID=America/Denver:20270110T203000
DTSTAMP:20260423T053214
CREATED:20241210T033542Z
LAST-MODIFIED:20241223T014921Z
UID:10004636-1799611200-1799613000@aresdec.org
SUMMARY:ARES VHF Net 2000
DESCRIPTION:Statewide ARES voice Nets are held each Sunday. At 2000 hours the VHF Net meets on the Colorado Connection system of repeaters. In the Denver area the Connection is found on 145.310 MHz. and an 88.5 Hz tone is required.\nCome join us!
URL:https://aresdec.org/event/ares-vhf-net-2000/2027-01-10/
END:VEVENT
BEGIN:VEVENT
DTSTART;TZID=America/Denver:20270111T190000
DTEND;TZID=America/Denver:20270111T193000
DTSTAMP:20260423T053214
CREATED:20250119T031217Z
LAST-MODIFIED:20250212T015927Z
UID:10004822-1799694000-1799695800@aresdec.org
SUMMARY:ARRL Colorado Section Monthly Net
DESCRIPTION:Monthly ARRL Section Net\nEveryone is invited to check in and join the discussion! \nThis net is dedicated to all things related to amateur radio in Colorado\, including updates from the ARRL. It’s the perfect place to announce ham fests\, club activities\, request assistance from fellow hams\, and share anything of interest to the Colorado ham community. This net takes place every second Monday of the month at 7:00 PM. \nWe extend our heartfelt thanks to the repeater owners and clubs that host the Section Net. Please feel free to visit the websites of all the clubs that carry the Colorado Section Net. Additionally\, we appreciate the Colorado Traffic League for allowing us to use their usual time slot on the Colorado Connection to host this net at 7 PM. \nThe net is carried on the following repeater systems: \n\nWE0FUN Fun Machines Repeaters\nColorado Connection VHF Repeater System\nRocky Mountain Ham Radio Wide Talk Group 700\nNorthern Colorado ARC Buckhorn Repeaters\nMountain Amateur Radio Club Repeaters\nWestern Colorado Amateur Radio Club\n\nComputer and digital modes: \n\nAllstar – Node 28368\nEcholink – *CANONCTY* 363976\nDStar – XRF815B\, XLX815B\, DCS815B or REF815B\nTGIF – DMR 815\nYSF – US CO WE0FUN 53927\nP25 – Talkgroup 10209\nNXDN – Talkgroup 31081\nM17 – 815B\n\nThe above information is found on the website link at https://colorado-arrl.us/arrl-section-net/
URL:https://aresdec.org/event/5940/2027-01-11/
CATEGORIES:Training
END:VEVENT
BEGIN:VEVENT
DTSTART;TZID=America/Denver:20270114T200000
DTEND;TZID=America/Denver:20270114T203000
DTSTAMP:20260423T053214
CREATED:20241109T225256Z
LAST-MODIFIED:20241109T225256Z
UID:10002516-1799956800-1799958600@aresdec.org
SUMMARY:ARESDEC Weekly Net
DESCRIPTION:Weekly Nets\n\nWeekly ARESDEC nets are held every Thursday at 20:00 local time\, except for the fourth Thursday of each month which is reserved for our monthly Face-to-Face meeting. The default Net frequency is the 448.425 MHz  repeater (negative offset\, 107.2 Hz tone)\, but may sometimes be moved to other frequencies in order to test our capabilities. \nGuests are welcome! Please listen to NCS instructions prior to checking in to the net
URL:https://aresdec.org/event/aresdec-weekly-net-2/2027-01-14/
CATEGORIES:Weekly Net
END:VEVENT
BEGIN:VEVENT
DTSTART;TZID=America/Denver:20270117T080000
DTEND;TZID=America/Denver:20270117T083000
DTSTAMP:20260423T053214
CREATED:20241210T032808Z
LAST-MODIFIED:20241223T015141Z
UID:10004376-1800172800-1800174600@aresdec.org
SUMMARY:ARES HF SSB Net 0800
DESCRIPTION:Colorado statewide ARES Voice Nets are held each Sunday. The HF single sideband Net meets at 0800 hours on 3810 KHz.\nPlease join us. \n 
URL:https://aresdec.org/event/ares-hf-ssb-net-0800/2027-01-17/
END:VEVENT
BEGIN:VEVENT
DTSTART;TZID=America/Denver:20270117T200000
DTEND;TZID=America/Denver:20270117T203000
DTSTAMP:20260423T053214
CREATED:20241210T033542Z
LAST-MODIFIED:20241223T014921Z
UID:10004637-1800216000-1800217800@aresdec.org
SUMMARY:ARES VHF Net 2000
DESCRIPTION:Statewide ARES voice Nets are held each Sunday. At 2000 hours the VHF Net meets on the Colorado Connection system of repeaters. In the Denver area the Connection is found on 145.310 MHz. and an 88.5 Hz tone is required.\nCome join us!
URL:https://aresdec.org/event/ares-vhf-net-2000/2027-01-17/
END:VEVENT
BEGIN:VEVENT
DTSTART;VALUE=DATE:20270118
DTEND;VALUE=DATE:20270119
DTSTAMP:20260423T053214
CREATED:20251216T015315Z
LAST-MODIFIED:20251216T015315Z
UID:10005094-1800230400-1800316799@aresdec.org
SUMMARY:Martin Luther King Jr. Day
DESCRIPTION:
URL:https://aresdec.org/event/martin-luther-king-jr-day/2027-01-18/
CATEGORIES:US Federal Holidays
END:VEVENT
BEGIN:VEVENT
DTSTART;TZID=America/Denver:20270121T200000
DTEND;TZID=America/Denver:20270121T203000
DTSTAMP:20260423T053214
CREATED:20241109T225421Z
LAST-MODIFIED:20241109T225421Z
UID:10002577-1800561600-1800563400@aresdec.org
SUMMARY:ARESDEC Weekly Net
DESCRIPTION:Weekly Nets\n\nWeekly ARESDEC nets are held every Thursday at 20:00 local time\, except for the fourth Thursday of each month which is reserved for our monthly Face-to-Face meeting. The default Net frequency is the 448.425 MHz  repeater (negative offset\, 107.2 Hz tone)\, but may sometimes be moved to other frequencies in order to test our capabilities. \nGuests are welcome! Please listen to NCS instructions prior to checking in to the net
URL:https://aresdec.org/event/aresdec-weekly-net-3/2027-01-21/
CATEGORIES:Weekly Net
END:VEVENT
BEGIN:VEVENT
DTSTART;TZID=America/Denver:20270124T080000
DTEND;TZID=America/Denver:20270124T083000
DTSTAMP:20260423T053214
CREATED:20241210T032808Z
LAST-MODIFIED:20241223T015141Z
UID:10004377-1800777600-1800779400@aresdec.org
SUMMARY:ARES HF SSB Net 0800
DESCRIPTION:Colorado statewide ARES Voice Nets are held each Sunday. The HF single sideband Net meets at 0800 hours on 3810 KHz.\nPlease join us. \n 
URL:https://aresdec.org/event/ares-hf-ssb-net-0800/2027-01-24/
END:VEVENT
BEGIN:VEVENT
DTSTART;TZID=America/Denver:20270124T200000
DTEND;TZID=America/Denver:20270124T203000
DTSTAMP:20260423T053214
CREATED:20241210T033542Z
LAST-MODIFIED:20241223T014921Z
UID:10004638-1800820800-1800822600@aresdec.org
SUMMARY:ARES VHF Net 2000
DESCRIPTION:Statewide ARES voice Nets are held each Sunday. At 2000 hours the VHF Net meets on the Colorado Connection system of repeaters. In the Denver area the Connection is found on 145.310 MHz. and an 88.5 Hz tone is required.\nCome join us!
URL:https://aresdec.org/event/ares-vhf-net-2000/2027-01-24/
END:VEVENT
BEGIN:VEVENT
DTSTART;TZID=America/Denver:20270128T180000
DTEND;TZID=America/Denver:20270128T190000
DTSTAMP:20260423T053214
CREATED:20241114T163251Z
LAST-MODIFIED:20251225T200814Z
UID:10004984-1801159200-1801162800@aresdec.org
SUMMARY:ARESDEC NPO Annual Meeting
DESCRIPTION:ARESDEC members\, \nWelcome to a New Year!  One thing the new year brings are new activities for the ARESDEC. \n\nIt’s time to renew your NPO annual membership for another year! The $10 NPO donation can be easily made by going to our website.\nWe have two NPO board member seats that came to term at the end of last year.\nStarting January 1st\, we are opening a nomination window that ends at midnight on the 3rd Wednesday of January.\nThese NPO board member seats are for a 2-year term. To nominate\, you must be a current NPO member and your nominee must be a current NPO member.\nYou are able to nominate yourself if you meet the above criteria.\n\nBeing an ARESDEC NPO board member is not a demanding job. You are called upon when major financial or NPO policy decisions need to be made. Before our January Face-to-Face meeting\, we will hold our annual NPO business meeting. During our business meeting\, nominated NPO board candidates will be given 10 minutes to tell those present why they are interested in serving on the ARESDEC NPO board. To nominate an NPO member as a candidate\, email me at W6AUN@aresdec.com to register your nomination. \nBy the way\, we are ordering pizza for our NPO business meeting. Pay your annual NPO membership donation ($10 via PayPay) now and then join us at the NPO business meeting for a slice and to meet the board member candidates. \nSee you at the NPO annual business meeting and our Face-to-Face meeting that follows\, \nPerry\, NPO Board Vice President
URL:https://aresdec.org/event/aresdec-npo-meeting-2-2/2027-01-28/
LOCATION:HRSS – Highlands Ranch DCSO Substation\, 9250 Zotos Drive\, Highlands Ranch\, CO\, 80129\, United States
CATEGORIES:Face-to-Face Meetings
GEO:39.54832;-104.997153
X-APPLE-STRUCTURED-LOCATION;VALUE=URI;X-ADDRESS=HRSS – Highlands Ranch DCSO Substation 9250 Zotos Drive Highlands Ranch CO 80129 United States;X-APPLE-RADIUS=500;X-TITLE=9250 Zotos Drive:geo:-104.997153,39.54832
END:VEVENT
BEGIN:VEVENT
DTSTART;TZID=America/Denver:20270128T190000
DTEND;TZID=America/Denver:20270128T210000
DTSTAMP:20260423T053214
CREATED:20251225T232959Z
LAST-MODIFIED:20251225T232959Z
UID:10005152-1801162800-1801170000@aresdec.org
SUMMARY:Face-to-Face Meeting TBD
DESCRIPTION:Meeting location and presentation topic is TBD
URL:https://aresdec.org/event/face-to-face-meeting-tbd/2027-01-28/
CATEGORIES:Face-to-Face Meetings
END:VEVENT
BEGIN:VEVENT
DTSTART;TZID=America/Denver:20270128T200000
DTEND;TZID=America/Denver:20270128T203000
DTSTAMP:20260423T053214
CREATED:20241110T012208Z
LAST-MODIFIED:20241110T012208Z
UID:10002654-1801166400-1801168200@aresdec.org
SUMMARY:ARESDEC Weekly Net Cancelled
DESCRIPTION:There is no Weekly Net on the 4th Thursday of each month if ARESDEC is sponsoring a monthly Face-to-Face meeting or if a holiday falls on the 4th Thursday.
URL:https://aresdec.org/event/aresdec-weekly-net-cancelled/2027-01-28/
CATEGORIES:Weekly NET Cancelled
END:VEVENT
BEGIN:VEVENT
DTSTART;TZID=America/Denver:20270131T080000
DTEND;TZID=America/Denver:20270131T083000
DTSTAMP:20260423T053214
CREATED:20241210T032808Z
LAST-MODIFIED:20241223T015141Z
UID:10004378-1801382400-1801384200@aresdec.org
SUMMARY:ARES HF SSB Net 0800
DESCRIPTION:Colorado statewide ARES Voice Nets are held each Sunday. The HF single sideband Net meets at 0800 hours on 3810 KHz.\nPlease join us. \n 
URL:https://aresdec.org/event/ares-hf-ssb-net-0800/2027-01-31/
END:VEVENT
BEGIN:VEVENT
DTSTART;TZID=America/Denver:20270131T200000
DTEND;TZID=America/Denver:20270131T203000
DTSTAMP:20260423T053214
CREATED:20241210T033542Z
LAST-MODIFIED:20241223T014921Z
UID:10004639-1801425600-1801427400@aresdec.org
SUMMARY:ARES VHF Net 2000
DESCRIPTION:Statewide ARES voice Nets are held each Sunday. At 2000 hours the VHF Net meets on the Colorado Connection system of repeaters. In the Denver area the Connection is found on 145.310 MHz. and an 88.5 Hz tone is required.\nCome join us!
URL:https://aresdec.org/event/ares-vhf-net-2000/2027-01-31/
END:VEVENT
END:VCALENDAR