BEGIN:VCALENDAR
VERSION:2.0
PRODID:-//ARESDEC - ECPv6.15.20//NONSGML v1.0//EN
CALSCALE:GREGORIAN
METHOD:PUBLISH
X-WR-CALNAME:ARESDEC
X-ORIGINAL-URL:https://aresdec.org
X-WR-CALDESC:Events for ARESDEC
REFRESH-INTERVAL;VALUE=DURATION:PT1H
X-Robots-Tag:noindex
X-PUBLISHED-TTL:PT1H
BEGIN:VTIMEZONE
TZID:America/Denver
BEGIN:DAYLIGHT
TZOFFSETFROM:-0700
TZOFFSETTO:-0600
TZNAME:MDT
DTSTART:20250309T090000
END:DAYLIGHT
BEGIN:STANDARD
TZOFFSETFROM:-0600
TZOFFSETTO:-0700
TZNAME:MST
DTSTART:20251102T080000
END:STANDARD
BEGIN:DAYLIGHT
TZOFFSETFROM:-0700
TZOFFSETTO:-0600
TZNAME:MDT
DTSTART:20260308T090000
END:DAYLIGHT
BEGIN:STANDARD
TZOFFSETFROM:-0600
TZOFFSETTO:-0700
TZNAME:MST
DTSTART:20261101T080000
END:STANDARD
BEGIN:DAYLIGHT
TZOFFSETFROM:-0700
TZOFFSETTO:-0600
TZNAME:MDT
DTSTART:20270314T090000
END:DAYLIGHT
BEGIN:STANDARD
TZOFFSETFROM:-0600
TZOFFSETTO:-0700
TZNAME:MST
DTSTART:20271107T080000
END:STANDARD
END:VTIMEZONE
BEGIN:VEVENT
DTSTART;TZID=America/Denver:20260903T200000
DTEND;TZID=America/Denver:20260903T203000
DTSTAMP:20260423T010044
CREATED:20241109T225114Z
LAST-MODIFIED:20241109T225114Z
UID:10002451-1788465600-1788467400@aresdec.org
SUMMARY:ARESDEC Weekly Net
DESCRIPTION:Weekly Nets\n\nWeekly ARESDEC nets are held every Thursday at 20:00 local time\, except for the fourth Thursday of each month which is reserved for our monthly Face-to-Face meeting. The default Net frequency is the 448.425 MHz  repeater (negative offset\, 107.2 Hz tone)\, but may sometimes be moved to other frequencies in order to test our capabilities. \nGuests are welcome! Please listen to NCS instructions prior to checking in to the net.
URL:https://aresdec.org/event/aresdec-weekly-net/2026-09-03/
CATEGORIES:Weekly Net
END:VEVENT
BEGIN:VEVENT
DTSTART;TZID=America/Denver:20260906T070000
DTEND;TZID=America/Denver:20260906T170000
DTSTAMP:20260423T010044
CREATED:20251211T192818Z
LAST-MODIFIED:20251211T192938Z
UID:10005013-1788678000-1788714000@aresdec.org
SUMMARY:Mad Gravel Race
DESCRIPTION:Elbert County is where you want to be to celebrate the Sunday of Labor Day weekend this year!\n\nLocated in Kiowa\, Colorado\, the Mad Gravel Race is a series of events that are held over the Labor Day weekend each year.  ARESDEC is proud to provide communications support for Elbert County OEM and the event sponsor.  There are three races of different distances\, described below. \n\n\n\nHemi Hustle: 30 miles\n\nAt 30 miles\, the Hemi Hustle is the best route for those that want a great sampling of the region while still enjoying the unique roads and views of Elbert County. On 100% gravel roads\, this amazing course delivers the Hemi experience in a condensed form. While you get a custom number plate\, it is not a competitive event. This is the shortest route\, but know you still will conquer a very challenging course.\n\n\nHemi Five-O: 50 miles\n\nAt a hefty 50 miles\, Hemi Five-O is slightly less sadistic than its parent. Plenty of mileage while still enjoying an epic tour of the eastern plains. Prepare yourself for some awe-inspiring moments while you take in a great panorama of Colorado’s high peaks. Pikes Peak alone is stunning in late spring with its snow-capped summit. Fully supported with an aid station in the middle so you can pack light.\n\n\nHemi: 100 miles\n\n100 miles of pure bliss. The Hemi will cover over 6400 feet of climbing while topping out at 7300 ft. This course is a perfect blend of all the killer gravel roads in Elbert County. While you’ll get wide open power sections\, expect some climbing that will test the legs over this distance. Wind in May east of the Colorado front range? Yeah it’s likely. 3 aid stations to serve your hydration and nutritional needs.\n\n\n\n\n\nMad Gravel and Rattler Racing have combined efforts with the Junior Cycling Project\, a Colorado non-profit charitable organization to create this event. Together\, they work to expand on the shared mission of getting juniors on bikes\, introduce new cycling opportunities\, and work with like minded non-profits to get bikes in the hands of those juniors in need. By working and partnering with the community\, they advance the cause of supporting junior riders and give them the resources and avenues to help them grow. After all\, they are the future of the sport!. \nARESDEC is proud to provide communications support to this important event and the community that supports them! \n 
URL:https://aresdec.org/event/mad-gravel-race-2-2/2026-09-06/
LOCATION:Peaceful Valley Scout Ranch\, 22799 Elbert Rd.\, Elbert\, CO\, 80106\, United States
CATEGORIES:Event
END:VEVENT
BEGIN:VEVENT
DTSTART;TZID=America/Denver:20260906T080000
DTEND;TZID=America/Denver:20260906T083000
DTSTAMP:20260423T010044
CREATED:20241210T032808Z
LAST-MODIFIED:20241223T015141Z
UID:10004357-1788681600-1788683400@aresdec.org
SUMMARY:ARES HF SSB Net 0800
DESCRIPTION:Colorado statewide ARES Voice Nets are held each Sunday. The HF single sideband Net meets at 0800 hours on 3810 KHz.\nPlease join us. \n 
URL:https://aresdec.org/event/ares-hf-ssb-net-0800/2026-09-06/
END:VEVENT
BEGIN:VEVENT
DTSTART;TZID=America/Denver:20260906T200000
DTEND;TZID=America/Denver:20260906T203000
DTSTAMP:20260423T010044
CREATED:20241210T033542Z
LAST-MODIFIED:20241223T014921Z
UID:10004618-1788724800-1788726600@aresdec.org
SUMMARY:ARES VHF Net 2000
DESCRIPTION:Statewide ARES voice Nets are held each Sunday. At 2000 hours the VHF Net meets on the Colorado Connection system of repeaters. In the Denver area the Connection is found on 145.310 MHz. and an 88.5 Hz tone is required.\nCome join us!
URL:https://aresdec.org/event/ares-vhf-net-2000/2026-09-06/
END:VEVENT
BEGIN:VEVENT
DTSTART;VALUE=DATE:20260907
DTEND;VALUE=DATE:20260908
DTSTAMP:20260423T010044
CREATED:20251216T014513Z
LAST-MODIFIED:20251216T014513Z
UID:10005078-1788739200-1788825599@aresdec.org
SUMMARY:Labor Day
DESCRIPTION:
URL:https://aresdec.org/event/labor-day/2026-09-07/
CATEGORIES:US Federal Holidays
END:VEVENT
BEGIN:VEVENT
DTSTART;TZID=America/Denver:20260908T183000
DTEND;TZID=America/Denver:20260908T203000
DTSTAMP:20260423T010044
CREATED:20251205T201703Z
LAST-MODIFIED:20251205T201704Z
UID:10004958-1788892200-1788899400@aresdec.org
SUMMARY:Monthly Staff Meeting
DESCRIPTION:Monthly ARES R1D5 Staff Meeting held in person and online via Microsoft Teams.  Link to Microsoft Teams will be provided before each Staff meeting.  In-Person location will remain the same each month unless advised otherwise.
URL:https://aresdec.org/event/monthly-staff-meeting-2-2/2026-09-08/
LOCATION:PUMC – Parker United Methodist Church\, 11805 S Pine Drive\, Parker\, CO\, 80134\, United States
CATEGORIES:Staff Meetings
END:VEVENT
BEGIN:VEVENT
DTSTART;TZID=America/Denver:20260910T200000
DTEND;TZID=America/Denver:20260910T203000
DTSTAMP:20260423T010044
CREATED:20241109T225256Z
LAST-MODIFIED:20241109T225256Z
UID:10002512-1789070400-1789072200@aresdec.org
SUMMARY:ARESDEC Weekly Net
DESCRIPTION:Weekly Nets\n\nWeekly ARESDEC nets are held every Thursday at 20:00 local time\, except for the fourth Thursday of each month which is reserved for our monthly Face-to-Face meeting. The default Net frequency is the 448.425 MHz  repeater (negative offset\, 107.2 Hz tone)\, but may sometimes be moved to other frequencies in order to test our capabilities. \nGuests are welcome! Please listen to NCS instructions prior to checking in to the net
URL:https://aresdec.org/event/aresdec-weekly-net-2/2026-09-10/
CATEGORIES:Weekly Net
END:VEVENT
BEGIN:VEVENT
DTSTART;VALUE=DATE:20260911
DTEND;VALUE=DATE:20260912
DTSTAMP:20260423T010044
CREATED:20251216T021712Z
LAST-MODIFIED:20251216T021712Z
UID:10005128-1789084800-1789171199@aresdec.org
SUMMARY:9/11 Remembrance Day
DESCRIPTION:
URL:https://aresdec.org/event/9-11-remembrance-day/2026-09-11/
CATEGORIES:US Days of Celebration
END:VEVENT
BEGIN:VEVENT
DTSTART;TZID=America/Denver:20260911T173000
DTEND;TZID=America/Denver:20260911T230000
DTSTAMP:20260423T010044
CREATED:20251214T021238Z
LAST-MODIFIED:20251214T021238Z
UID:10005036-1789147800-1789167600@aresdec.org
SUMMARY:Heroes Gala - Douglas County Community Foundation
DESCRIPTION:ARESDEC is honored to participate in the Douglas County Community Foundation’s (DCCF) Heroes Gala at Centennial Airport.  The Heroes Gala is the DCCF’s annual signature event that honors Douglas County first responders\, Armed Forces members\, and non-profit partner organizations supporting these brave heroes.  It is an unforgettable night of inspiration and celebration helping raise funds for DCCF and the Community Emergency Relief Fund\, which can quickly be accessed and distributed to provide direct assistance to our community\, non profit partners\, and first responders during catastrophic events affecting Douglas County. \nABOUT ARESDEC: \nARESDEC or Amateur Radio Emergency Service of Douglas and Elbert Counties is an all-volunteer public service organization\, consisting of licensed and trained Amateur Radio operators who provide communications for community events and in times of emergency.  We are one of 28 ARES districts in the state of Colorado serving Douglas and Elbert Counties. \nFor more than 30 years\, ARESDEC has been serving our community in times of emergency and disaster by providing volunteer communications services to public safety agencies and support organizations (i.e.\, American Red Cross and Salvation Army). We are a service organization comprised of amateur radio operators who donate our time\, equipment\, and expertise. We train our members to use best communications practices to effectively assist our served agencies. \nWe are honored to participate in this signature event each year. \nFor more information about ARESDEC\, please contact us at PIO@aresdec.org. \n  \nARESDEC Staff at Heroes Gala 2025 with Mobile Communications Center and Portable Radio Setup \nWade (K0WJF)\, Perry (W6AUN)\, Dick K8ZTT)\, Alex (W0AJO)\, Peter (W0OW)\, Peter (KC0FJA)\n 
URL:https://aresdec.org/event/heroes-gala-douglas-county-community-foundation/
LOCATION:Centennial Airport-Signature Aviation South Jet Hangar\, 8123 S. Interport Blvd.\, Englewood\, CO\, 80112\, United States
CATEGORIES:Event
GEO:39.5691099;-104.8471457
X-APPLE-STRUCTURED-LOCATION;VALUE=URI;X-ADDRESS=Centennial Airport-Signature Aviation South Jet Hangar 8123 S. Interport Blvd. Englewood CO 80112 United States;X-APPLE-RADIUS=500;X-TITLE=8123 S. Interport Blvd.:geo:-104.8471457,39.5691099
END:VEVENT
BEGIN:VEVENT
DTSTART;TZID=America/Denver:20260913T070000
DTEND;TZID=America/Denver:20260913T170000
DTSTAMP:20260423T010044
CREATED:20251211T191043Z
LAST-MODIFIED:20251211T191241Z
UID:10004891-1789282800-1789318800@aresdec.org
SUMMARY:Fall Poker Run
DESCRIPTION:Twice a year\, the Rampart Range Motorcycle Management Committee sponsors a non-competitive Poker Run for off-road motorcycles (no ATV’s) and riders of all ages. There is a short course (approximately 15-25 miles) and a long course (approximately 50-55 miles). Riders of all abilities are welcome. Prizes are awarded on the basis of the poker hand you draw at the final check point.  The Fall Poker Run is not a race\, it is an EVENT!   \nThis is a non-competitive event and the 5 prizes awarded for each course are based on the rider’s luck in drawing one of the five highest winning poker hands consisting of five (short course) or seven (long course) total cards at the final checkpoint.  It’s truly a wonderful experience. \nARESDEC will provide tactical communications & situational awareness for Poker Run event staff. ARESDEC members should expect to provide APRS/LoRa tracking\, checkpoint communications\, Forward Observer (FOB)\, observe Poker Run operations and monitor the Net\, report any emergencies\, medical issues\, and/or disabled bikes\, and report rider activity like first rider through\, sweeps passing through the checkpoints\, and event staff arriving and departing.  We coordinate with Douglas County Search & Rescue (DCSAR) for their services if needed on the course. \nARES R1D5 Members can contact Training@aresdec.org or staff@aresdec.org if you have questions\, suggestions or concerns.  We look forward to working with the event sponsor and partners for a successful event! \nBackground:  The Rampart Range Fall Poker Run is planned and run by the RRMMC (Rampart Range Motorcycle Management Committee). RRMMC is an all-volunteer\, nonprofit corporation founded in 1972 to work with the Forest Service to promote and preserve dirt bike trail riding opportunities in the Rampart Range area of Pike National Forest near Sedalia\, Colorado. \nEvent Website: http://rampartrange.org/poker-run/ \n 
URL:https://aresdec.org/event/fall-poker-run-2-2/2026-09-13/
LOCATION:Rampart Range\, CO\, United States
CATEGORIES:Event
GEO:39.32777;-105.09408
END:VEVENT
BEGIN:VEVENT
DTSTART;TZID=America/Denver:20260913T080000
DTEND;TZID=America/Denver:20260913T083000
DTSTAMP:20260423T010044
CREATED:20241210T032808Z
LAST-MODIFIED:20241223T015141Z
UID:10004358-1789286400-1789288200@aresdec.org
SUMMARY:ARES HF SSB Net 0800
DESCRIPTION:Colorado statewide ARES Voice Nets are held each Sunday. The HF single sideband Net meets at 0800 hours on 3810 KHz.\nPlease join us. \n 
URL:https://aresdec.org/event/ares-hf-ssb-net-0800/2026-09-13/
END:VEVENT
BEGIN:VEVENT
DTSTART;TZID=America/Denver:20260913T200000
DTEND;TZID=America/Denver:20260913T203000
DTSTAMP:20260423T010044
CREATED:20241210T033542Z
LAST-MODIFIED:20241223T014921Z
UID:10004619-1789329600-1789331400@aresdec.org
SUMMARY:ARES VHF Net 2000
DESCRIPTION:Statewide ARES voice Nets are held each Sunday. At 2000 hours the VHF Net meets on the Colorado Connection system of repeaters. In the Denver area the Connection is found on 145.310 MHz. and an 88.5 Hz tone is required.\nCome join us!
URL:https://aresdec.org/event/ares-vhf-net-2000/2026-09-13/
END:VEVENT
BEGIN:VEVENT
DTSTART;TZID=America/Denver:20260914T183000
DTEND;TZID=America/Denver:20260914T203000
DTSTAMP:20260423T010044
CREATED:20251211T023622Z
LAST-MODIFIED:20251211T023622Z
UID:10004989-1789410600-1789417800@aresdec.org
SUMMARY:Douglas County AuxComm Fall All-Hands Meeting
DESCRIPTION:ARES R1D5 members and the Douglas County (DC) OEM staff will meet in the Spring and Fall each year for AuxComm training. The meeting is held at the DC County EOC.  Meeting time is 1830 – 2030.  The purpose of this meeting is to become better acquainted with EOC processes and procedures\, discuss any changes within the EOC since the last time we met and anything needed to be prepared to support activations in the EOC. \nW6AUN will facilitate the meeting.  Stay tuned for more details. \n  \n 
URL:https://aresdec.org/event/dc-auxcomm-semi-annual-all-hands-meeting-3/2026-09-14/
LOCATION:Douglas County EOC\, 4000 Justice Way\, Castle Rock\, CO\, 80109\, United States
CATEGORIES:AuxComm Meeting
END:VEVENT
BEGIN:VEVENT
DTSTART;TZID=America/Denver:20260914T190000
DTEND;TZID=America/Denver:20260914T193000
DTSTAMP:20260423T010044
CREATED:20250119T031217Z
LAST-MODIFIED:20250212T015927Z
UID:10004818-1789412400-1789414200@aresdec.org
SUMMARY:ARRL Colorado Section Monthly Net
DESCRIPTION:Monthly ARRL Section Net\nEveryone is invited to check in and join the discussion! \nThis net is dedicated to all things related to amateur radio in Colorado\, including updates from the ARRL. It’s the perfect place to announce ham fests\, club activities\, request assistance from fellow hams\, and share anything of interest to the Colorado ham community. This net takes place every second Monday of the month at 7:00 PM. \nWe extend our heartfelt thanks to the repeater owners and clubs that host the Section Net. Please feel free to visit the websites of all the clubs that carry the Colorado Section Net. Additionally\, we appreciate the Colorado Traffic League for allowing us to use their usual time slot on the Colorado Connection to host this net at 7 PM. \nThe net is carried on the following repeater systems: \n\nWE0FUN Fun Machines Repeaters\nColorado Connection VHF Repeater System\nRocky Mountain Ham Radio Wide Talk Group 700\nNorthern Colorado ARC Buckhorn Repeaters\nMountain Amateur Radio Club Repeaters\nWestern Colorado Amateur Radio Club\n\nComputer and digital modes: \n\nAllstar – Node 28368\nEcholink – *CANONCTY* 363976\nDStar – XRF815B\, XLX815B\, DCS815B or REF815B\nTGIF – DMR 815\nYSF – US CO WE0FUN 53927\nP25 – Talkgroup 10209\nNXDN – Talkgroup 31081\nM17 – 815B\n\nThe above information is found on the website link at https://colorado-arrl.us/arrl-section-net/
URL:https://aresdec.org/event/5940/2026-09-14/
CATEGORIES:Training
END:VEVENT
BEGIN:VEVENT
DTSTART;TZID=America/Denver:20260917T200000
DTEND;TZID=America/Denver:20260917T203000
DTSTAMP:20260423T010044
CREATED:20241109T225421Z
LAST-MODIFIED:20241109T225421Z
UID:10002573-1789675200-1789677000@aresdec.org
SUMMARY:ARESDEC Weekly Net
DESCRIPTION:Weekly Nets\n\nWeekly ARESDEC nets are held every Thursday at 20:00 local time\, except for the fourth Thursday of each month which is reserved for our monthly Face-to-Face meeting. The default Net frequency is the 448.425 MHz  repeater (negative offset\, 107.2 Hz tone)\, but may sometimes be moved to other frequencies in order to test our capabilities. \nGuests are welcome! Please listen to NCS instructions prior to checking in to the net
URL:https://aresdec.org/event/aresdec-weekly-net-3/2026-09-17/
CATEGORIES:Weekly Net
END:VEVENT
BEGIN:VEVENT
DTSTART;TZID=America/Denver:20260920T080000
DTEND;TZID=America/Denver:20260920T083000
DTSTAMP:20260423T010044
CREATED:20241210T032808Z
LAST-MODIFIED:20241223T015141Z
UID:10004359-1789891200-1789893000@aresdec.org
SUMMARY:ARES HF SSB Net 0800
DESCRIPTION:Colorado statewide ARES Voice Nets are held each Sunday. The HF single sideband Net meets at 0800 hours on 3810 KHz.\nPlease join us. \n 
URL:https://aresdec.org/event/ares-hf-ssb-net-0800/2026-09-20/
END:VEVENT
BEGIN:VEVENT
DTSTART;TZID=America/Denver:20260920T200000
DTEND;TZID=America/Denver:20260920T203000
DTSTAMP:20260423T010044
CREATED:20241210T033542Z
LAST-MODIFIED:20241223T014921Z
UID:10004620-1789934400-1789936200@aresdec.org
SUMMARY:ARES VHF Net 2000
DESCRIPTION:Statewide ARES voice Nets are held each Sunday. At 2000 hours the VHF Net meets on the Colorado Connection system of repeaters. In the Denver area the Connection is found on 145.310 MHz. and an 88.5 Hz tone is required.\nCome join us!
URL:https://aresdec.org/event/ares-vhf-net-2000/2026-09-20/
END:VEVENT
BEGIN:VEVENT
DTSTART;TZID=America/Denver:20260924T190000
DTEND;TZID=America/Denver:20260924T210000
DTSTAMP:20260423T010044
CREATED:20240308T031129Z
LAST-MODIFIED:20260304T041030Z
UID:10000442-1790276400-1790283600@aresdec.org
SUMMARY:Face-to-Face:  Your Ham Shack: Installing Coax Panel and Grounding Considerations
DESCRIPTION:Have you thought about building a Ham Shack at your QTH?   What goes into building one properly and using proper grounding practices? \nBrad W0BDT completed a project with his QTH and documented his story.  He will share with us a step-by-step guide to how he installed his coax panel and related grounding.  He will share with us what his experiences were and what considerations we should consider when undertaking a similar project.  He’ll also share with us how he setup his shack to properly manage exterior antennas.  It will be worth your time! \nAll interested amateur radio operators – or those interested in becoming amateur radio operators are welcome to attend the Face-to-Face meeting.  Please come and join us. \nFor more information\, please contact us at Training@aresdec.org.
URL:https://aresdec.org/event/face-to-face-2-6-2/
LOCATION:NB – New Beginning Community Church\, 10550 S Progress Way #100\, Parker\, CO\, 80134\, United States
CATEGORIES:Face-to-Face Meetings
END:VEVENT
BEGIN:VEVENT
DTSTART;TZID=America/Denver:20260924T200000
DTEND;TZID=America/Denver:20260924T203000
DTSTAMP:20260423T010044
CREATED:20241110T012208Z
LAST-MODIFIED:20241110T012208Z
UID:10002650-1790280000-1790281800@aresdec.org
SUMMARY:ARESDEC Weekly Net Cancelled
DESCRIPTION:There is no Weekly Net on the 4th Thursday of each month if ARESDEC is sponsoring a monthly Face-to-Face meeting or if a holiday falls on the 4th Thursday.
URL:https://aresdec.org/event/aresdec-weekly-net-cancelled/2026-09-24/
CATEGORIES:Weekly NET Cancelled
END:VEVENT
BEGIN:VEVENT
DTSTART;TZID=America/Denver:20260926T090000
DTEND;TZID=America/Denver:20260926T110000
DTSTAMP:20260423T010044
CREATED:20241109T033527Z
LAST-MODIFIED:20260411T003638Z
UID:10001247-1790413200-1790420400@aresdec.org
SUMMARY:Amateur Radio License Testing
DESCRIPTION:Sponsor: ARESDEC VEC team via W5YI-VEC \n 2026 Saturday Test Dates: \n\nJan 24\nFeb 28\nMar 28\nApr 25\nMay 23\nJun 20\nJul 18\nAug 29\nSep 26\nOct 24\nNov 21\nDec 19\n\nTime: 9:00-11:00 AM \nLocation: Pradera Fire Station (aka Franktown Fire Protection District Station 184)\, 6120 Bridle Path Ln\, Parker\, CO 80134 \nContact: ve@aresdec.org \nRegistration Options:  \n\nSend an e-mail to ve@aresdec.org and a registration link will be sent to you for the specific session you’re interested in.\nVisit https://hamstudy.org/sessions/K8ZTT/all to complete your registration online.\n\nOn the application\, you will be asked to answer the “Basic Qualification Question” which says\, “Has the Applicant or any party to this application\, or any party directly or indirectly controlling the Applicant\, ever been convicted of a felony by any state or federal court?”  Whether you answer “yes” or “no”\, you may continue to take the test; however\, if you answer\, “yes”\, you will need to follow the special instructions regarding the disposition of your case. \n  \nTo take a FCC exam\, you must do or/and bring the following: \n1. MANDATORY BEFORE THE EXAM – FCC Registration Number (FRN).  Examinees are required by the FCC to submit your FRN with your license application form. New license applicants must create an FCC user account and register their Social Security Number (SSN) in the FCC Commission Registration System (CORES) before attending exam sessions.  Registrants will be assigned an FRN which will be used in all license transactions with the FCC.  For instructions on how to register your SSN and receive an FRN from the FCC\, visit the CORES Registration page and the FCC’s Registration instructions Per FCC rules\, a valid email address is also mandatory on the  application form to receive FCC correspondence\, including the official copy of your Amateur Radio license. \n  \n2. One legal photo ID (identification): \n\n\n\nState Driver’s License\nGovernment issued Passport\nMilitary or Law Enforcement Officer Photo ID card\nStudent School Photo ID card\nState Photo ID card\n\n\n\n3. If no photo ID is available\, two forms of identification: \n\n\n\nNon-photo State ID card (some states still have them)\nBirth certificate (must have the appropriate seal)\nSocial security card\nEmployer’s wage statement or Minor’s work permit\nSchool ID card\nSchool or Public Library card\nUtility bill\, bank statement or other business correspondence that specifically names the person; or a postmarked envelope addressed to the person at his or her current mailing address as it appears on Form 605.\n\n\n\n4.  Students/minors without a photo ID need to bring only one of the above items if a legal guardian presents their photo ID; otherwise\, two non-photo IDs are required. \n5.  Original and one photocopy of CSCE (Certificate of Successful Completion of Exam) toward the next class license\, if any.  ***The CSCE is only needed if testing before a license issue or update is not reflected in FCC Database. \n6. The 2026 fee is $14.00.  Cash is preferred; check or credit card “may be accepted” in extreme circumstances.  Credit cards may not always be accepted. The examination fee allows an examinee to take one test of each element.  Element “retakes” are allowed for an additional payment of $14.00. \n7. Optional Supplies – pen\, pencil\, eraser\, calculator.  Only calculators without memory and programming or with proof of memory and programming cleared are allowed. Calculators must be “stand-alone”; that is\, not an “app” on a phone or tablet.  You will have access to a calculator on the PC that will be provided to you for purposes of taking your exam.  You may also request scratch paper in the exam; do not bring your own scratch paper. \n 
URL:https://aresdec.org/event/amateur-radio-license-testing/2026-09-26/
LOCATION:FD – Pradera Fire Station\, 6120 Bridle Path Ln\, Parker\, CO\, 80134\, United States
CATEGORIES:VE Testing
ORGANIZER;CN="ARESDEC VEC team via W5YI":MAILTO:ve@aresdec.org
END:VEVENT
BEGIN:VEVENT
DTSTART;TZID=America/Denver:20260927T080000
DTEND;TZID=America/Denver:20260927T083000
DTSTAMP:20260423T010044
CREATED:20241210T032808Z
LAST-MODIFIED:20241223T015141Z
UID:10004360-1790496000-1790497800@aresdec.org
SUMMARY:ARES HF SSB Net 0800
DESCRIPTION:Colorado statewide ARES Voice Nets are held each Sunday. The HF single sideband Net meets at 0800 hours on 3810 KHz.\nPlease join us. \n 
URL:https://aresdec.org/event/ares-hf-ssb-net-0800/2026-09-27/
END:VEVENT
BEGIN:VEVENT
DTSTART;TZID=America/Denver:20260927T200000
DTEND;TZID=America/Denver:20260927T203000
DTSTAMP:20260423T010044
CREATED:20241210T033542Z
LAST-MODIFIED:20241223T014921Z
UID:10004621-1790539200-1790541000@aresdec.org
SUMMARY:ARES VHF Net 2000
DESCRIPTION:Statewide ARES voice Nets are held each Sunday. At 2000 hours the VHF Net meets on the Colorado Connection system of repeaters. In the Denver area the Connection is found on 145.310 MHz. and an 88.5 Hz tone is required.\nCome join us!
URL:https://aresdec.org/event/ares-vhf-net-2000/2026-09-27/
END:VEVENT
END:VCALENDAR