BEGIN:VCALENDAR
VERSION:2.0
PRODID:-//ARESDEC - ECPv6.15.20//NONSGML v1.0//EN
CALSCALE:GREGORIAN
METHOD:PUBLISH
X-ORIGINAL-URL:https://aresdec.org
X-WR-CALDESC:Events for ARESDEC
REFRESH-INTERVAL;VALUE=DURATION:PT1H
X-Robots-Tag:noindex
X-PUBLISHED-TTL:PT1H
BEGIN:VTIMEZONE
TZID:America/Denver
BEGIN:DAYLIGHT
TZOFFSETFROM:-0700
TZOFFSETTO:-0600
TZNAME:MDT
DTSTART:20250309T090000
END:DAYLIGHT
BEGIN:STANDARD
TZOFFSETFROM:-0600
TZOFFSETTO:-0700
TZNAME:MST
DTSTART:20251102T080000
END:STANDARD
BEGIN:DAYLIGHT
TZOFFSETFROM:-0700
TZOFFSETTO:-0600
TZNAME:MDT
DTSTART:20260308T090000
END:DAYLIGHT
BEGIN:STANDARD
TZOFFSETFROM:-0600
TZOFFSETTO:-0700
TZNAME:MST
DTSTART:20261101T080000
END:STANDARD
BEGIN:DAYLIGHT
TZOFFSETFROM:-0700
TZOFFSETTO:-0600
TZNAME:MDT
DTSTART:20270314T090000
END:DAYLIGHT
BEGIN:STANDARD
TZOFFSETFROM:-0600
TZOFFSETTO:-0700
TZNAME:MST
DTSTART:20271107T080000
END:STANDARD
END:VTIMEZONE
BEGIN:VEVENT
DTSTART;TZID=America/Denver:20260702T200000
DTEND;TZID=America/Denver:20260702T203000
DTSTAMP:20260422T205048
CREATED:20241109T225114Z
LAST-MODIFIED:20241109T225114Z
UID:10002449-1783022400-1783024200@aresdec.org
SUMMARY:ARESDEC Weekly Net
DESCRIPTION:Weekly Nets\n\nWeekly ARESDEC nets are held every Thursday at 20:00 local time\, except for the fourth Thursday of each month which is reserved for our monthly Face-to-Face meeting. The default Net frequency is the 448.425 MHz  repeater (negative offset\, 107.2 Hz tone)\, but may sometimes be moved to other frequencies in order to test our capabilities. \nGuests are welcome! Please listen to NCS instructions prior to checking in to the net.
URL:https://aresdec.org/event/aresdec-weekly-net/2026-07-02/
CATEGORIES:Weekly Net
END:VEVENT
BEGIN:VEVENT
DTSTART;VALUE=DATE:20260704
DTEND;VALUE=DATE:20260705
DTSTAMP:20260422T205048
CREATED:20251216T014401Z
LAST-MODIFIED:20251216T014401Z
UID:10005073-1783123200-1783209599@aresdec.org
SUMMARY:Independence Day
DESCRIPTION:
URL:https://aresdec.org/event/independence-day/2026-07-04/
CATEGORIES:US Federal Holidays
END:VEVENT
BEGIN:VEVENT
DTSTART;TZID=America/Denver:20260705T080000
DTEND;TZID=America/Denver:20260705T083000
DTSTAMP:20260422T205048
CREATED:20241210T032808Z
LAST-MODIFIED:20241223T015141Z
UID:10004348-1783238400-1783240200@aresdec.org
SUMMARY:ARES HF SSB Net 0800
DESCRIPTION:Colorado statewide ARES Voice Nets are held each Sunday. The HF single sideband Net meets at 0800 hours on 3810 KHz.\nPlease join us. \n 
URL:https://aresdec.org/event/ares-hf-ssb-net-0800/2026-07-05/
END:VEVENT
BEGIN:VEVENT
DTSTART;TZID=America/Denver:20260705T200000
DTEND;TZID=America/Denver:20260705T203000
DTSTAMP:20260422T205048
CREATED:20241210T033542Z
LAST-MODIFIED:20241223T014921Z
UID:10004609-1783281600-1783283400@aresdec.org
SUMMARY:ARES VHF Net 2000
DESCRIPTION:Statewide ARES voice Nets are held each Sunday. At 2000 hours the VHF Net meets on the Colorado Connection system of repeaters. In the Denver area the Connection is found on 145.310 MHz. and an 88.5 Hz tone is required.\nCome join us!
URL:https://aresdec.org/event/ares-vhf-net-2000/2026-07-05/
END:VEVENT
BEGIN:VEVENT
DTSTART;TZID=America/Denver:20260706T183000
DTEND;TZID=America/Denver:20260706T203000
DTSTAMP:20260422T205048
CREATED:20251205T201703Z
LAST-MODIFIED:20251205T201704Z
UID:10004907-1783362600-1783369800@aresdec.org
SUMMARY:Monthly Staff Meeting
DESCRIPTION:Monthly ARES R1D5 Staff Meeting held in person and online via Microsoft Teams.  Link to Microsoft Teams will be provided before each Staff meeting.  In-Person location will remain the same each month unless advised otherwise.
URL:https://aresdec.org/event/monthly-staff-meeting-2-2/2026-07-06/
LOCATION:PUMC – Parker United Methodist Church\, 11805 S Pine Drive\, Parker\, CO\, 80134\, United States
CATEGORIES:Staff Meetings
END:VEVENT
BEGIN:VEVENT
DTSTART;TZID=America/Denver:20260709T200000
DTEND;TZID=America/Denver:20260709T203000
DTSTAMP:20260422T205048
CREATED:20241109T225256Z
LAST-MODIFIED:20241109T225256Z
UID:10002510-1783627200-1783629000@aresdec.org
SUMMARY:ARESDEC Weekly Net
DESCRIPTION:Weekly Nets\n\nWeekly ARESDEC nets are held every Thursday at 20:00 local time\, except for the fourth Thursday of each month which is reserved for our monthly Face-to-Face meeting. The default Net frequency is the 448.425 MHz  repeater (negative offset\, 107.2 Hz tone)\, but may sometimes be moved to other frequencies in order to test our capabilities. \nGuests are welcome! Please listen to NCS instructions prior to checking in to the net
URL:https://aresdec.org/event/aresdec-weekly-net-2/2026-07-09/
CATEGORIES:Weekly Net
END:VEVENT
BEGIN:VEVENT
DTSTART;TZID=America/Denver:20260712T080000
DTEND;TZID=America/Denver:20260712T083000
DTSTAMP:20260422T205048
CREATED:20241210T032808Z
LAST-MODIFIED:20241223T015141Z
UID:10004349-1783843200-1783845000@aresdec.org
SUMMARY:ARES HF SSB Net 0800
DESCRIPTION:Colorado statewide ARES Voice Nets are held each Sunday. The HF single sideband Net meets at 0800 hours on 3810 KHz.\nPlease join us. \n 
URL:https://aresdec.org/event/ares-hf-ssb-net-0800/2026-07-12/
END:VEVENT
BEGIN:VEVENT
DTSTART;TZID=America/Denver:20260712T200000
DTEND;TZID=America/Denver:20260712T203000
DTSTAMP:20260422T205048
CREATED:20241210T033542Z
LAST-MODIFIED:20241223T014921Z
UID:10004610-1783886400-1783888200@aresdec.org
SUMMARY:ARES VHF Net 2000
DESCRIPTION:Statewide ARES voice Nets are held each Sunday. At 2000 hours the VHF Net meets on the Colorado Connection system of repeaters. In the Denver area the Connection is found on 145.310 MHz. and an 88.5 Hz tone is required.\nCome join us!
URL:https://aresdec.org/event/ares-vhf-net-2000/2026-07-12/
END:VEVENT
BEGIN:VEVENT
DTSTART;TZID=America/Denver:20260713T190000
DTEND;TZID=America/Denver:20260713T193000
DTSTAMP:20260422T205048
CREATED:20250119T031217Z
LAST-MODIFIED:20250212T015927Z
UID:10004816-1783969200-1783971000@aresdec.org
SUMMARY:ARRL Colorado Section Monthly Net
DESCRIPTION:Monthly ARRL Section Net\nEveryone is invited to check in and join the discussion! \nThis net is dedicated to all things related to amateur radio in Colorado\, including updates from the ARRL. It’s the perfect place to announce ham fests\, club activities\, request assistance from fellow hams\, and share anything of interest to the Colorado ham community. This net takes place every second Monday of the month at 7:00 PM. \nWe extend our heartfelt thanks to the repeater owners and clubs that host the Section Net. Please feel free to visit the websites of all the clubs that carry the Colorado Section Net. Additionally\, we appreciate the Colorado Traffic League for allowing us to use their usual time slot on the Colorado Connection to host this net at 7 PM. \nThe net is carried on the following repeater systems: \n\nWE0FUN Fun Machines Repeaters\nColorado Connection VHF Repeater System\nRocky Mountain Ham Radio Wide Talk Group 700\nNorthern Colorado ARC Buckhorn Repeaters\nMountain Amateur Radio Club Repeaters\nWestern Colorado Amateur Radio Club\n\nComputer and digital modes: \n\nAllstar – Node 28368\nEcholink – *CANONCTY* 363976\nDStar – XRF815B\, XLX815B\, DCS815B or REF815B\nTGIF – DMR 815\nYSF – US CO WE0FUN 53927\nP25 – Talkgroup 10209\nNXDN – Talkgroup 31081\nM17 – 815B\n\nThe above information is found on the website link at https://colorado-arrl.us/arrl-section-net/
URL:https://aresdec.org/event/5940/2026-07-13/
CATEGORIES:Training
END:VEVENT
BEGIN:VEVENT
DTSTART;TZID=America/Denver:20260716T200000
DTEND;TZID=America/Denver:20260716T203000
DTSTAMP:20260422T205048
CREATED:20241109T225421Z
LAST-MODIFIED:20241109T225421Z
UID:10002571-1784232000-1784233800@aresdec.org
SUMMARY:ARESDEC Weekly Net
DESCRIPTION:Weekly Nets\n\nWeekly ARESDEC nets are held every Thursday at 20:00 local time\, except for the fourth Thursday of each month which is reserved for our monthly Face-to-Face meeting. The default Net frequency is the 448.425 MHz  repeater (negative offset\, 107.2 Hz tone)\, but may sometimes be moved to other frequencies in order to test our capabilities. \nGuests are welcome! Please listen to NCS instructions prior to checking in to the net
URL:https://aresdec.org/event/aresdec-weekly-net-3/2026-07-16/
CATEGORIES:Weekly Net
END:VEVENT
BEGIN:VEVENT
DTSTART;TZID=America/Denver:20260718T090000
DTEND;TZID=America/Denver:20260718T110000
DTSTAMP:20260422T205048
CREATED:20241109T033527Z
LAST-MODIFIED:20260411T003638Z
UID:10005192-1784365200-1784372400@aresdec.org
SUMMARY:Amateur Radio License Testing
DESCRIPTION:Sponsor: ARESDEC VEC team via W5YI-VEC \n 2026 Saturday Test Dates: \n\nJan 24\nFeb 28\nMar 28\nApr 25\nMay 23\nJun 20\nJul 18\nAug 29\nSep 26\nOct 24\nNov 21\nDec 19\n\nTime: 9:00-11:00 AM \nLocation: Pradera Fire Station (aka Franktown Fire Protection District Station 184)\, 6120 Bridle Path Ln\, Parker\, CO 80134 \nContact: ve@aresdec.org \nRegistration Options:  \n\nSend an e-mail to ve@aresdec.org and a registration link will be sent to you for the specific session you’re interested in.\nVisit https://hamstudy.org/sessions/K8ZTT/all to complete your registration online.\n\nOn the application\, you will be asked to answer the “Basic Qualification Question” which says\, “Has the Applicant or any party to this application\, or any party directly or indirectly controlling the Applicant\, ever been convicted of a felony by any state or federal court?”  Whether you answer “yes” or “no”\, you may continue to take the test; however\, if you answer\, “yes”\, you will need to follow the special instructions regarding the disposition of your case. \n  \nTo take a FCC exam\, you must do or/and bring the following: \n1. MANDATORY BEFORE THE EXAM – FCC Registration Number (FRN).  Examinees are required by the FCC to submit your FRN with your license application form. New license applicants must create an FCC user account and register their Social Security Number (SSN) in the FCC Commission Registration System (CORES) before attending exam sessions.  Registrants will be assigned an FRN which will be used in all license transactions with the FCC.  For instructions on how to register your SSN and receive an FRN from the FCC\, visit the CORES Registration page and the FCC’s Registration instructions Per FCC rules\, a valid email address is also mandatory on the  application form to receive FCC correspondence\, including the official copy of your Amateur Radio license. \n  \n2. One legal photo ID (identification): \n\n\n\nState Driver’s License\nGovernment issued Passport\nMilitary or Law Enforcement Officer Photo ID card\nStudent School Photo ID card\nState Photo ID card\n\n\n\n3. If no photo ID is available\, two forms of identification: \n\n\n\nNon-photo State ID card (some states still have them)\nBirth certificate (must have the appropriate seal)\nSocial security card\nEmployer’s wage statement or Minor’s work permit\nSchool ID card\nSchool or Public Library card\nUtility bill\, bank statement or other business correspondence that specifically names the person; or a postmarked envelope addressed to the person at his or her current mailing address as it appears on Form 605.\n\n\n\n4.  Students/minors without a photo ID need to bring only one of the above items if a legal guardian presents their photo ID; otherwise\, two non-photo IDs are required. \n5.  Original and one photocopy of CSCE (Certificate of Successful Completion of Exam) toward the next class license\, if any.  ***The CSCE is only needed if testing before a license issue or update is not reflected in FCC Database. \n6. The 2026 fee is $14.00.  Cash is preferred; check or credit card “may be accepted” in extreme circumstances.  Credit cards may not always be accepted. The examination fee allows an examinee to take one test of each element.  Element “retakes” are allowed for an additional payment of $14.00. \n7. Optional Supplies – pen\, pencil\, eraser\, calculator.  Only calculators without memory and programming or with proof of memory and programming cleared are allowed. Calculators must be “stand-alone”; that is\, not an “app” on a phone or tablet.  You will have access to a calculator on the PC that will be provided to you for purposes of taking your exam.  You may also request scratch paper in the exam; do not bring your own scratch paper. \n 
URL:https://aresdec.org/event/amateur-radio-license-testing/2026-07-18/
LOCATION:FD – Pradera Fire Station\, 6120 Bridle Path Ln\, Parker\, CO\, 80134\, United States
CATEGORIES:VE Testing
ORGANIZER;CN="ARESDEC VEC team via W5YI":MAILTO:ve@aresdec.org
END:VEVENT
BEGIN:VEVENT
DTSTART;TZID=America/Denver:20260719T080000
DTEND;TZID=America/Denver:20260719T083000
DTSTAMP:20260422T205048
CREATED:20241210T032808Z
LAST-MODIFIED:20241223T015141Z
UID:10004350-1784448000-1784449800@aresdec.org
SUMMARY:ARES HF SSB Net 0800
DESCRIPTION:Colorado statewide ARES Voice Nets are held each Sunday. The HF single sideband Net meets at 0800 hours on 3810 KHz.\nPlease join us. \n 
URL:https://aresdec.org/event/ares-hf-ssb-net-0800/2026-07-19/
END:VEVENT
BEGIN:VEVENT
DTSTART;TZID=America/Denver:20260719T200000
DTEND;TZID=America/Denver:20260719T203000
DTSTAMP:20260422T205048
CREATED:20241210T033542Z
LAST-MODIFIED:20241223T014921Z
UID:10004611-1784491200-1784493000@aresdec.org
SUMMARY:ARES VHF Net 2000
DESCRIPTION:Statewide ARES voice Nets are held each Sunday. At 2000 hours the VHF Net meets on the Colorado Connection system of repeaters. In the Denver area the Connection is found on 145.310 MHz. and an 88.5 Hz tone is required.\nCome join us!
URL:https://aresdec.org/event/ares-vhf-net-2000/2026-07-19/
END:VEVENT
BEGIN:VEVENT
DTSTART;TZID=America/Denver:20260723T190000
DTEND;TZID=America/Denver:20260723T210000
DTSTAMP:20260422T205048
CREATED:20241111T012530Z
LAST-MODIFIED:20260110T002938Z
UID:10000456-1784833200-1784840400@aresdec.org
SUMMARY:Face-to-Face Meeting:  ARRL Field Day Report & BCARES Analog/Digital TV Demonstration
DESCRIPTION:We have a really great program planned for the July Face-to-Face meeting. \nOur Field Day MC’s will share the results from our recent Field Day event held at Hess Reservoir.  It’s one of the highlights of each season for the team.  We always look forward to this presentation\, showing the highlights and fun that was had by all.  It’s quite an event to plan\, prepare\, setup and sponsor each year.  It takes many people and months of planning to make this a successful event. \nWe’ll also have the opportunity to meet the team from BCARES (Boulder County ARES) who will demonstrate both analog and digital TV and explain how they use it in their activities. \nWe look forward to this Face-to-Face.  Come and join us!   For more information\, please contact us at Training@aresdec.org. \n      
URL:https://aresdec.org/event/face-to-face-7-24-2025/
LOCATION:NB – New Beginning Community Church\, 10550 S Progress Way #100\, Parker\, CO\, 80134\, United States
CATEGORIES:Face-to-Face Meetings
END:VEVENT
BEGIN:VEVENT
DTSTART;TZID=America/Denver:20260723T200000
DTEND;TZID=America/Denver:20260723T203000
DTSTAMP:20260422T205048
CREATED:20241110T012208Z
LAST-MODIFIED:20241110T012208Z
UID:10002648-1784836800-1784838600@aresdec.org
SUMMARY:ARESDEC Weekly Net Cancelled
DESCRIPTION:There is no Weekly Net on the 4th Thursday of each month if ARESDEC is sponsoring a monthly Face-to-Face meeting or if a holiday falls on the 4th Thursday.
URL:https://aresdec.org/event/aresdec-weekly-net-cancelled/2026-07-23/
CATEGORIES:Weekly NET Cancelled
END:VEVENT
BEGIN:VEVENT
DTSTART;VALUE=DATE:20260724
DTEND;VALUE=DATE:20260803
DTSTAMP:20260422T205048
CREATED:20230727T134515Z
LAST-MODIFIED:20251211T195205Z
UID:10002762-1784851200-1785715199@aresdec.org
SUMMARY:Douglas County Fair & Rodeo
DESCRIPTION:The Douglas County Fair & Rodeo is a longtime tradition that holds a special place in the hearts of Douglas County residents. This highly attended event has been a showcase for the skills and talents of many for generations. Complete with PRCA rodeos\, 4-H\, FFA and Open Class exhibitors\, Jr. Livestock Sale\, carnival\, entertainment and much more\, this is a fun gathering for young and old. \nDuring the Douglas County Fair\, ARES R1D5 will be operating out of the Fair’s command center\, and we are part of the DC Security and Facilities team.  We will be using public safety talkgroups.  This year we are sitting with those who are monitoring a large number of CCTV cameras installed around the fairgrounds. We will be communicating with law enforcement at the Fair\, and with Douglas County Law or Fire dispatch if the need arises. \nRADOs will be needed each day of the event to provide necessary coverage.  Please contact Training@aresdec.org for more information. \nEvent website: https://www.douglascountyfairandrodeo.com/
URL:https://aresdec.org/event/douglas-county-fair-rodeo/2026-07-24/
LOCATION:Douglas County Fairgrounds\, 500 Fairgrounds Rd.\, Castle Rock\, CO\, 80104\, United States
CATEGORIES:Event
ATTACH;FMTTYPE=image/png:https://aresdec.org/wp-content/uploads/2023/07/DC-Fair-and-Rodeo-Logo.png
END:VEVENT
BEGIN:VEVENT
DTSTART;VALUE=DATE:20260725
DTEND;VALUE=DATE:20260803
DTSTAMP:20260422T205048
CREATED:20231229T043523Z
LAST-MODIFIED:20251211T195445Z
UID:10002767-1784937600-1785715199@aresdec.org
SUMMARY:Elbert County Fair & Rodeo
DESCRIPTION:The Elbert County Office of Emergency Management (OEM) provides the request for County Fair ARES® support to provide situational awareness\, weather monitoring and reporting\, staff coordination\, and onsite safety.  We will work from an on-site Safety Station\, monitor radio communications\, and relay traffic as directed by Elbert County Fair Board Leadership. We will again be using DTRS (public safety radios) and those R1D5 members with Elbert County EOC training are highly desired\, but not required\, for this event. \nRADOs needed to cover the entire event. \nEvent website: https://www.elbertcountyfair.com/
URL:https://aresdec.org/event/elbert-county-fair-2024/2026-07-25/
LOCATION:Elbert County Fairground\, 95 Ute Ave\, Kiowa\, CO\, 80117\, United States
CATEGORIES:Event
END:VEVENT
BEGIN:VEVENT
DTSTART;TZID=America/Denver:20260725T080000
DTEND;TZID=America/Denver:20260725T130000
DTSTAMP:20260422T205048
CREATED:20251217T012531Z
LAST-MODIFIED:20251217T012735Z
UID:10005140-1784966400-1784984400@aresdec.org
SUMMARY:Pikes Peak Radio Amateur Association Megafest 2026
DESCRIPTION:Pikes Peak Radio Amateur Radio Association presents its 2026 MEGAFEST!\n  \nHere’s a hamfest that is less than a 30 minute drive for most of us on a Saturday.  How perfect is that? \nDate:  July 25\, 2026 \nTime: 0800 to 1300 (ticket sales begin at 0730) \nLocation:  Lewis-Palmer High School \nAddress:  1300 Higby Road \nMonument\, CO 80132 \nFor more information\, visit https://ppraa.org/megafest\nDirections: \nJust East of I-25\, Exit 161 from the north\, Exit 158 from the south. \nGoogle Maps Link:  https://tinyurl.com/Megafest2026 \nWhat3Words:  https://w3w.co/supplement.outings.hockey \nLicense Testing at 10:00 AM – FREE testing\, NO Fee \nDrawings !!! Prizes !!!\n\n\n\nGrand Prize: Lab599 Discovery TX-500 Transceiver w/case\nRaffle Tickets: $1.00 each\, 6 for $5.00\, \n15 for $10.00 or 40 for $20.00\n\n\ncovers 160−6 meters amateur radio bands\, all modes\, with a maximum power output of 10 W\n\nRaffle License 2026-20853 \nPikes Peak Radio Amateur Association\, Inc. \nPO Box 16521\, Colorado Springs\, CO 80935 \n\nTicket Sales are available only via in-person purchases. \nWinning ticket numbers will be posted on the ppraa.org/megafest website within 24 hours of the drawing and will be available there for 30 days after. \nContact 719-271-2961 for any questions.\n\n\nSecond Prize: Icom ID-52A Plus Anniversary Special Edition\n\n\nMulti-Function D-STAR Dual Band HT\n\n\nPrize: Yaesu FTM-500 DR\n\n\n50W C4FM/FM 144/430MHz Dual Band Digital Mobile Transceiver\n\n\n Prize: openSPOT4 Pro Portable Digital Radio Internet Gateway (hotspot)\nGenerously donated by Cheyenne Mountain Repeater Group\, Inc\n\n\nbattery powered\, portable\, standalone digital radio internet gateway\n\n\nPrize: Raspberry Pi Ultimate Radio Build Kit\n\n\nassortment of Raspberry Pi components\n\n\nPrize: Powerwerx PWRbox-20\n\n\nportable power station\n\n\nPrize: Milwaukee Packout Rolling Case set\n\n\nportable rolling cases\n\n\nPrize: Powerwerx PWRbox-10\n\n\nMINI Portable Power Box Series w/ 10Ah LifePO4 Battery Installed & 2A wall charger\n\n\nPrize: HRO SOTA POTA 150 Antenna\n\n\nLightweight Antenna System perfect for Portable Operations\n\n\nPrize: YAESU VX-6R\n\n\nultra-rugged 144-430 MHz FM Hand-Held\n\n\nPrize: MFJ-945E Tuner\n\n\nTuner\, HF+6M Mobile\, 300W\, WITH Antenna Bypass Switch\n\n\nPrize: MFJ-4128 Switching Power Supply\n\n\noutput of 28 Amps maximum and 25 Amps continuously at 13.8 VDC\n\n\nPrize: Powerwerx PowerpoleCase\n\n\nPowerPole Crimping Tool + 150 Assorted 15 / 30 / 45 Amp Powerpoles In A Custom Nylon Gear Bag\n\n\n\nDrawing at 1300 (1:00 PM) July 25\, 2026\nWinners Need NOT Be Present To Win Raffle Prizes\nALSO: Hourly Door Prize Drawings\nWinners MUST Be Present To Win Door Prizes
URL:https://aresdec.org/event/pikes-peak-radio-amateur-association-megafest-2026/
LOCATION:Lewis-Palmer High School\, 1300 Higby Rd\, Monument\, CO\, 80132\, United States
CATEGORIES:Event
END:VEVENT
BEGIN:VEVENT
DTSTART;TZID=America/Denver:20260726T080000
DTEND;TZID=America/Denver:20260726T083000
DTSTAMP:20260422T205048
CREATED:20241210T032808Z
LAST-MODIFIED:20241223T015141Z
UID:10004351-1785052800-1785054600@aresdec.org
SUMMARY:ARES HF SSB Net 0800
DESCRIPTION:Colorado statewide ARES Voice Nets are held each Sunday. The HF single sideband Net meets at 0800 hours on 3810 KHz.\nPlease join us. \n 
URL:https://aresdec.org/event/ares-hf-ssb-net-0800/2026-07-26/
END:VEVENT
BEGIN:VEVENT
DTSTART;TZID=America/Denver:20260726T200000
DTEND;TZID=America/Denver:20260726T203000
DTSTAMP:20260422T205048
CREATED:20241210T033542Z
LAST-MODIFIED:20241223T014921Z
UID:10004612-1785096000-1785097800@aresdec.org
SUMMARY:ARES VHF Net 2000
DESCRIPTION:Statewide ARES voice Nets are held each Sunday. At 2000 hours the VHF Net meets on the Colorado Connection system of repeaters. In the Denver area the Connection is found on 145.310 MHz. and an 88.5 Hz tone is required.\nCome join us!
URL:https://aresdec.org/event/ares-vhf-net-2000/2026-07-26/
END:VEVENT
BEGIN:VEVENT
DTSTART;TZID=America/Denver:20260730T200000
DTEND;TZID=America/Denver:20260730T203000
DTSTAMP:20260422T205048
CREATED:20241109T230858Z
LAST-MODIFIED:20241109T231305Z
UID:10002617-1785441600-1785443400@aresdec.org
SUMMARY:ARESDEC Weekly Net
DESCRIPTION:Weekly Nets\n\nWeekly ARESDEC nets are held every Thursday at 20:00 local time\, except for the fourth Thursday of each month which is reserved for our monthly Face-to-Face meeting. The default Net frequency is the 448.425 MHz  repeater (negative offset\, 107.2 Hz tone)\, but may sometimes be moved to other frequencies in order to test our capabilities. \nGuests are welcome! Please listen to NCS instructions prior to checking in to the net
URL:https://aresdec.org/event/aresdec-weekly-net-4/2026-07-30/
CATEGORIES:Weekly Net
END:VEVENT
END:VCALENDAR