BEGIN:VCALENDAR
VERSION:2.0
PRODID:-//ARESDEC - ECPv6.15.20//NONSGML v1.0//EN
CALSCALE:GREGORIAN
METHOD:PUBLISH
X-ORIGINAL-URL:https://aresdec.org
X-WR-CALDESC:Events for ARESDEC
REFRESH-INTERVAL;VALUE=DURATION:PT1H
X-Robots-Tag:noindex
X-PUBLISHED-TTL:PT1H
BEGIN:VTIMEZONE
TZID:America/Denver
BEGIN:DAYLIGHT
TZOFFSETFROM:-0700
TZOFFSETTO:-0600
TZNAME:MDT
DTSTART:20280312T090000
END:DAYLIGHT
BEGIN:STANDARD
TZOFFSETFROM:-0600
TZOFFSETTO:-0700
TZNAME:MST
DTSTART:20281105T080000
END:STANDARD
BEGIN:DAYLIGHT
TZOFFSETFROM:-0700
TZOFFSETTO:-0600
TZNAME:MDT
DTSTART:20290311T090000
END:DAYLIGHT
BEGIN:STANDARD
TZOFFSETFROM:-0600
TZOFFSETTO:-0700
TZNAME:MST
DTSTART:20291104T080000
END:STANDARD
BEGIN:DAYLIGHT
TZOFFSETFROM:-0700
TZOFFSETTO:-0600
TZNAME:MDT
DTSTART:20300310T090000
END:DAYLIGHT
BEGIN:STANDARD
TZOFFSETFROM:-0600
TZOFFSETTO:-0700
TZNAME:MST
DTSTART:20301103T080000
END:STANDARD
END:VTIMEZONE
BEGIN:VEVENT
DTSTART;TZID=America/Denver:20290628T200000
DTEND;TZID=America/Denver:20290628T203000
DTSTAMP:20260425T072627
CREATED:20241111T183403Z
LAST-MODIFIED:20241111T183404Z
UID:10002683-1877371200-1877373000@aresdec.org
SUMMARY:ARESDEC Weekly Net
DESCRIPTION:Weekly Nets\n\nWeekly ARESDEC nets are held every Thursday at 20:00 local time\, except for the fourth Thursday of each month which is reserved for our monthly Face-to-Face meeting. The default Net frequency is the 448.425 MHz  repeater (negative offset\, 107.2 Hz tone)\, but may sometimes be moved to other frequencies in order to test our capabilities. \nGuests are welcome! Please listen to NCS instructions prior to checking in to the net
URL:https://aresdec.org/event/aresdec-weekly-net-cancelled-8/
CATEGORIES:Weekly Net
END:VEVENT
BEGIN:VEVENT
DTSTART;TZID=America/Denver:20290705T200000
DTEND;TZID=America/Denver:20290705T203000
DTSTAMP:20260425T072627
CREATED:20241109T225114Z
LAST-MODIFIED:20241109T225114Z
UID:10002485-1877976000-1877977800@aresdec.org
SUMMARY:ARESDEC Weekly Net
DESCRIPTION:Weekly Nets\n\nWeekly ARESDEC nets are held every Thursday at 20:00 local time\, except for the fourth Thursday of each month which is reserved for our monthly Face-to-Face meeting. The default Net frequency is the 448.425 MHz  repeater (negative offset\, 107.2 Hz tone)\, but may sometimes be moved to other frequencies in order to test our capabilities. \nGuests are welcome! Please listen to NCS instructions prior to checking in to the net.
URL:https://aresdec.org/event/aresdec-weekly-net/2029-07-05/
CATEGORIES:Weekly Net
END:VEVENT
BEGIN:VEVENT
DTSTART;TZID=America/Denver:20290712T200000
DTEND;TZID=America/Denver:20290712T203000
DTSTAMP:20260425T072627
CREATED:20241109T225256Z
LAST-MODIFIED:20241109T225256Z
UID:10002546-1878580800-1878582600@aresdec.org
SUMMARY:ARESDEC Weekly Net
DESCRIPTION:Weekly Nets\n\nWeekly ARESDEC nets are held every Thursday at 20:00 local time\, except for the fourth Thursday of each month which is reserved for our monthly Face-to-Face meeting. The default Net frequency is the 448.425 MHz  repeater (negative offset\, 107.2 Hz tone)\, but may sometimes be moved to other frequencies in order to test our capabilities. \nGuests are welcome! Please listen to NCS instructions prior to checking in to the net
URL:https://aresdec.org/event/aresdec-weekly-net-2/2029-07-12/
CATEGORIES:Weekly Net
END:VEVENT
BEGIN:VEVENT
DTSTART;TZID=America/Denver:20290719T200000
DTEND;TZID=America/Denver:20290719T203000
DTSTAMP:20260425T072627
CREATED:20241109T225421Z
LAST-MODIFIED:20241109T225421Z
UID:10002607-1879185600-1879187400@aresdec.org
SUMMARY:ARESDEC Weekly Net
DESCRIPTION:Weekly Nets\n\nWeekly ARESDEC nets are held every Thursday at 20:00 local time\, except for the fourth Thursday of each month which is reserved for our monthly Face-to-Face meeting. The default Net frequency is the 448.425 MHz  repeater (negative offset\, 107.2 Hz tone)\, but may sometimes be moved to other frequencies in order to test our capabilities. \nGuests are welcome! Please listen to NCS instructions prior to checking in to the net
URL:https://aresdec.org/event/aresdec-weekly-net-3/2029-07-19/
CATEGORIES:Weekly Net
END:VEVENT
BEGIN:VEVENT
DTSTART;TZID=America/Denver:20290802T200000
DTEND;TZID=America/Denver:20290802T203000
DTSTAMP:20260425T072627
CREATED:20241109T225114Z
LAST-MODIFIED:20241109T225114Z
UID:10002486-1880395200-1880397000@aresdec.org
SUMMARY:ARESDEC Weekly Net
DESCRIPTION:Weekly Nets\n\nWeekly ARESDEC nets are held every Thursday at 20:00 local time\, except for the fourth Thursday of each month which is reserved for our monthly Face-to-Face meeting. The default Net frequency is the 448.425 MHz  repeater (negative offset\, 107.2 Hz tone)\, but may sometimes be moved to other frequencies in order to test our capabilities. \nGuests are welcome! Please listen to NCS instructions prior to checking in to the net.
URL:https://aresdec.org/event/aresdec-weekly-net/2029-08-02/
CATEGORIES:Weekly Net
END:VEVENT
BEGIN:VEVENT
DTSTART;TZID=America/Denver:20290809T200000
DTEND;TZID=America/Denver:20290809T203000
DTSTAMP:20260425T072627
CREATED:20241109T225256Z
LAST-MODIFIED:20241109T225256Z
UID:10002547-1881000000-1881001800@aresdec.org
SUMMARY:ARESDEC Weekly Net
DESCRIPTION:Weekly Nets\n\nWeekly ARESDEC nets are held every Thursday at 20:00 local time\, except for the fourth Thursday of each month which is reserved for our monthly Face-to-Face meeting. The default Net frequency is the 448.425 MHz  repeater (negative offset\, 107.2 Hz tone)\, but may sometimes be moved to other frequencies in order to test our capabilities. \nGuests are welcome! Please listen to NCS instructions prior to checking in to the net
URL:https://aresdec.org/event/aresdec-weekly-net-2/2029-08-09/
CATEGORIES:Weekly Net
END:VEVENT
BEGIN:VEVENT
DTSTART;TZID=America/Denver:20290816T200000
DTEND;TZID=America/Denver:20290816T203000
DTSTAMP:20260425T072627
CREATED:20241109T225421Z
LAST-MODIFIED:20241109T225421Z
UID:10002608-1881604800-1881606600@aresdec.org
SUMMARY:ARESDEC Weekly Net
DESCRIPTION:Weekly Nets\n\nWeekly ARESDEC nets are held every Thursday at 20:00 local time\, except for the fourth Thursday of each month which is reserved for our monthly Face-to-Face meeting. The default Net frequency is the 448.425 MHz  repeater (negative offset\, 107.2 Hz tone)\, but may sometimes be moved to other frequencies in order to test our capabilities. \nGuests are welcome! Please listen to NCS instructions prior to checking in to the net
URL:https://aresdec.org/event/aresdec-weekly-net-3/2029-08-16/
CATEGORIES:Weekly Net
END:VEVENT
BEGIN:VEVENT
DTSTART;TZID=America/Denver:20290830T200000
DTEND;TZID=America/Denver:20290830T203000
DTSTAMP:20260425T072627
CREATED:20241111T183929Z
LAST-MODIFIED:20241111T183929Z
UID:10002780-1882814400-1882816200@aresdec.org
SUMMARY:ARESDEC Weekly Net
DESCRIPTION:Weekly Nets\n\nWeekly ARESDEC nets are held every Thursday at 20:00 local time\, except for the fourth Thursday of each month which is reserved for our monthly Face-to-Face meeting. The default Net frequency is the 448.425 MHz  repeater (negative offset\, 107.2 Hz tone)\, but may sometimes be moved to other frequencies in order to test our capabilities. \nGuests are welcome! Please listen to NCS instructions prior to checking in to the net
URL:https://aresdec.org/event/aresdec-weekly-net-7/
CATEGORIES:Weekly Net
END:VEVENT
BEGIN:VEVENT
DTSTART;TZID=America/Denver:20290906T200000
DTEND;TZID=America/Denver:20290906T203000
DTSTAMP:20260425T072627
CREATED:20241109T225114Z
LAST-MODIFIED:20241109T225114Z
UID:10002487-1883419200-1883421000@aresdec.org
SUMMARY:ARESDEC Weekly Net
DESCRIPTION:Weekly Nets\n\nWeekly ARESDEC nets are held every Thursday at 20:00 local time\, except for the fourth Thursday of each month which is reserved for our monthly Face-to-Face meeting. The default Net frequency is the 448.425 MHz  repeater (negative offset\, 107.2 Hz tone)\, but may sometimes be moved to other frequencies in order to test our capabilities. \nGuests are welcome! Please listen to NCS instructions prior to checking in to the net.
URL:https://aresdec.org/event/aresdec-weekly-net/2029-09-06/
CATEGORIES:Weekly Net
END:VEVENT
BEGIN:VEVENT
DTSTART;TZID=America/Denver:20290913T200000
DTEND;TZID=America/Denver:20290913T203000
DTSTAMP:20260425T072627
CREATED:20241109T225256Z
LAST-MODIFIED:20241109T225256Z
UID:10002548-1884024000-1884025800@aresdec.org
SUMMARY:ARESDEC Weekly Net
DESCRIPTION:Weekly Nets\n\nWeekly ARESDEC nets are held every Thursday at 20:00 local time\, except for the fourth Thursday of each month which is reserved for our monthly Face-to-Face meeting. The default Net frequency is the 448.425 MHz  repeater (negative offset\, 107.2 Hz tone)\, but may sometimes be moved to other frequencies in order to test our capabilities. \nGuests are welcome! Please listen to NCS instructions prior to checking in to the net
URL:https://aresdec.org/event/aresdec-weekly-net-2/2029-09-13/
CATEGORIES:Weekly Net
END:VEVENT
BEGIN:VEVENT
DTSTART;TZID=America/Denver:20290920T200000
DTEND;TZID=America/Denver:20290920T203000
DTSTAMP:20260425T072627
CREATED:20241109T225421Z
LAST-MODIFIED:20241109T225421Z
UID:10002609-1884628800-1884630600@aresdec.org
SUMMARY:ARESDEC Weekly Net
DESCRIPTION:Weekly Nets\n\nWeekly ARESDEC nets are held every Thursday at 20:00 local time\, except for the fourth Thursday of each month which is reserved for our monthly Face-to-Face meeting. The default Net frequency is the 448.425 MHz  repeater (negative offset\, 107.2 Hz tone)\, but may sometimes be moved to other frequencies in order to test our capabilities. \nGuests are welcome! Please listen to NCS instructions prior to checking in to the net
URL:https://aresdec.org/event/aresdec-weekly-net-3/2029-09-20/
CATEGORIES:Weekly Net
END:VEVENT
BEGIN:VEVENT
DTSTART;TZID=America/Denver:20291004T200000
DTEND;TZID=America/Denver:20291004T203000
DTSTAMP:20260425T072627
CREATED:20241109T225114Z
LAST-MODIFIED:20241109T225114Z
UID:10002488-1885838400-1885840200@aresdec.org
SUMMARY:ARESDEC Weekly Net
DESCRIPTION:Weekly Nets\n\nWeekly ARESDEC nets are held every Thursday at 20:00 local time\, except for the fourth Thursday of each month which is reserved for our monthly Face-to-Face meeting. The default Net frequency is the 448.425 MHz  repeater (negative offset\, 107.2 Hz tone)\, but may sometimes be moved to other frequencies in order to test our capabilities. \nGuests are welcome! Please listen to NCS instructions prior to checking in to the net.
URL:https://aresdec.org/event/aresdec-weekly-net/2029-10-04/
CATEGORIES:Weekly Net
END:VEVENT
BEGIN:VEVENT
DTSTART;TZID=America/Denver:20291011T200000
DTEND;TZID=America/Denver:20291011T203000
DTSTAMP:20260425T072627
CREATED:20241109T225256Z
LAST-MODIFIED:20241109T225256Z
UID:10002549-1886443200-1886445000@aresdec.org
SUMMARY:ARESDEC Weekly Net
DESCRIPTION:Weekly Nets\n\nWeekly ARESDEC nets are held every Thursday at 20:00 local time\, except for the fourth Thursday of each month which is reserved for our monthly Face-to-Face meeting. The default Net frequency is the 448.425 MHz  repeater (negative offset\, 107.2 Hz tone)\, but may sometimes be moved to other frequencies in order to test our capabilities. \nGuests are welcome! Please listen to NCS instructions prior to checking in to the net
URL:https://aresdec.org/event/aresdec-weekly-net-2/2029-10-11/
CATEGORIES:Weekly Net
END:VEVENT
BEGIN:VEVENT
DTSTART;TZID=America/Denver:20291018T200000
DTEND;TZID=America/Denver:20291018T203000
DTSTAMP:20260425T072627
CREATED:20241109T225421Z
LAST-MODIFIED:20241109T225421Z
UID:10002610-1887048000-1887049800@aresdec.org
SUMMARY:ARESDEC Weekly Net
DESCRIPTION:Weekly Nets\n\nWeekly ARESDEC nets are held every Thursday at 20:00 local time\, except for the fourth Thursday of each month which is reserved for our monthly Face-to-Face meeting. The default Net frequency is the 448.425 MHz  repeater (negative offset\, 107.2 Hz tone)\, but may sometimes be moved to other frequencies in order to test our capabilities. \nGuests are welcome! Please listen to NCS instructions prior to checking in to the net
URL:https://aresdec.org/event/aresdec-weekly-net-3/2029-10-18/
CATEGORIES:Weekly Net
END:VEVENT
BEGIN:VEVENT
DTSTART;TZID=America/Denver:20291101T200000
DTEND;TZID=America/Denver:20291101T203000
DTSTAMP:20260425T072627
CREATED:20241109T225114Z
LAST-MODIFIED:20241109T225114Z
UID:10002489-1888257600-1888259400@aresdec.org
SUMMARY:ARESDEC Weekly Net
DESCRIPTION:Weekly Nets\n\nWeekly ARESDEC nets are held every Thursday at 20:00 local time\, except for the fourth Thursday of each month which is reserved for our monthly Face-to-Face meeting. The default Net frequency is the 448.425 MHz  repeater (negative offset\, 107.2 Hz tone)\, but may sometimes be moved to other frequencies in order to test our capabilities. \nGuests are welcome! Please listen to NCS instructions prior to checking in to the net.
URL:https://aresdec.org/event/aresdec-weekly-net/2029-11-01/
CATEGORIES:Weekly Net
END:VEVENT
BEGIN:VEVENT
DTSTART;TZID=America/Denver:20291108T200000
DTEND;TZID=America/Denver:20291108T203000
DTSTAMP:20260425T072627
CREATED:20241109T225256Z
LAST-MODIFIED:20241109T225256Z
UID:10002550-1888862400-1888864200@aresdec.org
SUMMARY:ARESDEC Weekly Net
DESCRIPTION:Weekly Nets\n\nWeekly ARESDEC nets are held every Thursday at 20:00 local time\, except for the fourth Thursday of each month which is reserved for our monthly Face-to-Face meeting. The default Net frequency is the 448.425 MHz  repeater (negative offset\, 107.2 Hz tone)\, but may sometimes be moved to other frequencies in order to test our capabilities. \nGuests are welcome! Please listen to NCS instructions prior to checking in to the net
URL:https://aresdec.org/event/aresdec-weekly-net-2/2029-11-08/
CATEGORIES:Weekly Net
END:VEVENT
END:VCALENDAR