BEGIN:VCALENDAR
VERSION:2.0
PRODID:-//ARESDEC - ECPv6.15.20//NONSGML v1.0//EN
CALSCALE:GREGORIAN
METHOD:PUBLISH
X-ORIGINAL-URL:https://aresdec.org
X-WR-CALDESC:Events for ARESDEC
REFRESH-INTERVAL;VALUE=DURATION:PT1H
X-Robots-Tag:noindex
X-PUBLISHED-TTL:PT1H
BEGIN:VTIMEZONE
TZID:America/Denver
BEGIN:DAYLIGHT
TZOFFSETFROM:-0700
TZOFFSETTO:-0600
TZNAME:MDT
DTSTART:20230312T090000
END:DAYLIGHT
BEGIN:STANDARD
TZOFFSETFROM:-0600
TZOFFSETTO:-0700
TZNAME:MST
DTSTART:20231105T080000
END:STANDARD
BEGIN:DAYLIGHT
TZOFFSETFROM:-0700
TZOFFSETTO:-0600
TZNAME:MDT
DTSTART:20240310T090000
END:DAYLIGHT
BEGIN:STANDARD
TZOFFSETFROM:-0600
TZOFFSETTO:-0700
TZNAME:MST
DTSTART:20241103T080000
END:STANDARD
BEGIN:DAYLIGHT
TZOFFSETFROM:-0700
TZOFFSETTO:-0600
TZNAME:MDT
DTSTART:20250309T090000
END:DAYLIGHT
BEGIN:STANDARD
TZOFFSETFROM:-0600
TZOFFSETTO:-0700
TZNAME:MST
DTSTART:20251102T080000
END:STANDARD
BEGIN:DAYLIGHT
TZOFFSETFROM:-0700
TZOFFSETTO:-0600
TZNAME:MDT
DTSTART:20260308T090000
END:DAYLIGHT
BEGIN:STANDARD
TZOFFSETFROM:-0600
TZOFFSETTO:-0700
TZNAME:MST
DTSTART:20261101T080000
END:STANDARD
BEGIN:DAYLIGHT
TZOFFSETFROM:-0700
TZOFFSETTO:-0600
TZNAME:MDT
DTSTART:20270314T090000
END:DAYLIGHT
BEGIN:STANDARD
TZOFFSETFROM:-0600
TZOFFSETTO:-0700
TZNAME:MST
DTSTART:20271107T080000
END:STANDARD
END:VTIMEZONE
BEGIN:VEVENT
DTSTART;TZID=America/Denver:20260416T200000
DTEND;TZID=America/Denver:20260416T203000
DTSTAMP:20260423T055839
CREATED:20260404T194742Z
LAST-MODIFIED:20260404T194838Z
UID:10002568-1776369600-1776371400@aresdec.org
SUMMARY:ARESDEC Weekly Net Cancelled
DESCRIPTION:Weekly net for 4/16 cancelled due to ARES Skywarn Training.  See calendar for event details.\n====================== \nWeekly Nets\n\nWeekly ARESDEC nets are held every Thursday at 20:00 local time\, except for the fourth Thursday of each month which is reserved for our monthly Face-to-Face meeting. The default Net frequency is the 448.425 MHz  repeater (negative offset\, 107.2 Hz tone)\, but may sometimes be moved to other frequencies in order to test our capabilities. \nGuests are welcome! Please listen to NCS instructions prior to checking in to the net
URL:https://aresdec.org/event/aresdec-weekly-net-3-4/
CATEGORIES:Weekly NET Cancelled
END:VEVENT
BEGIN:VEVENT
DTSTART;TZID=America/Denver:20260326T200000
DTEND;TZID=America/Denver:20260326T203000
DTSTAMP:20260423T055839
CREATED:20241110T012208Z
LAST-MODIFIED:20241110T012208Z
UID:10002644-1774555200-1774557000@aresdec.org
SUMMARY:ARESDEC Weekly Net Cancelled
DESCRIPTION:There is no Weekly Net on the 4th Thursday of each month if ARESDEC is sponsoring a monthly Face-to-Face meeting or if a holiday falls on the 4th Thursday.
URL:https://aresdec.org/event/aresdec-weekly-net-cancelled/2026-03-26/
CATEGORIES:Weekly NET Cancelled
END:VEVENT
BEGIN:VEVENT
DTSTART;TZID=America/Denver:20260226T200000
DTEND;TZID=America/Denver:20260226T203000
DTSTAMP:20260423T055839
CREATED:20241110T012208Z
LAST-MODIFIED:20241110T012208Z
UID:10002643-1772136000-1772137800@aresdec.org
SUMMARY:ARESDEC Weekly Net Cancelled
DESCRIPTION:There is no Weekly Net on the 4th Thursday of each month if ARESDEC is sponsoring a monthly Face-to-Face meeting or if a holiday falls on the 4th Thursday.
URL:https://aresdec.org/event/aresdec-weekly-net-cancelled/2026-02-26/
CATEGORIES:Weekly NET Cancelled
END:VEVENT
BEGIN:VEVENT
DTSTART;TZID=America/Denver:20260122T200000
DTEND;TZID=America/Denver:20260122T203000
DTSTAMP:20260423T055839
CREATED:20241110T012208Z
LAST-MODIFIED:20241110T012208Z
UID:10002642-1769112000-1769113800@aresdec.org
SUMMARY:ARESDEC Weekly Net Cancelled
DESCRIPTION:There is no Weekly Net on the 4th Thursday of each month if ARESDEC is sponsoring a monthly Face-to-Face meeting or if a holiday falls on the 4th Thursday.
URL:https://aresdec.org/event/aresdec-weekly-net-cancelled/2026-01-22/
CATEGORIES:Weekly NET Cancelled
END:VEVENT
BEGIN:VEVENT
DTSTART;TZID=America/Denver:20260101T200000
DTEND;TZID=America/Denver:20260101T203000
DTSTAMP:20260423T055839
CREATED:20241110T022401Z
LAST-MODIFIED:20241110T022511Z
UID:10002443-1767297600-1767299400@aresdec.org
SUMMARY:ARESDEC Weekly Net Cancelled
DESCRIPTION:There is no Weekly Net on the 4th Thursday of each month if ARESDEC is sponsoring a monthly Face-to-Face meeting or if a holiday falls on a Thursday.
URL:https://aresdec.org/event/aresdec-weekly-net-5/
CATEGORIES:Weekly NET Cancelled
END:VEVENT
BEGIN:VEVENT
DTSTART;TZID=America/Denver:20251225T200000
DTEND;TZID=America/Denver:20251225T203000
DTSTAMP:20260423T055839
CREATED:20241110T012208Z
LAST-MODIFIED:20241110T012208Z
UID:10002641-1766692800-1766694600@aresdec.org
SUMMARY:ARESDEC Weekly Net Cancelled
DESCRIPTION:There is no Weekly Net on the 4th Thursday of each month if ARESDEC is sponsoring a monthly Face-to-Face meeting or if a holiday falls on the 4th Thursday.
URL:https://aresdec.org/event/aresdec-weekly-net-cancelled/2025-12-25/
CATEGORIES:Weekly NET Cancelled
END:VEVENT
BEGIN:VEVENT
DTSTART;TZID=America/Denver:20251127T200000
DTEND;TZID=America/Denver:20251127T203000
DTSTAMP:20260423T055839
CREATED:20241110T012208Z
LAST-MODIFIED:20241110T012208Z
UID:10002640-1764273600-1764275400@aresdec.org
SUMMARY:ARESDEC Weekly Net Cancelled
DESCRIPTION:There is no Weekly Net on the 4th Thursday of each month if ARESDEC is sponsoring a monthly Face-to-Face meeting or if a holiday falls on the 4th Thursday.
URL:https://aresdec.org/event/aresdec-weekly-net-cancelled/2025-11-27/
CATEGORIES:Weekly NET Cancelled
END:VEVENT
BEGIN:VEVENT
DTSTART;TZID=America/Denver:20251016T200000
DTEND;TZID=America/Denver:20251016T203000
DTSTAMP:20260423T055839
CREATED:20241110T022155Z
LAST-MODIFIED:20241110T022156Z
UID:10002562-1760644800-1760646600@aresdec.org
SUMMARY:ARESDEC Weekly Net Cancelled
DESCRIPTION:There is no Weekly Net because ARESDEC is sponsoring a monthly Face-to-Face meeting.
URL:https://aresdec.org/event/aresdec-weekly-net-3-2/
CATEGORIES:Weekly NET Cancelled
END:VEVENT
BEGIN:VEVENT
DTSTART;TZID=America/Denver:20250925T200000
DTEND;TZID=America/Denver:20250925T203000
DTSTAMP:20260423T055839
CREATED:20241110T012208Z
LAST-MODIFIED:20241110T012208Z
UID:10002638-1758830400-1758832200@aresdec.org
SUMMARY:ARESDEC Weekly Net Cancelled
DESCRIPTION:There is no Weekly Net on the 4th Thursday of each month if ARESDEC is sponsoring a monthly Face-to-Face meeting or if a holiday falls on the 4th Thursday.
URL:https://aresdec.org/event/aresdec-weekly-net-cancelled/2025-09-25/
CATEGORIES:Weekly NET Cancelled
END:VEVENT
BEGIN:VEVENT
DTSTART;TZID=America/Denver:20250828T200000
DTEND;TZID=America/Denver:20250828T203000
DTSTAMP:20260423T055839
CREATED:20241110T012208Z
LAST-MODIFIED:20241110T012208Z
UID:10002637-1756411200-1756413000@aresdec.org
SUMMARY:ARESDEC Weekly Net Cancelled
DESCRIPTION:There is no Weekly Net on the 4th Thursday of each month if ARESDEC is sponsoring a monthly Face-to-Face meeting or if a holiday falls on the 4th Thursday.
URL:https://aresdec.org/event/aresdec-weekly-net-cancelled/2025-08-28/
CATEGORIES:Weekly NET Cancelled
END:VEVENT
BEGIN:VEVENT
DTSTART;TZID=America/Denver:20250724T200000
DTEND;TZID=America/Denver:20250724T203000
DTSTAMP:20260423T055839
CREATED:20241110T012208Z
LAST-MODIFIED:20241110T012208Z
UID:10002636-1753387200-1753389000@aresdec.org
SUMMARY:ARESDEC Weekly Net Cancelled
DESCRIPTION:There is no Weekly Net on the 4th Thursday of each month if ARESDEC is sponsoring a monthly Face-to-Face meeting or if a holiday falls on the 4th Thursday.
URL:https://aresdec.org/event/aresdec-weekly-net-cancelled/2025-07-24/
CATEGORIES:Weekly NET Cancelled
END:VEVENT
BEGIN:VEVENT
DTSTART;TZID=America/Denver:20250522T200000
DTEND;TZID=America/Denver:20250522T203000
DTSTAMP:20260423T055839
CREATED:20241110T012208Z
LAST-MODIFIED:20241110T012208Z
UID:10002634-1747944000-1747945800@aresdec.org
SUMMARY:ARESDEC Weekly Net Cancelled
DESCRIPTION:There is no Weekly Net on the 4th Thursday of each month if ARESDEC is sponsoring a monthly Face-to-Face meeting or if a holiday falls on the 4th Thursday.
URL:https://aresdec.org/event/aresdec-weekly-net-cancelled/2025-05-22/
CATEGORIES:Weekly NET Cancelled
END:VEVENT
BEGIN:VEVENT
DTSTART;TZID=America/Denver:20250424T200000
DTEND;TZID=America/Denver:20250424T203000
DTSTAMP:20260423T055839
CREATED:20241110T012208Z
LAST-MODIFIED:20241110T012208Z
UID:10002633-1745524800-1745526600@aresdec.org
SUMMARY:ARESDEC Weekly Net Cancelled
DESCRIPTION:There is no Weekly Net on the 4th Thursday of each month if ARESDEC is sponsoring a monthly Face-to-Face meeting or if a holiday falls on the 4th Thursday.
URL:https://aresdec.org/event/aresdec-weekly-net-cancelled/2025-04-24/
CATEGORIES:Weekly NET Cancelled
END:VEVENT
BEGIN:VEVENT
DTSTART;TZID=America/Denver:20250327T200000
DTEND;TZID=America/Denver:20250327T203000
DTSTAMP:20260423T055839
CREATED:20241110T012208Z
LAST-MODIFIED:20241110T012208Z
UID:10002632-1743105600-1743107400@aresdec.org
SUMMARY:ARESDEC Weekly Net Cancelled
DESCRIPTION:There is no Weekly Net on the 4th Thursday of each month if ARESDEC is sponsoring a monthly Face-to-Face meeting or if a holiday falls on the 4th Thursday.
URL:https://aresdec.org/event/aresdec-weekly-net-cancelled/2025-03-27/
CATEGORIES:Weekly NET Cancelled
END:VEVENT
BEGIN:VEVENT
DTSTART;TZID=America/Denver:20250227T200000
DTEND;TZID=America/Denver:20250227T203000
DTSTAMP:20260423T055839
CREATED:20241110T012208Z
LAST-MODIFIED:20241110T012208Z
UID:10002631-1740686400-1740688200@aresdec.org
SUMMARY:ARESDEC Weekly Net Cancelled
DESCRIPTION:There is no Weekly Net on the 4th Thursday of each month if ARESDEC is sponsoring a monthly Face-to-Face meeting or if a holiday falls on the 4th Thursday.
URL:https://aresdec.org/event/aresdec-weekly-net-cancelled/2025-02-27/
CATEGORIES:Weekly NET Cancelled
END:VEVENT
BEGIN:VEVENT
DTSTART;TZID=America/Denver:20250123T200000
DTEND;TZID=America/Denver:20250123T203000
DTSTAMP:20260423T055839
CREATED:20241110T012208Z
LAST-MODIFIED:20241110T012208Z
UID:10002630-1737662400-1737664200@aresdec.org
SUMMARY:ARESDEC Weekly Net Cancelled
DESCRIPTION:There is no Weekly Net on the 4th Thursday of each month if ARESDEC is sponsoring a monthly Face-to-Face meeting or if a holiday falls on the 4th Thursday.
URL:https://aresdec.org/event/aresdec-weekly-net-cancelled/2025-01-23/
CATEGORIES:Weekly NET Cancelled
END:VEVENT
BEGIN:VEVENT
DTSTART;TZID=America/Denver:20241128T200000
DTEND;TZID=America/Denver:20241128T203000
DTSTAMP:20260423T055839
CREATED:20241110T012208Z
LAST-MODIFIED:20241110T012208Z
UID:10002628-1732824000-1732825800@aresdec.org
SUMMARY:ARESDEC Weekly Net Cancelled
DESCRIPTION:There is no Weekly Net on the 4th Thursday of each month if ARESDEC is sponsoring a monthly Face-to-Face meeting or if a holiday falls on the 4th Thursday.
URL:https://aresdec.org/event/aresdec-weekly-net-cancelled/2024-11-28/
CATEGORIES:Weekly NET Cancelled
END:VEVENT
BEGIN:VEVENT
DTSTART;TZID=America/Denver:20240321T200000
DTEND;TZID=America/Denver:20240321T203000
DTSTAMP:20260423T055839
CREATED:20240312T011137Z
LAST-MODIFIED:20240312T011648Z
UID:10000908-1711051200-1711053000@aresdec.org
SUMMARY:Weekly Net Cancelled due to NWS SKYWARN Weather Spotter Training
DESCRIPTION:For more information about NWS SKYWARN Weather Spotter Training see https://aresdec.org/event/national-weather-service-nws-skywarn-training/
URL:https://aresdec.org/event/weekly-net-cancelled-due-to-nws-skywarn-weather-spotter-training/
CATEGORIES:Weekly NET Cancelled
END:VEVENT
END:VCALENDAR