BEGIN:VCALENDAR
VERSION:2.0
PRODID:-//ARESDEC - ECPv6.15.20//NONSGML v1.0//EN
CALSCALE:GREGORIAN
METHOD:PUBLISH
X-ORIGINAL-URL:https://aresdec.org
X-WR-CALDESC:Events for ARESDEC
REFRESH-INTERVAL;VALUE=DURATION:PT1H
X-Robots-Tag:noindex
X-PUBLISHED-TTL:PT1H
BEGIN:VTIMEZONE
TZID:America/Denver
BEGIN:DAYLIGHT
TZOFFSETFROM:-0700
TZOFFSETTO:-0600
TZNAME:MDT
DTSTART:20280312T090000
END:DAYLIGHT
BEGIN:STANDARD
TZOFFSETFROM:-0600
TZOFFSETTO:-0700
TZNAME:MST
DTSTART:20281105T080000
END:STANDARD
BEGIN:DAYLIGHT
TZOFFSETFROM:-0700
TZOFFSETTO:-0600
TZNAME:MDT
DTSTART:20290311T090000
END:DAYLIGHT
BEGIN:STANDARD
TZOFFSETFROM:-0600
TZOFFSETTO:-0700
TZNAME:MST
DTSTART:20291104T080000
END:STANDARD
BEGIN:DAYLIGHT
TZOFFSETFROM:-0700
TZOFFSETTO:-0600
TZNAME:MDT
DTSTART:20300310T090000
END:DAYLIGHT
BEGIN:STANDARD
TZOFFSETFROM:-0600
TZOFFSETTO:-0700
TZNAME:MST
DTSTART:20301103T080000
END:STANDARD
BEGIN:DAYLIGHT
TZOFFSETFROM:-0700
TZOFFSETTO:-0600
TZNAME:MDT
DTSTART:20310309T090000
END:DAYLIGHT
BEGIN:STANDARD
TZOFFSETFROM:-0600
TZOFFSETTO:-0700
TZNAME:MST
DTSTART:20311102T080000
END:STANDARD
END:VTIMEZONE
BEGIN:VEVENT
DTSTART;VALUE=DATE:20291031
DTEND;VALUE=DATE:20291101
DTSTAMP:20260423T024749
CREATED:20251216T021404Z
LAST-MODIFIED:20251216T021404Z
UID:10005116-1888099200-1888185599@aresdec.org
SUMMARY:Halloween
DESCRIPTION:
URL:https://aresdec.org/event/halloween/2029-10-31/
CATEGORIES:US Days of Celebration
END:VEVENT
BEGIN:VEVENT
DTSTART;VALUE=DATE:20291207
DTEND;VALUE=DATE:20291208
DTSTAMP:20260423T024749
CREATED:20251216T021854Z
LAST-MODIFIED:20251216T021854Z
UID:10005136-1891296000-1891382399@aresdec.org
SUMMARY:Pearl Harbor Remembrance Day
DESCRIPTION:
URL:https://aresdec.org/event/pearl-harbor-remembrance-day/2029-12-07/
CATEGORIES:US Days of Celebration
END:VEVENT
BEGIN:VEVENT
DTSTART;VALUE=DATE:20291224
DTEND;VALUE=DATE:20291225
DTSTAMP:20260423T024749
CREATED:20251222T205808Z
LAST-MODIFIED:20251222T205808Z
UID:10005146-1892764800-1892851199@aresdec.org
SUMMARY:Christmas Eve
DESCRIPTION:
URL:https://aresdec.org/event/christmas-eve/2029-12-24/
CATEGORIES:US Days of Celebration
END:VEVENT
BEGIN:VEVENT
DTSTART;VALUE=DATE:20291231
DTEND;VALUE=DATE:20300101
DTSTAMP:20260423T024749
CREATED:20251222T205950Z
LAST-MODIFIED:20251222T205950Z
UID:10005151-1893369600-1893455999@aresdec.org
SUMMARY:New Year's Eve
DESCRIPTION:
URL:https://aresdec.org/event/new-years-eve/2029-12-31/
CATEGORIES:US Days of Celebration
END:VEVENT
BEGIN:VEVENT
DTSTART;VALUE=DATE:20300512
DTEND;VALUE=DATE:20300513
DTSTAMP:20260423T024749
CREATED:20251216T021509Z
LAST-MODIFIED:20251216T021509Z
UID:10005122-1904774400-1904860799@aresdec.org
SUMMARY:Mother's Day
DESCRIPTION:
URL:https://aresdec.org/event/mothers-day/2030-05-12/
CATEGORIES:US Days of Celebration
END:VEVENT
BEGIN:VEVENT
DTSTART;VALUE=DATE:20300616
DTEND;VALUE=DATE:20300617
DTSTAMP:20260423T024749
CREATED:20251216T021604Z
LAST-MODIFIED:20251216T021604Z
UID:10005127-1907798400-1907884799@aresdec.org
SUMMARY:Father's Day
DESCRIPTION:
URL:https://aresdec.org/event/fathers-day/2030-06-16/
CATEGORIES:US Days of Celebration
END:VEVENT
BEGIN:VEVENT
DTSTART;VALUE=DATE:20300911
DTEND;VALUE=DATE:20300912
DTSTAMP:20260423T024749
CREATED:20251216T021712Z
LAST-MODIFIED:20251216T021712Z
UID:10005132-1915315200-1915401599@aresdec.org
SUMMARY:9/11 Remembrance Day
DESCRIPTION:
URL:https://aresdec.org/event/9-11-remembrance-day/2030-09-11/
CATEGORIES:US Days of Celebration
END:VEVENT
BEGIN:VEVENT
DTSTART;VALUE=DATE:20301031
DTEND;VALUE=DATE:20301101
DTSTAMP:20260423T024749
CREATED:20251216T021404Z
LAST-MODIFIED:20251216T021404Z
UID:10005117-1919635200-1919721599@aresdec.org
SUMMARY:Halloween
DESCRIPTION:
URL:https://aresdec.org/event/halloween/2030-10-31/
CATEGORIES:US Days of Celebration
END:VEVENT
BEGIN:VEVENT
DTSTART;VALUE=DATE:20301207
DTEND;VALUE=DATE:20301208
DTSTAMP:20260423T024749
CREATED:20251216T021854Z
LAST-MODIFIED:20251216T021854Z
UID:10005137-1922832000-1922918399@aresdec.org
SUMMARY:Pearl Harbor Remembrance Day
DESCRIPTION:
URL:https://aresdec.org/event/pearl-harbor-remembrance-day/2030-12-07/
CATEGORIES:US Days of Celebration
END:VEVENT
END:VCALENDAR