BEGIN:VCALENDAR
VERSION:2.0
PRODID:-//ARESDEC - ECPv6.15.20//NONSGML v1.0//EN
CALSCALE:GREGORIAN
METHOD:PUBLISH
X-ORIGINAL-URL:https://aresdec.org
X-WR-CALDESC:Events for ARESDEC
REFRESH-INTERVAL;VALUE=DURATION:PT1H
X-Robots-Tag:noindex
X-PUBLISHED-TTL:PT1H
BEGIN:VTIMEZONE
TZID:America/Denver
BEGIN:DAYLIGHT
TZOFFSETFROM:-0700
TZOFFSETTO:-0600
TZNAME:MDT
DTSTART:20290311T090000
END:DAYLIGHT
BEGIN:STANDARD
TZOFFSETFROM:-0600
TZOFFSETTO:-0700
TZNAME:MST
DTSTART:20291104T080000
END:STANDARD
BEGIN:DAYLIGHT
TZOFFSETFROM:-0700
TZOFFSETTO:-0600
TZNAME:MDT
DTSTART:20300310T090000
END:DAYLIGHT
BEGIN:STANDARD
TZOFFSETFROM:-0600
TZOFFSETTO:-0700
TZNAME:MST
DTSTART:20301103T080000
END:STANDARD
BEGIN:DAYLIGHT
TZOFFSETFROM:-0700
TZOFFSETTO:-0600
TZNAME:MDT
DTSTART:20310309T090000
END:DAYLIGHT
BEGIN:STANDARD
TZOFFSETFROM:-0600
TZOFFSETTO:-0700
TZNAME:MST
DTSTART:20311102T080000
END:STANDARD
END:VTIMEZONE
BEGIN:VEVENT
DTSTART;TZID=America/Denver:20300304T183000
DTEND;TZID=America/Denver:20300304T203000
DTSTAMP:20260423T104634
CREATED:20251205T201703Z
LAST-MODIFIED:20251205T201704Z
UID:10004951-1898879400-1898886600@aresdec.org
SUMMARY:Monthly Staff Meeting
DESCRIPTION:Monthly ARES R1D5 Staff Meeting held in person and online via Microsoft Teams.  Link to Microsoft Teams will be provided before each Staff meeting.  In-Person location will remain the same each month unless advised otherwise.
URL:https://aresdec.org/event/monthly-staff-meeting-2-2/2030-03-04/
LOCATION:PUMC – Parker United Methodist Church\, 11805 S Pine Drive\, Parker\, CO\, 80134\, United States
CATEGORIES:Staff Meetings
END:VEVENT
BEGIN:VEVENT
DTSTART;TZID=America/Denver:20300401T183000
DTEND;TZID=America/Denver:20300401T203000
DTSTAMP:20260423T104634
CREATED:20251205T201703Z
LAST-MODIFIED:20251205T201704Z
UID:10004952-1901298600-1901305800@aresdec.org
SUMMARY:Monthly Staff Meeting
DESCRIPTION:Monthly ARES R1D5 Staff Meeting held in person and online via Microsoft Teams.  Link to Microsoft Teams will be provided before each Staff meeting.  In-Person location will remain the same each month unless advised otherwise.
URL:https://aresdec.org/event/monthly-staff-meeting-2-2/2030-04-01/
LOCATION:PUMC – Parker United Methodist Church\, 11805 S Pine Drive\, Parker\, CO\, 80134\, United States
CATEGORIES:Staff Meetings
END:VEVENT
BEGIN:VEVENT
DTSTART;TZID=America/Denver:20300506T183000
DTEND;TZID=America/Denver:20300506T203000
DTSTAMP:20260423T104634
CREATED:20251205T201703Z
LAST-MODIFIED:20251205T201704Z
UID:10004953-1904322600-1904329800@aresdec.org
SUMMARY:Monthly Staff Meeting
DESCRIPTION:Monthly ARES R1D5 Staff Meeting held in person and online via Microsoft Teams.  Link to Microsoft Teams will be provided before each Staff meeting.  In-Person location will remain the same each month unless advised otherwise.
URL:https://aresdec.org/event/monthly-staff-meeting-2-2/2030-05-06/
LOCATION:PUMC – Parker United Methodist Church\, 11805 S Pine Drive\, Parker\, CO\, 80134\, United States
CATEGORIES:Staff Meetings
END:VEVENT
BEGIN:VEVENT
DTSTART;TZID=America/Denver:20300603T183000
DTEND;TZID=America/Denver:20300603T203000
DTSTAMP:20260423T104634
CREATED:20251205T201703Z
LAST-MODIFIED:20251205T201704Z
UID:10004954-1906741800-1906749000@aresdec.org
SUMMARY:Monthly Staff Meeting
DESCRIPTION:Monthly ARES R1D5 Staff Meeting held in person and online via Microsoft Teams.  Link to Microsoft Teams will be provided before each Staff meeting.  In-Person location will remain the same each month unless advised otherwise.
URL:https://aresdec.org/event/monthly-staff-meeting-2-2/2030-06-03/
LOCATION:PUMC – Parker United Methodist Church\, 11805 S Pine Drive\, Parker\, CO\, 80134\, United States
CATEGORIES:Staff Meetings
END:VEVENT
BEGIN:VEVENT
DTSTART;TZID=America/Denver:20300701T183000
DTEND;TZID=America/Denver:20300701T203000
DTSTAMP:20260423T104634
CREATED:20251205T201703Z
LAST-MODIFIED:20251205T201704Z
UID:10004955-1909161000-1909168200@aresdec.org
SUMMARY:Monthly Staff Meeting
DESCRIPTION:Monthly ARES R1D5 Staff Meeting held in person and online via Microsoft Teams.  Link to Microsoft Teams will be provided before each Staff meeting.  In-Person location will remain the same each month unless advised otherwise.
URL:https://aresdec.org/event/monthly-staff-meeting-2-2/2030-07-01/
LOCATION:PUMC – Parker United Methodist Church\, 11805 S Pine Drive\, Parker\, CO\, 80134\, United States
CATEGORIES:Staff Meetings
END:VEVENT
BEGIN:VEVENT
DTSTART;TZID=America/Denver:20300805T183000
DTEND;TZID=America/Denver:20300805T203000
DTSTAMP:20260423T104634
CREATED:20251205T201703Z
LAST-MODIFIED:20251205T201704Z
UID:10004959-1912185000-1912192200@aresdec.org
SUMMARY:Monthly Staff Meeting
DESCRIPTION:Monthly ARES R1D5 Staff Meeting held in person and online via Microsoft Teams.  Link to Microsoft Teams will be provided before each Staff meeting.  In-Person location will remain the same each month unless advised otherwise.
URL:https://aresdec.org/event/monthly-staff-meeting-2-2/2030-08-05/
LOCATION:PUMC – Parker United Methodist Church\, 11805 S Pine Drive\, Parker\, CO\, 80134\, United States
CATEGORIES:Staff Meetings
END:VEVENT
BEGIN:VEVENT
DTSTART;TZID=America/Denver:20300902T183000
DTEND;TZID=America/Denver:20300902T203000
DTSTAMP:20260423T104634
CREATED:20251205T201703Z
LAST-MODIFIED:20251205T201704Z
UID:10004960-1914604200-1914611400@aresdec.org
SUMMARY:Monthly Staff Meeting
DESCRIPTION:Monthly ARES R1D5 Staff Meeting held in person and online via Microsoft Teams.  Link to Microsoft Teams will be provided before each Staff meeting.  In-Person location will remain the same each month unless advised otherwise.
URL:https://aresdec.org/event/monthly-staff-meeting-2-2/2030-09-02/
LOCATION:PUMC – Parker United Methodist Church\, 11805 S Pine Drive\, Parker\, CO\, 80134\, United States
CATEGORIES:Staff Meetings
END:VEVENT
BEGIN:VEVENT
DTSTART;TZID=America/Denver:20301007T183000
DTEND;TZID=America/Denver:20301007T203000
DTSTAMP:20260423T104634
CREATED:20251205T201703Z
LAST-MODIFIED:20251205T201704Z
UID:10004961-1917628200-1917635400@aresdec.org
SUMMARY:Monthly Staff Meeting
DESCRIPTION:Monthly ARES R1D5 Staff Meeting held in person and online via Microsoft Teams.  Link to Microsoft Teams will be provided before each Staff meeting.  In-Person location will remain the same each month unless advised otherwise.
URL:https://aresdec.org/event/monthly-staff-meeting-2-2/2030-10-07/
LOCATION:PUMC – Parker United Methodist Church\, 11805 S Pine Drive\, Parker\, CO\, 80134\, United States
CATEGORIES:Staff Meetings
END:VEVENT
BEGIN:VEVENT
DTSTART;TZID=America/Denver:20301104T183000
DTEND;TZID=America/Denver:20301104T203000
DTSTAMP:20260423T104634
CREATED:20251205T201703Z
LAST-MODIFIED:20251205T201704Z
UID:10004962-1920047400-1920054600@aresdec.org
SUMMARY:Monthly Staff Meeting
DESCRIPTION:Monthly ARES R1D5 Staff Meeting held in person and online via Microsoft Teams.  Link to Microsoft Teams will be provided before each Staff meeting.  In-Person location will remain the same each month unless advised otherwise.
URL:https://aresdec.org/event/monthly-staff-meeting-2-2/2030-11-04/
LOCATION:PUMC – Parker United Methodist Church\, 11805 S Pine Drive\, Parker\, CO\, 80134\, United States
CATEGORIES:Staff Meetings
END:VEVENT
BEGIN:VEVENT
DTSTART;TZID=America/Denver:20301202T183000
DTEND;TZID=America/Denver:20301202T203000
DTSTAMP:20260423T104634
CREATED:20251205T201703Z
LAST-MODIFIED:20251205T201704Z
UID:10004963-1922466600-1922473800@aresdec.org
SUMMARY:Monthly Staff Meeting
DESCRIPTION:Monthly ARES R1D5 Staff Meeting held in person and online via Microsoft Teams.  Link to Microsoft Teams will be provided before each Staff meeting.  In-Person location will remain the same each month unless advised otherwise.
URL:https://aresdec.org/event/monthly-staff-meeting-2-2/2030-12-02/
LOCATION:PUMC – Parker United Methodist Church\, 11805 S Pine Drive\, Parker\, CO\, 80134\, United States
CATEGORIES:Staff Meetings
END:VEVENT
END:VCALENDAR