BEGIN:VCALENDAR
VERSION:2.0
PRODID:-//ARESDEC - ECPv6.15.20//NONSGML v1.0//EN
CALSCALE:GREGORIAN
METHOD:PUBLISH
X-WR-CALNAME:ARESDEC
X-ORIGINAL-URL:https://aresdec.org
X-WR-CALDESC:Events for ARESDEC
REFRESH-INTERVAL;VALUE=DURATION:PT1H
X-Robots-Tag:noindex
X-PUBLISHED-TTL:PT1H
BEGIN:VTIMEZONE
TZID:America/Denver
BEGIN:DAYLIGHT
TZOFFSETFROM:-0700
TZOFFSETTO:-0600
TZNAME:MDT
DTSTART:20220313T090000
END:DAYLIGHT
BEGIN:STANDARD
TZOFFSETFROM:-0600
TZOFFSETTO:-0700
TZNAME:MST
DTSTART:20221106T080000
END:STANDARD
BEGIN:DAYLIGHT
TZOFFSETFROM:-0700
TZOFFSETTO:-0600
TZNAME:MDT
DTSTART:20230312T090000
END:DAYLIGHT
BEGIN:STANDARD
TZOFFSETFROM:-0600
TZOFFSETTO:-0700
TZNAME:MST
DTSTART:20231105T080000
END:STANDARD
BEGIN:DAYLIGHT
TZOFFSETFROM:-0700
TZOFFSETTO:-0600
TZNAME:MDT
DTSTART:20240310T090000
END:DAYLIGHT
BEGIN:STANDARD
TZOFFSETFROM:-0600
TZOFFSETTO:-0700
TZNAME:MST
DTSTART:20241103T080000
END:STANDARD
BEGIN:DAYLIGHT
TZOFFSETFROM:-0700
TZOFFSETTO:-0600
TZNAME:MDT
DTSTART:20250309T090000
END:DAYLIGHT
BEGIN:STANDARD
TZOFFSETFROM:-0600
TZOFFSETTO:-0700
TZNAME:MST
DTSTART:20251102T080000
END:STANDARD
BEGIN:DAYLIGHT
TZOFFSETFROM:-0700
TZOFFSETTO:-0600
TZNAME:MDT
DTSTART:20260308T090000
END:DAYLIGHT
BEGIN:STANDARD
TZOFFSETFROM:-0600
TZOFFSETTO:-0700
TZNAME:MST
DTSTART:20261101T080000
END:STANDARD
END:VTIMEZONE
BEGIN:VEVENT
DTSTART;TZID=America/Denver:20251225T190000
DTEND;TZID=America/Denver:20251225T210000
DTSTAMP:20260423T191752
CREATED:20241109T215125Z
LAST-MODIFIED:20251211T031203Z
UID:10000461-1766689200-1766696400@aresdec.org
SUMMARY:Face-to-Face Meeting Cancelled Due to Christmas Day
DESCRIPTION:December Face-to-Face meeting cancelled due to Christmas Day.  Will Santa bring you a new radio or antenna?
URL:https://aresdec.org/event/face-to-face-2-15/2025-12-25/
CATEGORIES:Face-to-Face Meeting Cancelled
END:VEVENT
BEGIN:VEVENT
DTSTART;TZID=America/Denver:20251127T190000
DTEND;TZID=America/Denver:20251127T210000
DTSTAMP:20260423T191752
CREATED:20241109T214926Z
LAST-MODIFIED:20251211T030859Z
UID:10000460-1764270000-1764277200@aresdec.org
SUMMARY:Face-to-Face Cancelled due to Thanksgiving Holiday
DESCRIPTION:Face-to-Face cancelled due to the Thanksgiving holiday.
URL:https://aresdec.org/event/face-to-face-2-14/2025-11-27/
CATEGORIES:Face-to-Face Meeting Cancelled
END:VEVENT
BEGIN:VEVENT
DTSTART;TZID=America/Denver:20250626T190000
DTEND;TZID=America/Denver:20250626T210000
DTSTAMP:20260423T191752
CREATED:20241109T210559Z
LAST-MODIFIED:20251211T025750Z
UID:10000455-1750964400-1750971600@aresdec.org
SUMMARY:Face-to-Face Meeting Cancelled Due to Field Day Activities
DESCRIPTION:June Face-to-Face will not be held this month due to Field Day events
URL:https://aresdec.org/event/face-to-face-cancelled-2/2025-06-26/
CATEGORIES:Face-to-Face Meeting Cancelled
END:VEVENT
BEGIN:VEVENT
DTSTART;TZID=America/Denver:20240627T190000
DTEND;TZID=America/Denver:20240627T210000
DTSTAMP:20260423T191752
CREATED:20230926T181634Z
LAST-MODIFIED:20230927T211352Z
UID:10000443-1719514800-1719522000@aresdec.org
SUMMARY:Face-to-Face Cancelled Due to Field Day Activities June 22-23\, 2024
DESCRIPTION:See you at Field Day!  Come join us!
URL:https://aresdec.org/event/face-to-face-2-7/
CATEGORIES:Face-to-Face Meeting Cancelled
END:VEVENT
BEGIN:VEVENT
DTSTART;TZID=America/Denver:20240125T190000
DTEND;TZID=America/Denver:20240125T210000
DTSTAMP:20260423T191752
CREATED:20240105T035228Z
LAST-MODIFIED:20240106T144938Z
UID:10000829-1706209200-1706216400@aresdec.org
SUMMARY:Face-to-Face Cancelled.  Meeting Move to Jan 18th.
DESCRIPTION:
URL:https://aresdec.org/event/face-to-face-cancelled-meeting-move-to-jan-18th/
CATEGORIES:Face-to-Face Meeting Cancelled
END:VEVENT
BEGIN:VEVENT
DTSTART;VALUE=DATE:20230622
DTEND;VALUE=DATE:20230623
DTSTAMP:20260423T191752
CREATED:20230501T195643Z
LAST-MODIFIED:20230501T200923Z
UID:10000410-1687392000-1687478399@aresdec.org
SUMMARY:Face-to-Face Cancelled June 22\, 2023 due to Field Day Activities June 23 - 25
DESCRIPTION:
URL:https://aresdec.org/event/no-face-to-face-june-22-2023-due-to-field-day-activities-june-23-25/
CATEGORIES:Face-to-Face Meeting Cancelled
END:VEVENT
END:VCALENDAR