BEGIN:VCALENDAR
VERSION:2.0
PRODID:-//ARESDEC - ECPv6.15.20//NONSGML v1.0//EN
CALSCALE:GREGORIAN
METHOD:PUBLISH
X-WR-CALNAME:ARESDEC
X-ORIGINAL-URL:https://aresdec.org
X-WR-CALDESC:Events for ARESDEC
REFRESH-INTERVAL;VALUE=DURATION:PT1H
X-Robots-Tag:noindex
X-PUBLISHED-TTL:PT1H
BEGIN:VTIMEZONE
TZID:America/Denver
BEGIN:DAYLIGHT
TZOFFSETFROM:-0700
TZOFFSETTO:-0600
TZNAME:MDT
DTSTART:20290311T090000
END:DAYLIGHT
BEGIN:STANDARD
TZOFFSETFROM:-0600
TZOFFSETTO:-0700
TZNAME:MST
DTSTART:20291104T080000
END:STANDARD
BEGIN:DAYLIGHT
TZOFFSETFROM:-0700
TZOFFSETTO:-0600
TZNAME:MDT
DTSTART:20300310T090000
END:DAYLIGHT
BEGIN:STANDARD
TZOFFSETFROM:-0600
TZOFFSETTO:-0700
TZNAME:MST
DTSTART:20301103T080000
END:STANDARD
BEGIN:DAYLIGHT
TZOFFSETFROM:-0700
TZOFFSETTO:-0600
TZNAME:MDT
DTSTART:20310309T090000
END:DAYLIGHT
BEGIN:STANDARD
TZOFFSETFROM:-0600
TZOFFSETTO:-0700
TZNAME:MST
DTSTART:20311102T080000
END:STANDARD
END:VTIMEZONE
BEGIN:VEVENT
DTSTART;VALUE=DATE:20300727
DTEND;VALUE=DATE:20300805
DTSTAMP:20260423T120934
CREATED:20231229T043523Z
LAST-MODIFIED:20251211T195445Z
UID:10005021-1911340800-1912118399@aresdec.org
SUMMARY:Elbert County Fair & Rodeo
DESCRIPTION:The Elbert County Office of Emergency Management (OEM) provides the request for County Fair ARES® support to provide situational awareness\, weather monitoring and reporting\, staff coordination\, and onsite safety.  We will work from an on-site Safety Station\, monitor radio communications\, and relay traffic as directed by Elbert County Fair Board Leadership. We will again be using DTRS (public safety radios) and those R1D5 members with Elbert County EOC training are highly desired\, but not required\, for this event. \nRADOs needed to cover the entire event. \nEvent website: https://www.elbertcountyfair.com/
URL:https://aresdec.org/event/elbert-county-fair-2024/2030-07-27/
LOCATION:Elbert County Fairground\, 95 Ute Ave\, Kiowa\, CO\, 80117\, United States
CATEGORIES:Event
END:VEVENT
BEGIN:VEVENT
DTSTART;TZID=America/Denver:20300901T070000
DTEND;TZID=America/Denver:20300901T170000
DTSTAMP:20260423T120934
CREATED:20251211T192818Z
LAST-MODIFIED:20251211T192938Z
UID:10005017-1914476400-1914512400@aresdec.org
SUMMARY:Mad Gravel Race
DESCRIPTION:Elbert County is where you want to be to celebrate the Sunday of Labor Day weekend this year!\n\nLocated in Kiowa\, Colorado\, the Mad Gravel Race is a series of events that are held over the Labor Day weekend each year.  ARESDEC is proud to provide communications support for Elbert County OEM and the event sponsor.  There are three races of different distances\, described below. \n\n\n\nHemi Hustle: 30 miles\n\nAt 30 miles\, the Hemi Hustle is the best route for those that want a great sampling of the region while still enjoying the unique roads and views of Elbert County. On 100% gravel roads\, this amazing course delivers the Hemi experience in a condensed form. While you get a custom number plate\, it is not a competitive event. This is the shortest route\, but know you still will conquer a very challenging course.\n\n\nHemi Five-O: 50 miles\n\nAt a hefty 50 miles\, Hemi Five-O is slightly less sadistic than its parent. Plenty of mileage while still enjoying an epic tour of the eastern plains. Prepare yourself for some awe-inspiring moments while you take in a great panorama of Colorado’s high peaks. Pikes Peak alone is stunning in late spring with its snow-capped summit. Fully supported with an aid station in the middle so you can pack light.\n\n\nHemi: 100 miles\n\n100 miles of pure bliss. The Hemi will cover over 6400 feet of climbing while topping out at 7300 ft. This course is a perfect blend of all the killer gravel roads in Elbert County. While you’ll get wide open power sections\, expect some climbing that will test the legs over this distance. Wind in May east of the Colorado front range? Yeah it’s likely. 3 aid stations to serve your hydration and nutritional needs.\n\n\n\n\n\nMad Gravel and Rattler Racing have combined efforts with the Junior Cycling Project\, a Colorado non-profit charitable organization to create this event. Together\, they work to expand on the shared mission of getting juniors on bikes\, introduce new cycling opportunities\, and work with like minded non-profits to get bikes in the hands of those juniors in need. By working and partnering with the community\, they advance the cause of supporting junior riders and give them the resources and avenues to help them grow. After all\, they are the future of the sport!. \nARESDEC is proud to provide communications support to this important event and the community that supports them! \n 
URL:https://aresdec.org/event/mad-gravel-race-2-2/2030-09-01/
LOCATION:Peaceful Valley Scout Ranch\, 22799 Elbert Rd.\, Elbert\, CO\, 80106\, United States
CATEGORIES:Event
END:VEVENT
BEGIN:VEVENT
DTSTART;TZID=America/Denver:20300908T070000
DTEND;TZID=America/Denver:20300908T170000
DTSTAMP:20260423T120934
CREATED:20251211T191043Z
LAST-MODIFIED:20251211T191241Z
UID:10005011-1915081200-1915117200@aresdec.org
SUMMARY:Fall Poker Run
DESCRIPTION:Twice a year\, the Rampart Range Motorcycle Management Committee sponsors a non-competitive Poker Run for off-road motorcycles (no ATV’s) and riders of all ages. There is a short course (approximately 15-25 miles) and a long course (approximately 50-55 miles). Riders of all abilities are welcome. Prizes are awarded on the basis of the poker hand you draw at the final check point.  The Fall Poker Run is not a race\, it is an EVENT!   \nThis is a non-competitive event and the 5 prizes awarded for each course are based on the rider’s luck in drawing one of the five highest winning poker hands consisting of five (short course) or seven (long course) total cards at the final checkpoint.  It’s truly a wonderful experience. \nARESDEC will provide tactical communications & situational awareness for Poker Run event staff. ARESDEC members should expect to provide APRS/LoRa tracking\, checkpoint communications\, Forward Observer (FOB)\, observe Poker Run operations and monitor the Net\, report any emergencies\, medical issues\, and/or disabled bikes\, and report rider activity like first rider through\, sweeps passing through the checkpoints\, and event staff arriving and departing.  We coordinate with Douglas County Search & Rescue (DCSAR) for their services if needed on the course. \nARES R1D5 Members can contact Training@aresdec.org or staff@aresdec.org if you have questions\, suggestions or concerns.  We look forward to working with the event sponsor and partners for a successful event! \nBackground:  The Rampart Range Fall Poker Run is planned and run by the RRMMC (Rampart Range Motorcycle Management Committee). RRMMC is an all-volunteer\, nonprofit corporation founded in 1972 to work with the Forest Service to promote and preserve dirt bike trail riding opportunities in the Rampart Range area of Pike National Forest near Sedalia\, Colorado. \nEvent Website: http://rampartrange.org/poker-run/ \n 
URL:https://aresdec.org/event/fall-poker-run-2-2/2030-09-08/
LOCATION:Rampart Range\, CO\, United States
CATEGORIES:Event
GEO:39.32777;-105.09408
END:VEVENT
BEGIN:VEVENT
DTSTART;TZID=America/Denver:20301128T073000
DTEND;TZID=America/Denver:20301128T120000
DTSTAMP:20260423T120934
CREATED:20231229T044606Z
LAST-MODIFIED:20251211T195853Z
UID:10005023-1922081400-1922097600@aresdec.org
SUMMARY:Highlands Ranch Turkey Day 5K Run
DESCRIPTION:A public service/camaraderie Thanksgiving morning event where ARES R1D5 provides communications support to event staff via observers primarily using HTs on a Simplex frequency.  We provide situational awareness for the event participants and event staff to ensure a safe and fun event for all participants.  Historically\, proceeds have gone to the Douglas County Fallen Officer’s fund. \nObjective(s): \n\nSafely and effectively provide communications support and incident awareness to the Highlands Ranch Turkey Day 5K event supporting the Douglas County Fallen Officers Fund.\nEstablish and Maintain an ARESDEC ICP to serve as an effective Incident Communication Center using Amateur Radio to maintain situational awareness and aid event management with regard to problems on the course involving incidents\, accidents\, or injuries.\nCoordinate with law and other first responders as warranted.  Maintain public safety communications to DCSO elements providing traffic control for the event.\nMaintain ARESDEC personnel accountability via pre-event Check-in\, Roll Calls\, and Demobilization reporting when returning to their home QTH (or other planned destination).\n\nAfter working up an appetite\, everyone will get to enjoy their favorite Thanksgiving festivities including family\, friends and food.  Maybe sneak a nap and watch some football!
URL:https://aresdec.org/event/turkey-day-5k-2024/2030-11-28/
LOCATION:Shea Stadium\, 3270 Redstone Park Circle\, Highlands Ranch\, CO\, 80129\, United States
CATEGORIES:Event
END:VEVENT
END:VCALENDAR