BEGIN:VCALENDAR
VERSION:2.0
PRODID:-//ARESDEC - ECPv6.15.20//NONSGML v1.0//EN
CALSCALE:GREGORIAN
METHOD:PUBLISH
X-WR-CALNAME:ARESDEC
X-ORIGINAL-URL:https://aresdec.org
X-WR-CALDESC:Events for ARESDEC
REFRESH-INTERVAL;VALUE=DURATION:PT1H
X-Robots-Tag:noindex
X-PUBLISHED-TTL:PT1H
BEGIN:VTIMEZONE
TZID:America/Denver
BEGIN:DAYLIGHT
TZOFFSETFROM:-0700
TZOFFSETTO:-0600
TZNAME:MDT
DTSTART:20220313T090000
END:DAYLIGHT
BEGIN:STANDARD
TZOFFSETFROM:-0600
TZOFFSETTO:-0700
TZNAME:MST
DTSTART:20221106T080000
END:STANDARD
BEGIN:DAYLIGHT
TZOFFSETFROM:-0700
TZOFFSETTO:-0600
TZNAME:MDT
DTSTART:20230312T090000
END:DAYLIGHT
BEGIN:STANDARD
TZOFFSETFROM:-0600
TZOFFSETTO:-0700
TZNAME:MST
DTSTART:20231105T080000
END:STANDARD
BEGIN:DAYLIGHT
TZOFFSETFROM:-0700
TZOFFSETTO:-0600
TZNAME:MDT
DTSTART:20240310T090000
END:DAYLIGHT
BEGIN:STANDARD
TZOFFSETFROM:-0600
TZOFFSETTO:-0700
TZNAME:MST
DTSTART:20241103T080000
END:STANDARD
BEGIN:DAYLIGHT
TZOFFSETFROM:-0700
TZOFFSETTO:-0600
TZNAME:MDT
DTSTART:20250309T090000
END:DAYLIGHT
BEGIN:STANDARD
TZOFFSETFROM:-0600
TZOFFSETTO:-0700
TZNAME:MST
DTSTART:20251102T080000
END:STANDARD
END:VTIMEZONE
BEGIN:VEVENT
DTSTART;VALUE=DATE:20240526
DTEND;VALUE=DATE:20240527
DTSTAMP:20260423T023645
CREATED:20231219T015623Z
LAST-MODIFIED:20241111T020716Z
UID:10000821-1716681600-1716767999@aresdec.org
SUMMARY:Mad Gravel Race
DESCRIPTION:We are again planning to enhance our skills by providing APRS/LoRa tracking\, Aid Station communications\, and likely some Rover and SAG (support & gear) for a family of three races in Elbert County: \n\n\n\nHemi Hustle: 30 miles\nHemi Five-O: 50 miles\nHemi: 100 miles\n\n\n\nMad Gravel and The Hemi are part of the Junior Cycling Project non-profit organization. Donations and sponsorships will generate funds for junior development of the next generation in the sport of cycling. \nMore details to come
URL:https://aresdec.org/event/mad-gravel-race/
LOCATION:Elbert County\, CO\, 80106
CATEGORIES:Event
END:VEVENT
BEGIN:VEVENT
DTSTART;TZID=America/Denver:20240325T183000
DTEND;TZID=America/Denver:20240325T203000
DTSTAMP:20260423T023645
CREATED:20240222T020403Z
LAST-MODIFIED:20240222T022649Z
UID:10000907-1711391400-1711398600@aresdec.org
SUMMARY:DC AuxComm Semi-Annual Meeting
DESCRIPTION:As a new thing for this year we are scheduling two “semi-annual” meetings for DC AuxComm certified members. Our first DC AuxComm meeting is scheduled on 3/25/24 in the Douglas County EOC. The purpose of this meeting is to become better acquainted with the EOC\, to discuss EOC procedures\, and to talk about the various communications equipment used by AuxComm members when deployed to the EOC. W6AUN will facilitate the meeting and discussions. Stay tuned for more details. \n \n  \n 
URL:https://aresdec.org/event/dc-auxcomm-semi-annual-meeting/
LOCATION:Douglas County EOC\, 4000 Justice Way\, Castle Rock\, CO\, 80109\, United States
CATEGORIES:Event
END:VEVENT
BEGIN:VEVENT
DTSTART;VALUE=DATE:20240309
DTEND;VALUE=DATE:20240310
DTSTAMP:20260423T023645
CREATED:20240110T180856Z
LAST-MODIFIED:20240208T020455Z
UID:10000904-1709942400-1710028799@aresdec.org
SUMMARY:Shelter Surveys - Elbert County (rescheduled from 2/3/24)
DESCRIPTION:ARES® R1D5 is scheduled to survey one or more facilities designated by the Elbert County Office of Emergency Management (OEM) as emergency warming shelters. Such surveys allow preparation and update of Key Location Forms that detail information necessary for ARES to respond to a shelter activation in a timely manner with the right communications equipment. \nThe crux of the surveys is propagation testing. We’ll be testing our primary amateur analog/DMR repeaters\, Winlink RMS Gateways\, and Simplex communication with the Elbert County EOC. \n· Our survey team will consist of one or two volunteers who can bring a GO-KIT radio (at least one DMR) along with at least a speaker stand antenna to test voice/Winlink performance from the shelters. \n· Another member will support the survey from the Elbert County EOC. \nWe usually meet in Kiowa for breakfast and review our Game Plan before heading to the survey site(s). If you are an ARES R1D5 member who would like to share some camaraderie and help on this readiness mission\, please contact Hal/KE0KFB\, AEC-OPS.
URL:https://aresdec.org/event/shelter-surveys-elbert-county/
LOCATION:Elbert County\, CO\, 80106
CATEGORIES:Event
END:VEVENT
BEGIN:VEVENT
DTSTART;TZID=America/Denver:20240209T080000
DTEND;TZID=America/Denver:20240209T130000
DTSTAMP:20260423T023645
CREATED:20240103T023204Z
LAST-MODIFIED:20240103T023857Z
UID:10000827-1707465600-1707483600@aresdec.org
SUMMARY:Shelter Surveys - Castle Rock area
DESCRIPTION:ARES® R1D5 is scheduled to conduct surveys of four facilities designated by the Douglas County Office of Emergency Management (OEM) as priority emergency shelters. These surveys allow preparation and update of Key Location Forms that detail information necessary for ARES to respond to a shelter activation in a timely manner with the right communications equipment. \nThe crux of the surveys is propagation testing. We’ll be testing our primary amateur analog/DMR repeaters\, Winlink RMS Gateways\, and Simplex communication with the Douglas County EOC. \n\nWe’ll need one or two volunteers who can bring a GO-KIT radio (at least one DMR) along with at least a speaker stand antenna to test voice/Winlink performance from the shelters.\nWe could also use a badged DC AuxComm member to help support the survey from the Douglas County EOC using the installed AnyTone 578 transceiver.\n\nWe’re planning to meet in Castle Rock for breakfast and a review of everyone’s job\, followed by a 0900 hard start for the surveys. If you would like to share some camaraderie and help on this readiness mission\, please contact Hal/KE0KFB\, AEC-OPS.
URL:https://aresdec.org/event/shelter-surveys-castle-rock-area/
LOCATION:CO
CATEGORIES:Event
END:VEVENT
BEGIN:VEVENT
DTSTART;TZID=America/Denver:20231123T073000
DTEND;TZID=America/Denver:20231123T120000
DTSTAMP:20260423T023645
CREATED:20230416T175206Z
LAST-MODIFIED:20230908T011736Z
UID:10000008-1700724600-1700740800@aresdec.org
SUMMARY:Turkey Day 5K 2023
DESCRIPTION:A public service/camaraderie Thanksgiving morning event where R1D5 provides situation awareness to event staff via observers primarily using HTs on a Simplex frequency.  After our turkeys are in the over at home\, our volunteers usually meet for Breakfast and then over to  help out on this traditional Highlands Ranch Thanksgiving event.   Historically\, proceeds have gone to the Douglas County Fallen Officer’s fund. \nObjective(s): \n\nSafely and effectively provide communications support and incident awareness to the Highlands Ranch Turkey Day 5K event supporting the Douglas County Fallen Officers Fund.\nEstablish and Maintain an ARESDEC ICP to serve as an effective Incident Communication Center using Amateur Radio to maintain situational awareness and aid event management with regard to problems on the course involving incidents\, accidents\, or injuries.\nCoordinate with law and other first responders as warranted.  Maintain public safety communications to DCSO elements providing traffic control for the event.\nMaintain ARESDEC personnel accountability via pre-event Check-in\, Roll Calls\, and Demobilization reporting when returning to their home QTH (or other planned destination).
URL:https://aresdec.org/event/turkey-day-5k/
LOCATION:HRSS – Highlands Ranch DCSO Substation\, 9250 Zotos Drive\, Highlands Ranch\, CO\, 80129\, United States
CATEGORIES:Event
ATTACH;FMTTYPE=image/png:https://aresdec.org/wp-content/uploads/2023/04/Turkey-Day-5K-Logo.png
GEO:39.54832;-104.997153
X-APPLE-STRUCTURED-LOCATION;VALUE=URI;X-ADDRESS=HRSS – Highlands Ranch DCSO Substation 9250 Zotos Drive Highlands Ranch CO 80129 United States;X-APPLE-RADIUS=500;X-TITLE=9250 Zotos Drive:geo:-104.997153,39.54832
END:VEVENT
BEGIN:VEVENT
DTSTART;VALUE=DATE:20230910
DTEND;VALUE=DATE:20230911
DTSTAMP:20260423T023645
CREATED:20230416T174931Z
LAST-MODIFIED:20230727T195630Z
UID:10000005-1694304000-1694390399@aresdec.org
SUMMARY:Fall Poker Run 2023
DESCRIPTION:Background: The Rampart Range Spring Poker Run is planned and run by the RRMMC (Rampart Range Motorcycle Management Committee). RRMMC is an all-volunteer\, nonprofit corporation founded in 1972 to work with the Forest Service to promote and preserve dirt bike trail riding opportunities in the Rampart Range area of Pike National Forest near Sedalia\, Colorado.  \n Twice a year\, the Rampart Range Motorcycle Management Committee sponsors a non-competitive Poker Run for off-road motorcycle riders of all ages. There is a short course (approximately 15-25 miles) and a long course (approximately 50-55 miles). Riders of all abilities are welcome. Prizes are awarded on the basis of the poker hand drawn at the final check point. This is not a race. It’s an event.  \nARESDEC provides tactical communications & situational awareness for event staff via staffing the following functions:\n– EC Emergency Coordinator – overall ARES leader\n– MC Mission Coordinator – ARES event planning\, execution and safety\n– COMM CENTER ARES Communication Trailer / ICP (Net Control\, Alternate Net Control)\n– CHEKPOINTS Each with two trained ARES Radio Operators (RADOs)\n– ROVER Highly trained ARES mobile RADO\n– FO (Forward Observer) Dirt bike mounted ARES member embedded in event (HT & APRS)
URL:https://aresdec.org/event/fall-poker-run/
LOCATION:Rampart Range\, CO\, United States
CATEGORIES:Event
ATTACH;FMTTYPE=image/jpeg:https://aresdec.org/wp-content/uploads/2023/04/Poker-Run.jpg
GEO:39.32777;-105.09408
END:VEVENT
BEGIN:VEVENT
DTSTART;VALUE=DATE:20230728
DTEND;VALUE=DATE:20230807
DTSTAMP:20260423T023645
CREATED:20230727T134515Z
LAST-MODIFIED:20251211T195205Z
UID:10000436-1690502400-1691366399@aresdec.org
SUMMARY:Douglas County Fair & Rodeo
DESCRIPTION:The Douglas County Fair & Rodeo is a longtime tradition that holds a special place in the hearts of Douglas County residents. This highly attended event has been a showcase for the skills and talents of many for generations. Complete with PRCA rodeos\, 4-H\, FFA and Open Class exhibitors\, Jr. Livestock Sale\, carnival\, entertainment and much more\, this is a fun gathering for young and old. \nDuring the Douglas County Fair\, ARES R1D5 will be operating out of the Fair’s command center\, and we are part of the DC Security and Facilities team.  We will be using public safety talkgroups.  This year we are sitting with those who are monitoring a large number of CCTV cameras installed around the fairgrounds. We will be communicating with law enforcement at the Fair\, and with Douglas County Law or Fire dispatch if the need arises. \nRADOs will be needed each day of the event to provide necessary coverage.  Please contact Training@aresdec.org for more information. \nEvent website: https://www.douglascountyfairandrodeo.com/
URL:https://aresdec.org/event/douglas-county-fair-rodeo/2023-07-28/
LOCATION:Douglas County Fairgrounds\, 500 Fairgrounds Rd.\, Castle Rock\, CO\, 80104\, United States
CATEGORIES:Event
ATTACH;FMTTYPE=image/png:https://aresdec.org/wp-content/uploads/2023/07/DC-Fair-and-Rodeo-Logo.png
END:VEVENT
BEGIN:VEVENT
DTSTART;VALUE=DATE:20230604
DTEND;VALUE=DATE:20230605
DTSTAMP:20260423T023645
CREATED:20230416T174824Z
LAST-MODIFIED:20230501T161246Z
UID:10000004-1685836800-1685923199@aresdec.org
SUMMARY:Spring Poker Run 2023
DESCRIPTION:ARESDEC will provide tactical communications & situational awareness for Poker Run event staff.  Full details still forthcoming.  ARESDEC members should expect to observe Poker Run operations and monitor the Net\, report any emergencies\, medical issues\, and/or disabled bikes\, and report rider activity like first rider through\, sweeps passing through the checkpoints\, and event staff arriving and departing. \nBackground:  The Rampart Range Spring Poker Run is planned and run by the RRMMC (Rampart Range Motorcycle Management Committee). RRMMC is an all-volunteer\, nonprofit corporation founded in 1972 to work with the Forest Service to promote and preserve dirt bike trail riding opportunities in the Rampart Range area of Pike National Forest near Sedalia\, Colorado.  Twice a year\, the Rampart Range Motorcycle Management Committee sponsors a non-competitive Poker Run for off-road motorcycle riders of all ages. There is a short course (approximately 15-25 miles) and a long course (approximately 50-55 miles). Riders of all abilities are welcome. Prizes are awarded on the basis of the poker hand drawn at the final check point. This is not a race. It’s an event.  Event Website: http://rampartrange.org/poker-run/ \n 
URL:https://aresdec.org/event/spring-poker-run/
LOCATION:Rampart Range\, CO\, United States
CATEGORIES:Event
GEO:39.32777;-105.09408
END:VEVENT
BEGIN:VEVENT
DTSTART;VALUE=DATE:20230528
DTEND;VALUE=DATE:20230529
DTSTAMP:20260423T023645
CREATED:20230416T174602Z
LAST-MODIFIED:20230522T144312Z
UID:10000002-1685232000-1685318399@aresdec.org
SUMMARY:Mad Gravel Bicycle Race 2023
DESCRIPTION:ARESDEC will provide communication support for Elbert County OEM and the Mad Gravel bicycle race. \nEvent Website: https://madgravel.com/
URL:https://aresdec.org/event/mad-gravel-bicycle-race/
LOCATION:Elbert County\, CO\, 80106
CATEGORIES:Event
END:VEVENT
END:VCALENDAR