BEGIN:VCALENDAR
VERSION:2.0
PRODID:-//ARESDEC - ECPv6.15.20//NONSGML v1.0//EN
CALSCALE:GREGORIAN
METHOD:PUBLISH
X-ORIGINAL-URL:https://aresdec.org
X-WR-CALDESC:Events for ARESDEC
REFRESH-INTERVAL;VALUE=DURATION:PT1H
X-Robots-Tag:noindex
X-PUBLISHED-TTL:PT1H
BEGIN:VTIMEZONE
TZID:America/Denver
BEGIN:DAYLIGHT
TZOFFSETFROM:-0700
TZOFFSETTO:-0600
TZNAME:MDT
DTSTART:20280312T090000
END:DAYLIGHT
BEGIN:STANDARD
TZOFFSETFROM:-0600
TZOFFSETTO:-0700
TZNAME:MST
DTSTART:20281105T080000
END:STANDARD
BEGIN:DAYLIGHT
TZOFFSETFROM:-0700
TZOFFSETTO:-0600
TZNAME:MDT
DTSTART:20290311T090000
END:DAYLIGHT
BEGIN:STANDARD
TZOFFSETFROM:-0600
TZOFFSETTO:-0700
TZNAME:MST
DTSTART:20291104T080000
END:STANDARD
BEGIN:DAYLIGHT
TZOFFSETFROM:-0700
TZOFFSETTO:-0600
TZNAME:MDT
DTSTART:20300310T090000
END:DAYLIGHT
BEGIN:STANDARD
TZOFFSETFROM:-0600
TZOFFSETTO:-0700
TZNAME:MST
DTSTART:20301103T080000
END:STANDARD
END:VTIMEZONE
BEGIN:VEVENT
DTSTART;TZID=America/Denver:20290902T070000
DTEND;TZID=America/Denver:20290902T170000
DTSTAMP:20260425T061040
CREATED:20251211T192818Z
LAST-MODIFIED:20251211T192938Z
UID:10005016-1883026800-1883062800@aresdec.org
SUMMARY:Mad Gravel Race
DESCRIPTION:Elbert County is where you want to be to celebrate the Sunday of Labor Day weekend this year!\n\nLocated in Kiowa\, Colorado\, the Mad Gravel Race is a series of events that are held over the Labor Day weekend each year.  ARESDEC is proud to provide communications support for Elbert County OEM and the event sponsor.  There are three races of different distances\, described below. \n\n\n\nHemi Hustle: 30 miles\n\nAt 30 miles\, the Hemi Hustle is the best route for those that want a great sampling of the region while still enjoying the unique roads and views of Elbert County. On 100% gravel roads\, this amazing course delivers the Hemi experience in a condensed form. While you get a custom number plate\, it is not a competitive event. This is the shortest route\, but know you still will conquer a very challenging course.\n\n\nHemi Five-O: 50 miles\n\nAt a hefty 50 miles\, Hemi Five-O is slightly less sadistic than its parent. Plenty of mileage while still enjoying an epic tour of the eastern plains. Prepare yourself for some awe-inspiring moments while you take in a great panorama of Colorado’s high peaks. Pikes Peak alone is stunning in late spring with its snow-capped summit. Fully supported with an aid station in the middle so you can pack light.\n\n\nHemi: 100 miles\n\n100 miles of pure bliss. The Hemi will cover over 6400 feet of climbing while topping out at 7300 ft. This course is a perfect blend of all the killer gravel roads in Elbert County. While you’ll get wide open power sections\, expect some climbing that will test the legs over this distance. Wind in May east of the Colorado front range? Yeah it’s likely. 3 aid stations to serve your hydration and nutritional needs.\n\n\n\n\n\nMad Gravel and Rattler Racing have combined efforts with the Junior Cycling Project\, a Colorado non-profit charitable organization to create this event. Together\, they work to expand on the shared mission of getting juniors on bikes\, introduce new cycling opportunities\, and work with like minded non-profits to get bikes in the hands of those juniors in need. By working and partnering with the community\, they advance the cause of supporting junior riders and give them the resources and avenues to help them grow. After all\, they are the future of the sport!. \nARESDEC is proud to provide communications support to this important event and the community that supports them! \n 
URL:https://aresdec.org/event/mad-gravel-race-2-2/2029-09-02/
LOCATION:Peaceful Valley Scout Ranch\, 22799 Elbert Rd.\, Elbert\, CO\, 80106\, United States
CATEGORIES:Event
END:VEVENT
END:VCALENDAR