BEGIN:VCALENDAR
VERSION:2.0
PRODID:-//ARESDEC - ECPv6.15.20//NONSGML v1.0//EN
CALSCALE:GREGORIAN
METHOD:PUBLISH
X-WR-CALNAME:ARESDEC
X-ORIGINAL-URL:https://aresdec.org
X-WR-CALDESC:Events for ARESDEC
REFRESH-INTERVAL;VALUE=DURATION:PT1H
X-Robots-Tag:noindex
X-PUBLISHED-TTL:PT1H
BEGIN:VTIMEZONE
TZID:America/Denver
BEGIN:DAYLIGHT
TZOFFSETFROM:-0700
TZOFFSETTO:-0600
TZNAME:MDT
DTSTART:20250309T090000
END:DAYLIGHT
BEGIN:STANDARD
TZOFFSETFROM:-0600
TZOFFSETTO:-0700
TZNAME:MST
DTSTART:20251102T080000
END:STANDARD
BEGIN:DAYLIGHT
TZOFFSETFROM:-0700
TZOFFSETTO:-0600
TZNAME:MDT
DTSTART:20260308T090000
END:DAYLIGHT
BEGIN:STANDARD
TZOFFSETFROM:-0600
TZOFFSETTO:-0700
TZNAME:MST
DTSTART:20261101T080000
END:STANDARD
BEGIN:DAYLIGHT
TZOFFSETFROM:-0700
TZOFFSETTO:-0600
TZNAME:MDT
DTSTART:20270314T090000
END:DAYLIGHT
BEGIN:STANDARD
TZOFFSETFROM:-0600
TZOFFSETTO:-0700
TZNAME:MST
DTSTART:20271107T080000
END:STANDARD
END:VTIMEZONE
BEGIN:VEVENT
DTSTART;TZID=America/Denver:20260613T070000
DTEND;TZID=America/Denver:20260613T170000
DTSTAMP:20260423T021242
CREATED:20260403T184902Z
LAST-MODIFIED:20260403T184902Z
UID:10005191-1781334000-1781370000@aresdec.org
SUMMARY:The Hundo 2026 - Bailey\, CO - in Partnership with Colorado ARES
DESCRIPTION:ARESDEC is excited to announce a new addition to our 2026 event calendar: The HUNDO\, a 100K/64K mountain bike race held in Bailey\, Colorado. This is a first for our organization\, and we are proud to be partnering with neighboring ARES districts to make it happen. \nThe event organizers are already familiar with how ARESDEC operates from our work at the Spring and Fall Poker Runs — they know what we bring to the table\, and they want us there. Our communications support is a key part of how they plan to run a safe event. \nOur mission on June 13: \n\nProvide reliable communications throughout the race course and support area — our primary mission\nStaff the Start/Finish line with our Mission Control Center (MCC)\nStaff all 4 Aid Stations along the course\nTrack SAG vehicles\, Rover(s)\, and EMTs using LoRa for real-time positional awareness\nCoordinate directly with the Event Team and local Emergency Services\nSupport the on-site EMTs and serve as the communications backbone for the race\nLike the Poker Run\, the terrain makes this an excellent real-world stress test for off-grid communications equipment — bring your go-kit and put it to work\n\nThis is exactly the kind of high-visibility\, high-impact event that demonstrates what amateur radio emergency communications can do for our communities. \nCamping is available on-site — this is a great opportunity to make a weekend of it with fellow operators. \nWe need reliable operators who can commit to the full event day. If you’ve supported the Poker Run\, you know the tempo. If this is your first ARESDEC event\, this is a strong one to start with. \nTo sign-up or for questions\, please contact Michael KF0PAY@aresdec.org.
URL:https://aresdec.org/event/the-hundo-2026-bailey-co-in-partnership-with-colorado-ares/
LOCATION:Hundo Event\, 2278 County Road 68\, Bailey\, CO\, 80421\, United States
CATEGORIES:Event
END:VEVENT
END:VCALENDAR