BEGIN:VCALENDAR
VERSION:2.0
PRODID:-//ARESDEC - ECPv6.15.20//NONSGML v1.0//EN
CALSCALE:GREGORIAN
METHOD:PUBLISH
X-WR-CALNAME:ARESDEC
X-ORIGINAL-URL:https://aresdec.org
X-WR-CALDESC:Events for ARESDEC
REFRESH-INTERVAL;VALUE=DURATION:PT1H
X-Robots-Tag:noindex
X-PUBLISHED-TTL:PT1H
BEGIN:VTIMEZONE
TZID:America/Denver
BEGIN:DAYLIGHT
TZOFFSETFROM:-0700
TZOFFSETTO:-0600
TZNAME:MDT
DTSTART:20260308T090000
END:DAYLIGHT
BEGIN:STANDARD
TZOFFSETFROM:-0600
TZOFFSETTO:-0700
TZNAME:MST
DTSTART:20261101T080000
END:STANDARD
BEGIN:DAYLIGHT
TZOFFSETFROM:-0700
TZOFFSETTO:-0600
TZNAME:MDT
DTSTART:20270314T090000
END:DAYLIGHT
BEGIN:STANDARD
TZOFFSETFROM:-0600
TZOFFSETTO:-0700
TZNAME:MST
DTSTART:20271107T080000
END:STANDARD
BEGIN:DAYLIGHT
TZOFFSETFROM:-0700
TZOFFSETTO:-0600
TZNAME:MDT
DTSTART:20280312T090000
END:DAYLIGHT
BEGIN:STANDARD
TZOFFSETFROM:-0600
TZOFFSETTO:-0700
TZNAME:MST
DTSTART:20281105T080000
END:STANDARD
END:VTIMEZONE
BEGIN:VEVENT
DTSTART;VALUE=DATE:20270603
DTEND;VALUE=DATE:20270607
DTSTAMP:20260423T101142
CREATED:20241111T034443Z
LAST-MODIFIED:20251211T194001Z
UID:10002751-1811980800-1812326399@aresdec.org
SUMMARY:Elizabeth Stampede
DESCRIPTION:The first annual Elizabeth Stampede Rodeo was held at the end of May 1966.  As a PRCA sanctioned rodeo since 1988\, the Elizabeth Stampede has established itself as one of the best regional rodeos with the Mountain States Circuit. \nHeld in Casey Jones Park each year in June\, the community from the surrounding areas within Elbert County and beyond come to celebrate the 4 days of events which include: \n\nNightly PRCA Rodeo\nParade along Main Street\nRodeo Barrel races\nConcerts\nGreat food\nand a whole bunch more!\n\nARESDEC is a proud partner with the Elizabeth Stampede and will provide Elbert County OEM and Stampede event staff with communications support for situational awareness\, weather monitoring and reporting\, medical incident reporting\, assisting law enforcement and fire dispatch with communications support as needed. \nWe look forward to working together with the community and event organizers. \n 
URL:https://aresdec.org/event/elizabeth-stampede-2/2027-06-03/
LOCATION:Casey Jones Park in Elizabeth\, 4189 CO-86\, Elizabeth\, CO\, 80107\, United States
CATEGORIES:Event
END:VEVENT
BEGIN:VEVENT
DTSTART;TZID=America/Denver:20270620T070000
DTEND;TZID=America/Denver:20270620T170000
DTSTAMP:20260423T101142
CREATED:20251211T190538Z
LAST-MODIFIED:20260117T180125Z
UID:10005172-1813474800-1813510800@aresdec.org
SUMMARY:Spring Poker Run
DESCRIPTION:Twice a year\, the Rampart Range Motorcycle Management Committee sponsors a non-competitive Poker Run for off-road motorcycles (no ATV’s) and riders of all ages. There is a short course (approximately 15-25 miles) and a long course (approximately 50-55 miles). Riders of all abilities are welcome. Prizes are awarded on the basis of the poker hand you draw at the final check point.  The Spring Poker Run is not a race\, it is an EVENT!   \nThis is a non-competitive event and the 5 prizes awarded for each course are based on the rider’s luck in drawing one of the five highest winning poker hands consisting of five (short course) or seven (long course) total cards at the final checkpoint.  It’s truly a wonderful experience. \nARESDEC will provide tactical communications & situational awareness for Poker Run event staff. ARESDEC members should expect to provide APRS/LoRa tracking\, checkpoint communications\, Forward Observer (FOB)\, observe Poker Run operations and monitor the Net\, report any emergencies\, medical issues\, and/or disabled bikes\, and report rider activity like first rider through\, sweeps passing through the checkpoints\, and event staff arriving and departing.  We coordinate with Douglas County Search & Rescue (DCSAR) for their services if needed on the course. \nBackground:  The Rampart Range Spring Poker Run is planned and run by the RRMMC (Rampart Range Motorcycle Management Committee). RRMMC is an all-volunteer\, nonprofit corporation founded in 1972 to work with the Forest Service to promote and preserve dirt bike trail riding opportunities in the Rampart Range area of Pike National Forest near Sedalia\, Colorado. \nEvent Website: http://rampartrange.org/poker-run/
URL:https://aresdec.org/event/spring-poker-run-3-2/2027-06-20/
LOCATION:Rampart Range\, CO\, United States
CATEGORIES:Event
GEO:39.32777;-105.09408
END:VEVENT
END:VCALENDAR