BEGIN:VCALENDAR
VERSION:2.0
PRODID:-//ARESDEC - ECPv6.15.20//NONSGML v1.0//EN
CALSCALE:GREGORIAN
METHOD:PUBLISH
X-ORIGINAL-URL:https://aresdec.org
X-WR-CALDESC:Events for ARESDEC
REFRESH-INTERVAL;VALUE=DURATION:PT1H
X-Robots-Tag:noindex
X-PUBLISHED-TTL:PT1H
BEGIN:VTIMEZONE
TZID:America/Denver
BEGIN:DAYLIGHT
TZOFFSETFROM:-0700
TZOFFSETTO:-0600
TZNAME:MDT
DTSTART:20250309T090000
END:DAYLIGHT
BEGIN:STANDARD
TZOFFSETFROM:-0600
TZOFFSETTO:-0700
TZNAME:MST
DTSTART:20251102T080000
END:STANDARD
BEGIN:DAYLIGHT
TZOFFSETFROM:-0700
TZOFFSETTO:-0600
TZNAME:MDT
DTSTART:20260308T090000
END:DAYLIGHT
BEGIN:STANDARD
TZOFFSETFROM:-0600
TZOFFSETTO:-0700
TZNAME:MST
DTSTART:20261101T080000
END:STANDARD
BEGIN:DAYLIGHT
TZOFFSETFROM:-0700
TZOFFSETTO:-0600
TZNAME:MDT
DTSTART:20270314T090000
END:DAYLIGHT
BEGIN:STANDARD
TZOFFSETFROM:-0600
TZOFFSETTO:-0700
TZNAME:MST
DTSTART:20271107T080000
END:STANDARD
END:VTIMEZONE
BEGIN:VEVENT
DTSTART;TZID=America/Denver:20261114T080000
DTEND;TZID=America/Denver:20261114T150000
DTSTAMP:20260423T065940
CREATED:20251219T201719Z
LAST-MODIFIED:20251219T201719Z
UID:10005141-1794643200-1794668400@aresdec.org
SUMMARY:NA0TC TechFest - by 285 TechConnect Radio Club
DESCRIPTION:The 285 TechConnect Radio Club presents an annual TechFest in November\, a club tradition since 2006. The TechFest has 5 hours of presentations on technical topics related to amateur radio\, plus a “demo corner” where club members show off some of their operating technology\, and a “free table” with donated items free for the taking. \nPayment methods accepted at the door:  Cash\, Check\, Zelle.
URL:https://aresdec.org/event/na0tc-techfest-by-285-techconnect-radio-club/
LOCATION:Bridge Church – Lakewood CO\, 3101 S Kipling St\, Lakewood\, CO\, 80227\, United States
CATEGORIES:Event
END:VEVENT
BEGIN:VEVENT
DTSTART;TZID=America/Denver:20261126T073000
DTEND;TZID=America/Denver:20261126T120000
DTSTAMP:20260423T065940
CREATED:20231229T044606Z
LAST-MODIFIED:20251211T195853Z
UID:10002755-1795678200-1795694400@aresdec.org
SUMMARY:Highlands Ranch Turkey Day 5K Run
DESCRIPTION:A public service/camaraderie Thanksgiving morning event where ARES R1D5 provides communications support to event staff via observers primarily using HTs on a Simplex frequency.  We provide situational awareness for the event participants and event staff to ensure a safe and fun event for all participants.  Historically\, proceeds have gone to the Douglas County Fallen Officer’s fund. \nObjective(s): \n\nSafely and effectively provide communications support and incident awareness to the Highlands Ranch Turkey Day 5K event supporting the Douglas County Fallen Officers Fund.\nEstablish and Maintain an ARESDEC ICP to serve as an effective Incident Communication Center using Amateur Radio to maintain situational awareness and aid event management with regard to problems on the course involving incidents\, accidents\, or injuries.\nCoordinate with law and other first responders as warranted.  Maintain public safety communications to DCSO elements providing traffic control for the event.\nMaintain ARESDEC personnel accountability via pre-event Check-in\, Roll Calls\, and Demobilization reporting when returning to their home QTH (or other planned destination).\n\nAfter working up an appetite\, everyone will get to enjoy their favorite Thanksgiving festivities including family\, friends and food.  Maybe sneak a nap and watch some football!
URL:https://aresdec.org/event/turkey-day-5k-2024/2026-11-26/
LOCATION:Shea Stadium\, 3270 Redstone Park Circle\, Highlands Ranch\, CO\, 80129\, United States
CATEGORIES:Event
END:VEVENT
END:VCALENDAR