BEGIN:VCALENDAR
VERSION:2.0
PRODID:-//ARESDEC - ECPv6.15.20//NONSGML v1.0//EN
CALSCALE:GREGORIAN
METHOD:PUBLISH
X-WR-CALNAME:ARESDEC
X-ORIGINAL-URL:https://aresdec.org
X-WR-CALDESC:Events for ARESDEC
REFRESH-INTERVAL;VALUE=DURATION:PT1H
X-Robots-Tag:noindex
X-PUBLISHED-TTL:PT1H
BEGIN:VTIMEZONE
TZID:America/Denver
BEGIN:DAYLIGHT
TZOFFSETFROM:-0700
TZOFFSETTO:-0600
TZNAME:MDT
DTSTART:20280312T090000
END:DAYLIGHT
BEGIN:STANDARD
TZOFFSETFROM:-0600
TZOFFSETTO:-0700
TZNAME:MST
DTSTART:20281105T080000
END:STANDARD
BEGIN:DAYLIGHT
TZOFFSETFROM:-0700
TZOFFSETTO:-0600
TZNAME:MDT
DTSTART:20290311T090000
END:DAYLIGHT
BEGIN:STANDARD
TZOFFSETFROM:-0600
TZOFFSETTO:-0700
TZNAME:MST
DTSTART:20291104T080000
END:STANDARD
BEGIN:DAYLIGHT
TZOFFSETFROM:-0700
TZOFFSETTO:-0600
TZNAME:MDT
DTSTART:20300310T090000
END:DAYLIGHT
BEGIN:STANDARD
TZOFFSETFROM:-0600
TZOFFSETTO:-0700
TZNAME:MST
DTSTART:20301103T080000
END:STANDARD
END:VTIMEZONE
BEGIN:VEVENT
DTSTART;TZID=America/Denver:20290212T183000
DTEND;TZID=America/Denver:20290212T193000
DTSTAMP:20260424T043315
CREATED:20251211T023131Z
LAST-MODIFIED:20251211T023131Z
UID:10004988-1865615400-1865619000@aresdec.org
SUMMARY:Douglas County AuxComm Spring All-Hands Meeting
DESCRIPTION:ARES R1D5 members and the Douglas County (DC) OEM staff will meet in the Spring and Fall each year for AuxComm training. The meeting is held at the DC County EOC.  Meeting time is 1830 – 2030.  The purpose of this meeting is to become better acquainted with EOC processes and procedures\, discuss any changes within the EOC since the last time we met and anything needed to be prepared to support activations in the EOC. \nW6AUN will facilitate the meeting.  Stay tuned for more details.
URL:https://aresdec.org/event/dc-auxcomm-semi-annual-all-hands-meeting-2-2/2029-02-12/
LOCATION:Douglas County EOC\, 4000 Justice Way\, Castle Rock\, CO\, 80109\, United States
CATEGORIES:AuxComm Meeting
END:VEVENT
END:VCALENDAR