BEGIN:VCALENDAR
VERSION:2.0
PRODID:-//ARESDEC - ECPv6.15.20//NONSGML v1.0//EN
CALSCALE:GREGORIAN
METHOD:PUBLISH
X-ORIGINAL-URL:https://aresdec.org
X-WR-CALDESC:Events for ARESDEC
REFRESH-INTERVAL;VALUE=DURATION:PT1H
X-Robots-Tag:noindex
X-PUBLISHED-TTL:PT1H
BEGIN:VTIMEZONE
TZID:America/Denver
BEGIN:DAYLIGHT
TZOFFSETFROM:-0700
TZOFFSETTO:-0600
TZNAME:MDT
DTSTART:20240310T090000
END:DAYLIGHT
BEGIN:STANDARD
TZOFFSETFROM:-0600
TZOFFSETTO:-0700
TZNAME:MST
DTSTART:20241103T080000
END:STANDARD
BEGIN:DAYLIGHT
TZOFFSETFROM:-0700
TZOFFSETTO:-0600
TZNAME:MDT
DTSTART:20250309T090000
END:DAYLIGHT
BEGIN:STANDARD
TZOFFSETFROM:-0600
TZOFFSETTO:-0700
TZNAME:MST
DTSTART:20251102T080000
END:STANDARD
BEGIN:DAYLIGHT
TZOFFSETFROM:-0700
TZOFFSETTO:-0600
TZNAME:MDT
DTSTART:20260308T090000
END:DAYLIGHT
BEGIN:STANDARD
TZOFFSETFROM:-0600
TZOFFSETTO:-0700
TZNAME:MST
DTSTART:20261101T080000
END:STANDARD
END:VTIMEZONE
BEGIN:VEVENT
DTSTART;TZID=America/Denver:20250915T183000
DTEND;TZID=America/Denver:20250915T203000
DTSTAMP:20260424T015643
CREATED:20241110T025122Z
LAST-MODIFIED:20250120T192846Z
UID:10004797-1757961000-1757968200@aresdec.org
SUMMARY:DC AuxComm Semi-Annual All-Hands Meeting
DESCRIPTION:We schedule two “semi-annual” meetings for DC AuxComm members to meet together for AuxComm training. Our first DC AuxComm meeting is scheduled in February at the Douglas County EOC. The second will usually be scheduled in September each year. Meeting time is 1830 – 2030. The purpose of this meeting is to become better acquainted with the EOC\, to discuss EOC process and procedures\, and to talk about the various communications equipment used by AuxComm members when deployed to the EOC. W6AUN will facilitate the meeting and discussions. DC OEM staff may attend to provide additional instruction. \nStay tuned for more details. \n 
URL:https://aresdec.org/event/dc-auxcomm-semi-annual-all-hands-meeting/
LOCATION:Douglas County EOC\, 4000 Justice Way\, Castle Rock\, CO\, 80109\, United States
CATEGORIES:AuxComm Meeting
END:VEVENT
END:VCALENDAR