BEGIN:VCALENDAR
VERSION:2.0
PRODID:-//ARESDEC - ECPv6.15.20//NONSGML v1.0//EN
CALSCALE:GREGORIAN
METHOD:PUBLISH
X-ORIGINAL-URL:https://aresdec.org
X-WR-CALDESC:Events for ARESDEC
REFRESH-INTERVAL;VALUE=DURATION:PT1H
X-Robots-Tag:noindex
X-PUBLISHED-TTL:PT1H
BEGIN:VTIMEZONE
TZID:America/Denver
BEGIN:DAYLIGHT
TZOFFSETFROM:-0700
TZOFFSETTO:-0600
TZNAME:MDT
DTSTART:20230312T090000
END:DAYLIGHT
BEGIN:STANDARD
TZOFFSETFROM:-0600
TZOFFSETTO:-0700
TZNAME:MST
DTSTART:20231105T080000
END:STANDARD
BEGIN:DAYLIGHT
TZOFFSETFROM:-0700
TZOFFSETTO:-0600
TZNAME:MDT
DTSTART:20240310T090000
END:DAYLIGHT
BEGIN:STANDARD
TZOFFSETFROM:-0600
TZOFFSETTO:-0700
TZNAME:MST
DTSTART:20241103T080000
END:STANDARD
BEGIN:DAYLIGHT
TZOFFSETFROM:-0700
TZOFFSETTO:-0600
TZNAME:MDT
DTSTART:20250309T090000
END:DAYLIGHT
BEGIN:STANDARD
TZOFFSETFROM:-0600
TZOFFSETTO:-0700
TZNAME:MST
DTSTART:20251102T080000
END:STANDARD
BEGIN:DAYLIGHT
TZOFFSETFROM:-0700
TZOFFSETTO:-0600
TZNAME:MDT
DTSTART:20260308T090000
END:DAYLIGHT
BEGIN:STANDARD
TZOFFSETFROM:-0600
TZOFFSETTO:-0700
TZNAME:MST
DTSTART:20261101T080000
END:STANDARD
END:VTIMEZONE
BEGIN:VEVENT
DTSTART;TZID=America/Denver:20250627T120000
DTEND;TZID=America/Denver:20250629T120000
DTSTAMP:20260423T054716
CREATED:20250312T010804Z
LAST-MODIFIED:20250601T023318Z
UID:10002715-1751025600-1751198400@aresdec.org
SUMMARY:ARRL Field Day 2025
DESCRIPTION:ARRL Field Day is the most popular on-the-air event held annually in the US and Canada. On the fourth weekend of June\, more than 35\,000 radio amateurs gather with their clubs\, groups or simply with friends to operate from remote locations.  The event called Field Day\, encourages hams to set up antennas and radios outdoors in the “Field” and make as many radio contacts with other hams as is possible in a 24-hour period. \nThe purpose of Field Day is to simulate a national level disaster where normal communications infrastructure is impacted over a wide area. Hams\, also known as amateur radio operators\, have a long history of providing communications during local and national emergencies and disasters. The Amateur Radio Emergency Service (ARES) of Douglas and Elbert Counties has organized a Field Day location in the Parker area at Rueter-Hess Reservoir\, 9343 Double Angel Road\, Parker. This location is off Stroh Road\, south of Hess Road\, on the southeast side of the Rueter-Hess Reservoir. Here is a Google Map Link: https://maps.app.goo.gl/bWw3m4VVxYS28w8n9.\n \nThe exact GPS coordinates are: 39.478959084187515\, -104.81674008006836 \nSetup begins at 12:00 PM on Friday\, and the beginning of actual Field Day activities/communications start at 12:00 PM on Saturday and continuing for 24 hours until 12:00 PM on Sunday.  And not a drop of AC power is used to communicate across the globe.  Amazing\, right? \nARES of Douglas and Elbert Counties will be making ham radio contacts from a NEW Field Day location. The public is invited to check out Field Day and come see what ham radio is all about. \n \n \nPeter\, W0OW (left) and Bill\, KF0CWS (right). \nEveryone is welcome to come and see what happens at Field Day!
URL:https://aresdec.org/event/field-day-2025/
LOCATION:Rueter-Hess Reservoir\, 9343 Double Angel Road\, Parker\, CO\, 80134\, United States
CATEGORIES:ARRL Field Day
GEO:39.478959084188;-104.81674008007
X-APPLE-STRUCTURED-LOCATION;VALUE=URI;X-ADDRESS=Rueter-Hess Reservoir 9343 Double Angel Road Parker CO 80134 United States;X-APPLE-RADIUS=500;X-TITLE=9343 Double Angel Road:geo:-104.81674008007,39.478959084188
END:VEVENT
BEGIN:VEVENT
DTSTART;VALUE=DATE:20240621
DTEND;VALUE=DATE:20240624
DTSTAMP:20260423T054716
CREATED:20230927T153906Z
LAST-MODIFIED:20241110T214932Z
UID:10000521-1718928000-1719187199@aresdec.org
SUMMARY:ARRL Field Day (weekend)
DESCRIPTION:ARRL Field Day is the most popular on-the-air event held annually in the US and Canada. On the fourth weekend of June\, more than 35\,000 radio amateurs gather with their clubs\, groups or simply with friends to operate from remote locations.  The event called Field Day\, encourages hams to set up antennas and radios outdoors in the “Field” and make as many radio contacts with other hams as is possible in a 24-hour period. \nThe purpose of Field Day is to simulate a national level disaster where normal communications infrastructure is impacted over a wide area. Hams\, also known as amateur radio operators\, have a long history of providing communications during local and national emergencies and disasters. The Amateur Radio Emergency Service (ARES) of Douglas and Elbert Counties has organized a Field Day location in the Parker area. \nSetup begins at 12:00 PM on Friday\, and the beginning of actual Field Day activities/communications start at 12:00 PM on Saturday and continuing for 24 hours until 12:00 PM on Sunday. \nARES of Douglas and Elbert Counties will be making ham radio contacts from a Field Day location TBD. The public is invited to check out Field Day and come see what ham radio is about. \nPeter\, W0OW (left) and Bill\, KF0CWS (right).
URL:https://aresdec.org/event/field-day-2024/
CATEGORIES:ARRL Field Day
END:VEVENT
END:VCALENDAR