BEGIN:VCALENDAR
VERSION:2.0
PRODID:-//ARESDEC - ECPv6.15.20//NONSGML v1.0//EN
CALSCALE:GREGORIAN
METHOD:PUBLISH
X-WR-CALNAME:ARESDEC
X-ORIGINAL-URL:https://aresdec.org
X-WR-CALDESC:Events for ARESDEC
REFRESH-INTERVAL;VALUE=DURATION:PT1H
X-Robots-Tag:noindex
X-PUBLISHED-TTL:PT1H
BEGIN:VTIMEZONE
TZID:America/Denver
BEGIN:DAYLIGHT
TZOFFSETFROM:-0700
TZOFFSETTO:-0600
TZNAME:MDT
DTSTART:20250309T090000
END:DAYLIGHT
BEGIN:STANDARD
TZOFFSETFROM:-0600
TZOFFSETTO:-0700
TZNAME:MST
DTSTART:20251102T080000
END:STANDARD
BEGIN:DAYLIGHT
TZOFFSETFROM:-0700
TZOFFSETTO:-0600
TZNAME:MDT
DTSTART:20260308T090000
END:DAYLIGHT
BEGIN:STANDARD
TZOFFSETFROM:-0600
TZOFFSETTO:-0700
TZNAME:MST
DTSTART:20261101T080000
END:STANDARD
BEGIN:DAYLIGHT
TZOFFSETFROM:-0700
TZOFFSETTO:-0600
TZNAME:MDT
DTSTART:20270314T090000
END:DAYLIGHT
BEGIN:STANDARD
TZOFFSETFROM:-0600
TZOFFSETTO:-0700
TZNAME:MST
DTSTART:20271107T080000
END:STANDARD
END:VTIMEZONE
BEGIN:VEVENT
DTSTART;VALUE=DATE:20261224
DTEND;VALUE=DATE:20261225
DTSTAMP:20260423T052503
CREATED:20251222T205808Z
LAST-MODIFIED:20251222T205808Z
UID:10005143-1798070400-1798156799@aresdec.org
SUMMARY:Christmas Eve
DESCRIPTION:
URL:https://aresdec.org/event/christmas-eve/2026-12-24/
CATEGORIES:US Days of Celebration
END:VEVENT
BEGIN:VEVENT
DTSTART;TZID=America/Denver:20261224T190000
DTEND;TZID=America/Denver:20261224T210000
DTSTAMP:20260423T052503
CREATED:20241109T215125Z
LAST-MODIFIED:20251211T031203Z
UID:10005003-1798138800-1798146000@aresdec.org
SUMMARY:Face-to-Face Meeting Cancelled Due to Christmas Day
DESCRIPTION:December Face-to-Face meeting cancelled due to Christmas Day.  Will Santa bring you a new radio or antenna?
URL:https://aresdec.org/event/face-to-face-2-15/2026-12-24/
CATEGORIES:Face-to-Face Meeting Cancelled
END:VEVENT
BEGIN:VEVENT
DTSTART;TZID=America/Denver:20261224T200000
DTEND;TZID=America/Denver:20261224T203000
DTSTAMP:20260423T052503
CREATED:20241110T012208Z
LAST-MODIFIED:20241110T012208Z
UID:10002653-1798142400-1798144200@aresdec.org
SUMMARY:ARESDEC Weekly Net Cancelled
DESCRIPTION:There is no Weekly Net on the 4th Thursday of each month if ARESDEC is sponsoring a monthly Face-to-Face meeting or if a holiday falls on the 4th Thursday.
URL:https://aresdec.org/event/aresdec-weekly-net-cancelled/2026-12-24/
CATEGORIES:Weekly NET Cancelled
END:VEVENT
END:VCALENDAR