BEGIN:VCALENDAR
VERSION:2.0
PRODID:-//ARESDEC - ECPv6.15.20//NONSGML v1.0//EN
CALSCALE:GREGORIAN
METHOD:PUBLISH
X-ORIGINAL-URL:https://aresdec.org
X-WR-CALDESC:Events for ARESDEC
REFRESH-INTERVAL;VALUE=DURATION:PT1H
X-Robots-Tag:noindex
X-PUBLISHED-TTL:PT1H
BEGIN:VTIMEZONE
TZID:America/Denver
BEGIN:DAYLIGHT
TZOFFSETFROM:-0700
TZOFFSETTO:-0600
TZNAME:MDT
DTSTART:20250309T090000
END:DAYLIGHT
BEGIN:STANDARD
TZOFFSETFROM:-0600
TZOFFSETTO:-0700
TZNAME:MST
DTSTART:20251102T080000
END:STANDARD
BEGIN:DAYLIGHT
TZOFFSETFROM:-0700
TZOFFSETTO:-0600
TZNAME:MDT
DTSTART:20260308T090000
END:DAYLIGHT
BEGIN:STANDARD
TZOFFSETFROM:-0600
TZOFFSETTO:-0700
TZNAME:MST
DTSTART:20261101T080000
END:STANDARD
BEGIN:DAYLIGHT
TZOFFSETFROM:-0700
TZOFFSETTO:-0600
TZNAME:MDT
DTSTART:20270314T090000
END:DAYLIGHT
BEGIN:STANDARD
TZOFFSETFROM:-0600
TZOFFSETTO:-0700
TZNAME:MST
DTSTART:20271107T080000
END:STANDARD
END:VTIMEZONE
BEGIN:VEVENT
DTSTART;VALUE=DATE:20261126
DTEND;VALUE=DATE:20261127
DTSTAMP:20260423T040447
CREATED:20251216T014839Z
LAST-MODIFIED:20251216T014839Z
UID:10005083-1795651200-1795737599@aresdec.org
SUMMARY:Thanksgiving Day
DESCRIPTION:
URL:https://aresdec.org/event/thanksgiving-day/2026-11-26/
CATEGORIES:US Federal Holidays
END:VEVENT
BEGIN:VEVENT
DTSTART;TZID=America/Denver:20261126T073000
DTEND;TZID=America/Denver:20261126T120000
DTSTAMP:20260423T040447
CREATED:20231229T044606Z
LAST-MODIFIED:20251211T195853Z
UID:10002755-1795678200-1795694400@aresdec.org
SUMMARY:Highlands Ranch Turkey Day 5K Run
DESCRIPTION:A public service/camaraderie Thanksgiving morning event where ARES R1D5 provides communications support to event staff via observers primarily using HTs on a Simplex frequency.  We provide situational awareness for the event participants and event staff to ensure a safe and fun event for all participants.  Historically\, proceeds have gone to the Douglas County Fallen Officer’s fund. \nObjective(s): \n\nSafely and effectively provide communications support and incident awareness to the Highlands Ranch Turkey Day 5K event supporting the Douglas County Fallen Officers Fund.\nEstablish and Maintain an ARESDEC ICP to serve as an effective Incident Communication Center using Amateur Radio to maintain situational awareness and aid event management with regard to problems on the course involving incidents\, accidents\, or injuries.\nCoordinate with law and other first responders as warranted.  Maintain public safety communications to DCSO elements providing traffic control for the event.\nMaintain ARESDEC personnel accountability via pre-event Check-in\, Roll Calls\, and Demobilization reporting when returning to their home QTH (or other planned destination).\n\nAfter working up an appetite\, everyone will get to enjoy their favorite Thanksgiving festivities including family\, friends and food.  Maybe sneak a nap and watch some football!
URL:https://aresdec.org/event/turkey-day-5k-2024/2026-11-26/
LOCATION:Shea Stadium\, 3270 Redstone Park Circle\, Highlands Ranch\, CO\, 80129\, United States
CATEGORIES:Event
END:VEVENT
BEGIN:VEVENT
DTSTART;TZID=America/Denver:20261126T190000
DTEND;TZID=America/Denver:20261126T210000
DTSTAMP:20260423T040447
CREATED:20241109T214926Z
LAST-MODIFIED:20251211T030859Z
UID:10004998-1795719600-1795726800@aresdec.org
SUMMARY:Face-to-Face Cancelled due to Thanksgiving Holiday
DESCRIPTION:Face-to-Face cancelled due to the Thanksgiving holiday.
URL:https://aresdec.org/event/face-to-face-2-14/2026-11-26/
CATEGORIES:Face-to-Face Meeting Cancelled
END:VEVENT
BEGIN:VEVENT
DTSTART;TZID=America/Denver:20261126T200000
DTEND;TZID=America/Denver:20261126T203000
DTSTAMP:20260423T040447
CREATED:20241110T012208Z
LAST-MODIFIED:20241110T012208Z
UID:10002652-1795723200-1795725000@aresdec.org
SUMMARY:ARESDEC Weekly Net Cancelled
DESCRIPTION:There is no Weekly Net on the 4th Thursday of each month if ARESDEC is sponsoring a monthly Face-to-Face meeting or if a holiday falls on the 4th Thursday.
URL:https://aresdec.org/event/aresdec-weekly-net-cancelled/2026-11-26/
CATEGORIES:Weekly NET Cancelled
END:VEVENT
END:VCALENDAR