BEGIN:VCALENDAR
VERSION:2.0
PRODID:-//ARESDEC - ECPv6.15.20//NONSGML v1.0//EN
CALSCALE:GREGORIAN
METHOD:PUBLISH
X-ORIGINAL-URL:https://aresdec.org
X-WR-CALDESC:Events for ARESDEC
REFRESH-INTERVAL;VALUE=DURATION:PT1H
X-Robots-Tag:noindex
X-PUBLISHED-TTL:PT1H
BEGIN:VTIMEZONE
TZID:America/Denver
BEGIN:DAYLIGHT
TZOFFSETFROM:-0700
TZOFFSETTO:-0600
TZNAME:MDT
DTSTART:20250309T090000
END:DAYLIGHT
BEGIN:STANDARD
TZOFFSETFROM:-0600
TZOFFSETTO:-0700
TZNAME:MST
DTSTART:20251102T080000
END:STANDARD
BEGIN:DAYLIGHT
TZOFFSETFROM:-0700
TZOFFSETTO:-0600
TZNAME:MDT
DTSTART:20260308T090000
END:DAYLIGHT
BEGIN:STANDARD
TZOFFSETFROM:-0600
TZOFFSETTO:-0700
TZNAME:MST
DTSTART:20261101T080000
END:STANDARD
BEGIN:DAYLIGHT
TZOFFSETFROM:-0700
TZOFFSETTO:-0600
TZNAME:MDT
DTSTART:20270314T090000
END:DAYLIGHT
BEGIN:STANDARD
TZOFFSETFROM:-0600
TZOFFSETTO:-0700
TZNAME:MST
DTSTART:20271107T080000
END:STANDARD
END:VTIMEZONE
BEGIN:VEVENT
DTSTART;TZID=America/Denver:20261107T090000
DTEND;TZID=America/Denver:20261107T130000
DTSTAMP:20260423T040435
CREATED:20250729T150504Z
LAST-MODIFIED:20251214T023028Z
UID:10005037-1794042000-1794056400@aresdec.org
SUMMARY:ARESDEC New Member Training - Fall Class
DESCRIPTION:Welcome all new ARES members wanting to be part of our Team! \nWith a heart to serve others\, you are joining a team of professionals who love the hobby of amateur radio and have a desire to serve others.  ARESDEC is a very well respected organization within Douglas and Elbert Counties. It is a privilege and honor to serve with a great group of individuals.  We are glad you are here! \nBy attending New Member Training\, you will gain valuable training and information\, including: \n\nLearn what ARES of Douglas & Elbert Counties (ARESDEC) is and does\nLearn which agencies we serve and how we serve them\nIdentify the events we support during the year\nDeployment standards\, best practices and preparations needed\nLearn about our Winter Operations and preparations needed to serve in a Shelter.\nLearn about the frequency list\, training available throughout the year\, and what is expected of our members.\n\nThe day will finish with a hands-on radio exercise (time permitting).  Bring your hand held (HT) radio programmed to the correct frequencies\, and if you don’t have your radio yet\, no problem\, we’ll provide one for use during the exercise.  Need a refresher? All members of ARES R1D5 are invited to participate in the training course as well. \nCome\, join us.  We will meet in Room 144 in the lower level of the building. \nIf any questions\, please reach out to Training@aresdec.org.
URL:https://aresdec.org/event/aresdec-new-member-training-2/2026-11-07/
LOCATION:PUMC – Parker United Methodist Church\, 11805 S Pine Drive\, Parker\, CO\, 80134\, United States
CATEGORIES:Training
END:VEVENT
END:VCALENDAR