BEGIN:VCALENDAR
VERSION:2.0
PRODID:-//ARESDEC - ECPv6.15.20//NONSGML v1.0//EN
CALSCALE:GREGORIAN
METHOD:PUBLISH
X-ORIGINAL-URL:https://aresdec.org
X-WR-CALDESC:Events for ARESDEC
REFRESH-INTERVAL;VALUE=DURATION:PT1H
X-Robots-Tag:noindex
X-PUBLISHED-TTL:PT1H
BEGIN:VTIMEZONE
TZID:America/Denver
BEGIN:DAYLIGHT
TZOFFSETFROM:-0700
TZOFFSETTO:-0600
TZNAME:MDT
DTSTART:20250309T090000
END:DAYLIGHT
BEGIN:STANDARD
TZOFFSETFROM:-0600
TZOFFSETTO:-0700
TZNAME:MST
DTSTART:20251102T080000
END:STANDARD
BEGIN:DAYLIGHT
TZOFFSETFROM:-0700
TZOFFSETTO:-0600
TZNAME:MDT
DTSTART:20260308T090000
END:DAYLIGHT
BEGIN:STANDARD
TZOFFSETFROM:-0600
TZOFFSETTO:-0700
TZNAME:MST
DTSTART:20261101T080000
END:STANDARD
BEGIN:DAYLIGHT
TZOFFSETFROM:-0700
TZOFFSETTO:-0600
TZNAME:MDT
DTSTART:20270314T090000
END:DAYLIGHT
BEGIN:STANDARD
TZOFFSETFROM:-0600
TZOFFSETTO:-0700
TZNAME:MST
DTSTART:20271107T080000
END:STANDARD
END:VTIMEZONE
BEGIN:VEVENT
DTSTART;TZID=America/Denver:20261022T190000
DTEND;TZID=America/Denver:20261022T210000
DTSTAMP:20260423T030232
CREATED:20241111T013835Z
LAST-MODIFIED:20251214T025816Z
UID:10000471-1792695600-1792702800@aresdec.org
SUMMARY:Face-to-Face: Winter Operations
DESCRIPTION:Our October Face-to-Face meeting focuses on the important components of Winter Operations and preparing for potential activations during the winter months to support Douglas County OEM and/or Elbert County OEM shelter activations. \nThe presentation will be led by our OPERATIONS team who will present content about Winter Missions/Activation\, Readiness (including vehicle prep)\, Winter Travel Advisories\, Cold Weather Hazards (Frostbite/Hypothermia)\, Shelter Operations (including Red Cross and Communications Sukpport)…and finally Demobilization. \nThere will be some hands-on demonstrations of items that should be carried by our team members in their winter go-kits.  Come and get prepared! \nPlease contact Training@aresdec.org if you have any questions.
URL:https://aresdec.org/event/face-to-face-2-30/2026-10-22/
LOCATION:HRSS – Highlands Ranch DCSO Substation\, 9250 Zotos Drive\, Highlands Ranch\, CO\, 80129\, United States
CATEGORIES:Face-to-Face Meetings
GEO:39.54832;-104.997153
X-APPLE-STRUCTURED-LOCATION;VALUE=URI;X-ADDRESS=HRSS – Highlands Ranch DCSO Substation 9250 Zotos Drive Highlands Ranch CO 80129 United States;X-APPLE-RADIUS=500;X-TITLE=9250 Zotos Drive:geo:-104.997153,39.54832
END:VEVENT
BEGIN:VEVENT
DTSTART;TZID=America/Denver:20261022T200000
DTEND;TZID=America/Denver:20261022T203000
DTSTAMP:20260423T030232
CREATED:20241110T012208Z
LAST-MODIFIED:20241110T012208Z
UID:10002651-1792699200-1792701000@aresdec.org
SUMMARY:ARESDEC Weekly Net Cancelled
DESCRIPTION:There is no Weekly Net on the 4th Thursday of each month if ARESDEC is sponsoring a monthly Face-to-Face meeting or if a holiday falls on the 4th Thursday.
URL:https://aresdec.org/event/aresdec-weekly-net-cancelled/2026-10-22/
CATEGORIES:Weekly NET Cancelled
END:VEVENT
END:VCALENDAR