BEGIN:VCALENDAR
VERSION:2.0
PRODID:-//ARESDEC - ECPv6.15.20//NONSGML v1.0//EN
CALSCALE:GREGORIAN
METHOD:PUBLISH
X-ORIGINAL-URL:https://aresdec.org
X-WR-CALDESC:Events for ARESDEC
REFRESH-INTERVAL;VALUE=DURATION:PT1H
X-Robots-Tag:noindex
X-PUBLISHED-TTL:PT1H
BEGIN:VTIMEZONE
TZID:America/Denver
BEGIN:DAYLIGHT
TZOFFSETFROM:-0700
TZOFFSETTO:-0600
TZNAME:MDT
DTSTART:20250309T090000
END:DAYLIGHT
BEGIN:STANDARD
TZOFFSETFROM:-0600
TZOFFSETTO:-0700
TZNAME:MST
DTSTART:20251102T080000
END:STANDARD
BEGIN:DAYLIGHT
TZOFFSETFROM:-0700
TZOFFSETTO:-0600
TZNAME:MDT
DTSTART:20260308T090000
END:DAYLIGHT
BEGIN:STANDARD
TZOFFSETFROM:-0600
TZOFFSETTO:-0700
TZNAME:MST
DTSTART:20261101T080000
END:STANDARD
BEGIN:DAYLIGHT
TZOFFSETFROM:-0700
TZOFFSETTO:-0600
TZNAME:MDT
DTSTART:20270314T090000
END:DAYLIGHT
BEGIN:STANDARD
TZOFFSETFROM:-0600
TZOFFSETTO:-0700
TZNAME:MST
DTSTART:20271107T080000
END:STANDARD
END:VTIMEZONE
BEGIN:VEVENT
DTSTART;TZID=America/Denver:20260511T190000
DTEND;TZID=America/Denver:20260511T193000
DTSTAMP:20260422T205538
CREATED:20250119T031217Z
LAST-MODIFIED:20250212T015927Z
UID:10004814-1778526000-1778527800@aresdec.org
SUMMARY:ARRL Colorado Section Monthly Net
DESCRIPTION:Monthly ARRL Section Net\nEveryone is invited to check in and join the discussion! \nThis net is dedicated to all things related to amateur radio in Colorado\, including updates from the ARRL. It’s the perfect place to announce ham fests\, club activities\, request assistance from fellow hams\, and share anything of interest to the Colorado ham community. This net takes place every second Monday of the month at 7:00 PM. \nWe extend our heartfelt thanks to the repeater owners and clubs that host the Section Net. Please feel free to visit the websites of all the clubs that carry the Colorado Section Net. Additionally\, we appreciate the Colorado Traffic League for allowing us to use their usual time slot on the Colorado Connection to host this net at 7 PM. \nThe net is carried on the following repeater systems: \n\nWE0FUN Fun Machines Repeaters\nColorado Connection VHF Repeater System\nRocky Mountain Ham Radio Wide Talk Group 700\nNorthern Colorado ARC Buckhorn Repeaters\nMountain Amateur Radio Club Repeaters\nWestern Colorado Amateur Radio Club\n\nComputer and digital modes: \n\nAllstar – Node 28368\nEcholink – *CANONCTY* 363976\nDStar – XRF815B\, XLX815B\, DCS815B or REF815B\nTGIF – DMR 815\nYSF – US CO WE0FUN 53927\nP25 – Talkgroup 10209\nNXDN – Talkgroup 31081\nM17 – 815B\n\nThe above information is found on the website link at https://colorado-arrl.us/arrl-section-net/
URL:https://aresdec.org/event/5940/2026-05-11/
CATEGORIES:Training
END:VEVENT
END:VCALENDAR