BEGIN:VCALENDAR
VERSION:2.0
PRODID:-//ARESDEC - ECPv6.15.20//NONSGML v1.0//EN
CALSCALE:GREGORIAN
METHOD:PUBLISH
X-WR-CALNAME:ARESDEC
X-ORIGINAL-URL:https://aresdec.org
X-WR-CALDESC:Events for ARESDEC
REFRESH-INTERVAL;VALUE=DURATION:PT1H
X-Robots-Tag:noindex
X-PUBLISHED-TTL:PT1H
BEGIN:VTIMEZONE
TZID:America/Denver
BEGIN:DAYLIGHT
TZOFFSETFROM:-0700
TZOFFSETTO:-0600
TZNAME:MDT
DTSTART:20250309T090000
END:DAYLIGHT
BEGIN:STANDARD
TZOFFSETFROM:-0600
TZOFFSETTO:-0700
TZNAME:MST
DTSTART:20251102T080000
END:STANDARD
BEGIN:DAYLIGHT
TZOFFSETFROM:-0700
TZOFFSETTO:-0600
TZNAME:MDT
DTSTART:20260308T090000
END:DAYLIGHT
BEGIN:STANDARD
TZOFFSETFROM:-0600
TZOFFSETTO:-0700
TZNAME:MST
DTSTART:20261101T080000
END:STANDARD
BEGIN:DAYLIGHT
TZOFFSETFROM:-0700
TZOFFSETTO:-0600
TZNAME:MDT
DTSTART:20270314T090000
END:DAYLIGHT
BEGIN:STANDARD
TZOFFSETFROM:-0600
TZOFFSETTO:-0700
TZNAME:MST
DTSTART:20271107T080000
END:STANDARD
END:VTIMEZONE
BEGIN:VEVENT
DTSTART;TZID=America/Denver:20260326T190000
DTEND;TZID=America/Denver:20260326T210000
DTSTAMP:20260422T205333
CREATED:20251215T030147Z
LAST-MODIFIED:20260315T200159Z
UID:10005062-1774551600-1774558800@aresdec.org
SUMMARY:Face-to-Face: Planning Your Next POTA Activation
DESCRIPTION:Planning Your Next POTA Activation\nParks on the Air\, or POTA\, has quickly become one of the most popular amateur radio activities. What’s required to do POTA? Are their rules to this activity? What equipment do you need to do POTA? What do POTA and ARES have in common? During our March Face-to-Face meeting we will answer all these questions and more. Additionally\, you’ll learn tricks and tips from POTA experienced people from our own ARES district. \nThis same presentation won many accolades during last’s year’s HAMCON convention. \nWe’ll see you at our Face-to-Face meeting!   For more information\, please contact Training@aresdec.org. \nPictures below include Perry W6AUN and Brad W0BDT working a POTA activation at US-1212-Chatfield Stake Park in Colorado. \nEquipment shown include an IC-705 and a BuddiStick antenna.
URL:https://aresdec.org/event/face-to-face-planning-your-next-pota-activation/
LOCATION:NB – New Beginning Community Church\, 10550 S Progress Way #100\, Parker\, CO\, 80134\, United States
CATEGORIES:Face-to-Face Meetings
END:VEVENT
BEGIN:VEVENT
DTSTART;TZID=America/Denver:20260326T200000
DTEND;TZID=America/Denver:20260326T203000
DTSTAMP:20260422T205333
CREATED:20241110T012208Z
LAST-MODIFIED:20241110T012208Z
UID:10002644-1774555200-1774557000@aresdec.org
SUMMARY:ARESDEC Weekly Net Cancelled
DESCRIPTION:There is no Weekly Net on the 4th Thursday of each month if ARESDEC is sponsoring a monthly Face-to-Face meeting or if a holiday falls on the 4th Thursday.
URL:https://aresdec.org/event/aresdec-weekly-net-cancelled/2026-03-26/
CATEGORIES:Weekly NET Cancelled
END:VEVENT
END:VCALENDAR